{"text_format":"1","workbook":"xlsx","n_sheets":4,"sheets":["LiFFT_v1.4.0","moment_cd_relationship","LiFFT_v1.4.0_Database","Instructions"],"not_rendered":{"charts":0,"images":14,"macros":1,"external_links":1,"defined_names":6,"comments":0,"pivot_tables":0},"unopened":[],"bounds":{"document_bytes":16777216,"sheet_cells":100000,"rows_first":2000,"rows_last":500,"rows_between":2000,"halvings":0,"cell_chars":16384,"cell_head_chars":4096},"cells_cut":0,"cells_raw":0,"read":"whole","date_system":"1900"}

{"sheet":"LiFFT_v1.4.0","index":0,"n_rows":701,"n_cols":29,"rows_kept":701,"cut":false,"hidden":false,"merged":[[46,0,46,14],[47,0,47,14],[33,7,33,11],[34,7,34,11],[1,1,1,13],[38,1,38,13],[39,1,39,13]]}
["LiFFT 1.4.0",10,null,null,null,null,null,null,null,null,null,null,null,null,"Instructions",null,null,null,null,null,null,null,null,null,null,null,null,"Unit:English",1]
[null,"The Lifting Fatigue Failure Tool (LiFFT)",null,null,null,null,null,null,null,null,null,null,null,null,null,null,null,null,null,null,null,null,null,null,null,null,null,"Unit:Metric"]
[null,"Task #",null,"Lever Arm\n(inch)",null,"Load\n(lbs)",null,"Moment\n(ft.lbs.)",null,"Repetitions\n (per work day)",null,"Damage\n(cumulative)",null,"% Total (damage)",{"$f":"IF(AC1=1,\"Unit:English\",\"Unit:Metric\")","v":"Unit:English"}]
[]
[null,1,null,15,null,12,null,{"$f":"IF(OR(D5=\"\",F5=\"\"),\"\",D5 * F5/12)","v":15},null,1500,null,{"$f":"IF(OR(D5=\"\",F5=\"\",J5=\"\"),\"\",10^(-5.81636221052493+0.0222878437409416*(H5))*(J5))","v":4.9436384871806485E-3},null,{"$f":"IF(OR(D5=\"\",F5=\"\",J5=\"\"),\"\",(L5)/($N$34)*100)","v":100}]
[]
[]
[null,2,null,null,null,null,null,{"$f":"IF(OR(D8=\"\",F8=\"\"),\"\",D8 * F8/12)","v":""},null,null,null,{"$f":"IF(OR(D8=\"\",F8=\"\",J8=\"\"),\"\",10^(-5.81636221052493+0.0222878437409416*(H8))*(J8))","v":""},null,{"$f":"IF(OR(D8=\"\",F8=\"\",J8=\"\"),\"\",(L8)/($N$34)*100)","v":""}]
[]
[]
[null,3,null,null,null,null,null,{"$f":"IF(OR(D11=\"\",F11=\"\"),\"\",D11 * F11/12)","v":""},null,null,null,{"$f":"IF(OR(D11=\"\",F11=\"\",J11=\"\"),\"\",10^(-5.81636221052493+0.0222878437409416*(H11))*(J11))","v":""},null,{"$f":"IF(OR(D11=\"\",F11=\"\",J11=\"\"),\"\",(L11)/($N$34)*100)","v":""}]
[]
[]
[null,4,null,null,null,null,null,{"$f":"IF(OR(D14=\"\",F14=\"\"),\"\",D14 * F14/12)","v":""},null,null,null,{"$f":"IF(OR(D14=\"\",F14=\"\",J14=\"\"),\"\",10^(-5.81636221052493+0.0222878437409416*(H14))*(J14))","v":""},null,{"$f":"IF(OR(D14=\"\",F14=\"\",J14=\"\"),\"\",(L14)/($N$34)*100)","v":""}]
[]
[]
[null,5,null,null,null,null,null,{"$f":"IF(OR(D17=\"\",F17=\"\"),\"\",D17 * F17/12)","v":""},null,null,null,{"$f":"IF(OR(D17=\"\",F17=\"\",J17=\"\"),\"\",10^(-5.81636221052493+0.0222878437409416*(H17))*(J17))","v":""},null,{"$f":"IF(OR(D17=\"\",F17=\"\",J17=\"\"),\"\",(L17)/($N$34)*100)","v":""}]
[]
[]
[null,6,null,null,null,null,null,{"$f":"IF(OR(D20=\"\",F20=\"\"),\"\",D20 * F20/12)","v":""},null,null,null,{"$f":"IF(OR(D20=\"\",F20=\"\",J20=\"\"),\"\",10^(-5.81636221052493+0.0222878437409416*(H20))*(J20))","v":""},null,{"$f":"IF(OR(D20=\"\",F20=\"\",J20=\"\"),\"\",(L20)/($N$34)*100)","v":""}]
[]
[]
[null,7,null,null,null,null,null,{"$f":"IF(OR(D23=\"\",F23=\"\"),\"\",D23 * F23/12)","v":""},null,null,null,{"$f":"IF(OR(D23=\"\",F23=\"\",J23=\"\"),\"\",10^(-5.81636221052493+0.0222878437409416*(H23))*(J23))","v":""},null,{"$f":"IF(OR(D23=\"\",F23=\"\",J23=\"\"),\"\",(L23)/($N$34)*100)","v":""}]
[]
[]
[null,8,null,null,null,null,null,{"$f":"IF(OR(D26=\"\",F26=\"\"),\"\",D26 * F26/12)","v":""},null,null,null,{"$f":"IF(OR(D26=\"\",F26=\"\",J26=\"\"),\"\",10^(-5.81636221052493+0.0222878437409416*(H26))*(J26))","v":""},null,{"$f":"IF(OR(D26=\"\",F26=\"\",J26=\"\"),\"\",(L26)/($N$34)*100)","v":""}]
[]
[]
[null,9,null,null,null,null,null,{"$f":"IF(OR(D29=\"\",F29=\"\"),\"\",D29 * F29/12)","v":""},null,null,null,{"$f":"IF(OR(D29=\"\",F29=\"\",J29=\"\"),\"\",10^(-5.81636221052493+0.0222878437409416*(H29))*(J29))","v":""},null,{"$f":"IF(OR(D29=\"\",F29=\"\",J29=\"\"),\"\",(L29)/($N$34)*100)","v":""}]
[]
[]
[null,10,null,null,null,null,null,{"$f":"IF(OR(D32=\"\",F32=\"\"),\"\",D32 * F32/12)","v":""},null,null,null,{"$f":"IF(OR(D32=\"\",F32=\"\",J32=\"\"),\"\",10^(-5.81636221052493+0.0222878437409416*(H32))*(J32))","v":""},null,{"$f":"IF(OR(D32=\"\",F32=\"\",J32=\"\"),\"\",(L32)/($N$34)*100)","v":""}]
[]
[null,null,null,null,null,null,null,"Total Cumulative Damage:",null,null,null,null,null,{"$f":"SUM(L5:L33)","v":4.9436384871806485E-3}]
[null,null,null,null,null,null,null,"Probability of High Risk Job * (%):",null,null,null,null,null,{"$f":" IF($N$34=0,0,ROUND(EXP(1.7229+1.0239*LOG($N$34, 10))/(1+EXP(1.7229+1.0239*LOG($N$34, 10))), 3))","v":0.34599999999999997}]
[]
[null,null,null,null,null,null,null,null,null,null,null,null,null,{"$f":"IF(AND(DD),\"\",SUM(L5:L35))","v":{"$error":"#NAME?"}}]
[]
[null,"Lastest Version: http://lifft.pythonanywhere.com/"]
[null,"Excel Version Developers: ________________________"]
[null,null,null," 2016 - 2019 © Sean Gallagher, Richard Sesek, Mark Schall, Rong Huangfu"]
[]
[]
[]
[]
[]
["* A “High Risk Job” is defined as a job experiencing 12+ injuries per 200,000 hours worked, as defined by Marras et al. (1993)."]
["Marras, W.S., Lavender, S.A., Leurgans, S.E., Rajulu, S.L., Allread, W.G., Fathallah, F.A., Ferguson, S.A. (1993). The role of dynamic three-dimensional trunk motion in occupationally-related low back disorders: The effects of workplace factors, trunk position, and trunk motion characteristics on risk of injury. Spine 18(5): 617-628."]
[]
[]
[]
[]
[]
[]
[]
[]
[]
[]
[]
[]
[]
[]
[]
[]
[]
[]
[]
[]
[]
[]
[]
[]
[]
[]
[]
[]
[]
[]
[]
[]
[]
[]
[]
[]
[]
[]
[]
[]
[]
[]
[]
[]
[]
[]
[]
[]
[]
[]
[]
[]
[]
[]
[]
[]
[]
[]
[]
[]
[]
[]
[]
[]
[]
[]
[]
[]
[]
[]
[]
[]
[]
[]
[]
[]
[]
[]
[]
[]
[]
[]
[]
[]
[]
[]
[]
[]
[]
[]
[]
[]
[]
[]
[]
[]
[]
[]
[]
[]
[]
[]
[]
[]
[]
[]
[]
[]
[]
[]
[]
[]
[]
[]
[]
[]
[]
[]
[]
[]
[]
[]
[]
[]
[]
[]
[]
[]
[]
[]
[]
[]
[]
[]
[]
[]
[]
[]
[]
[]
[]
[]
[]
[]
[]
[]
[]
[]
[]
[]
[]
[]
[]
[]
[]
[]
[]
[]
[]
[]
[]
[]
[]
[]
[]
[]
[]
[]
[]
[]
[]
[]
[]
[]
[]
[]
[]
[]
[]
[]
[]
[]
[]
[]
[]
[]
[]
[]
[]
[]
[]
[]
[]
[]
[]
[]
[]
[]
[]
[]
[]
[]
[]
[]
[]
[]
[]
[]
[]
[]
[]
[]
[]
[]
[]
[]
[]
[]
[]
[]
[]
[]
[]
[]
[]
[]
[]
[]
[]
[]
[]
[]
[]
[]
[]
[]
[]
[]
[]
[]
[]
[]
[]
[]
[]
[]
[]
[]
[]
[]
[]
[]
[]
[]
[]
[]
[]
[]
[]
[]
[]
[]
[]
[]
[]
[]
[]
[]
[]
[]
[]
[]
[]
[]
[]
[]
[]
[]
[]
[]
[]
[]
[]
[]
[]
[]
[]
[]
[]
[]
[]
[]
[]
[]
[]
[]
[]
[]
[]
[]
[]
[]
[]
[]
[]
[]
[]
[]
[]
[]
[]
[]
[]
[]
[]
[]
[]
[]
[]
[]
[]
[]
[]
[]
[]
[]
[]
[]
[]
[]
[]
[]
[]
[]
[]
[]
[]
[]
[]
[]
[]
[]
[]
[]
[]
[]
[]
[]
[]
[]
[]
[]
[]
[]
[]
[]
[]
[]
[]
[]
[]
[]
[]
[]
[]
[]
[]
[]
[]
[]
[]
[]
[]
[]
[]
[]
[]
[]
[]
[]
[]
[]
[]
[]
[]
[]
[]
[]
[]
[]
[]
[]
[]
[]
[]
[]
[]
[]
[]
[]
[]
[]
[]
[]
[]
[]
[]
[]
[]
[]
[]
[]
[]
[]
[]
[]
[]
[]
[]
[]
[]
[]
[]
[]
[]
[]
[]
[]
[]
[]
[]
[]
[]
[]
[]
[]
[]
[]
[]
[]
[]
[]
[]
[]
[]
[]
[]
[]
[]
[]
[]
[]
[]
[]
[]
[]
[]
[]
[]
[]
[]
[]
[]
[]
[]
[]
[]
[]
[]
[]
[]
[]
[]
[]
[]
[]
[]
[]
[]
[]
[]
[]
[]
[]
[]
[]
[]
[]
[]
[]
[]
[]
[]
[]
[]
[]
[]
[]
[]
[]
[]
[]
[]
[]
[]
[]
[]
[]
[]
[]
[]
[]
[]
[]
[]
[]
[]
[]
[]
[]
[]
[]
[]
[]
[]
[]
[]
[]
[]
[]
[]
[]
[]
[]
[]
[]
[]
[]
[]
[]
[]
[]
[]
[]
[]
[]
[]
[]
[]
[]
[]
[]
[]
[]
[]
[]
[]
[]
[]
[]
[]
[]
[]
[]
[]
[]
[]
[]
[]
[]
[]
[]
[]
[]
[]
[]
[]
[]
[]
[]
[]
[]
[]
[]
[]
[]
[]
[]
[]
[]
[]
[]
[]
[]
[]
[]
[]
[]
[]
[]
[]
[]
[]
[]
[]
[]
[]
[]
[]
[]
[]
[]
[]
[]
[]
[]
[]
[]
[]
[]
[]
[]
[]
[]
[]
[]
[]
[]
[]
[]
[]
[]
[]
[]
[]
[]
[]
[]
[]
[]
[]
[]
[]
[]
[]
[]
[]
[]
[]
[]
[]
[]
[null,null,null,null,null,null,null,{"$f":"IF(OR(D701=\"\",F701=\"\"),\"\",(D701)*(F701)*9.8/100)","v":""},null,null,null,{"$f":"IF(OR(D701=\"\",F701=\"\",J701=\"\"),\"\",10^(-5.81636221052493+0.0222878437409416*((H701)/9.8*39.37*2.2046/12))*(J701))","v":""},null,{"$f":"IF(OR(D701=\"\",F701=\"\",J701=\"\"),\"\",(L701)/($N$34)*100)","v":""}]

{"sheet":"moment_cd_relationship","index":1,"n_rows":203,"n_cols":12,"rows_kept":203,"cut":false,"hidden":true,"merged":[]}
["x","y"]
["ft.lbs","damage per cycle (ft.lbs)","task #1 damage (extrapolation bw points)","task #2 damage  (extrapolation bw points)","task #3 damage  (extrapolation bw points)","task #4 damage (extrapolation bw points)","task #5 damage (extrapolation bw points)","task #6 damage (extrapolation bw points)","task #7 damage (extrapolation bw points)","task #8 damage (extrapolation bw points)","task #9 damage (extrapolation bw points)","task #10 damage (extrapolation bw points)"]
[0,0]
[1,1.7E-6,{"$f":"(('LiFFT_v1.4.0'!$H$5-moment_cd_relationship!A3)*((moment_cd_relationship!B3-moment_cd_relationship!B4)/(moment_cd_relationship!A3-moment_cd_relationship!A4))+moment_cd_relationship!B3)*'LiFFT_v1.4.0'!$J$5","v":3.8249999999999999E-2},{"$f":"(('LiFFT_v1.4.0'!$H$8-moment_cd_relationship!A3)*((moment_cd_relationship!B3-moment_cd_relationship!B4)/(moment_cd_relationship!A3-moment_cd_relationship!A4))+moment_cd_relationship!B3)*'LiFFT_v1.4.0'!$J$8","v":{"$error":"#VALUE!"}},{"$f":"(('LiFFT_v1.4.0'!$H$11-moment_cd_relationship!A3)*((moment_cd_relationship!B3-moment_cd_relationship!B4)/(moment_cd_relationship!A3-moment_cd_relationship!A4))+moment_cd_relationship!B3)*'LiFFT_v1.4.0'!$J$11","v":{"$error":"#VALUE!"}},{"$f":"(('LiFFT_v1.4.0'!$H$14-moment_cd_relationship!A3)*((moment_cd_relationship!B3-moment_cd_relationship!B4)/(moment_cd_relationship!A3-moment_cd_relationship!A4))+moment_cd_relationship!B3)*'LiFFT_v1.4.0'!$J$14","v":{"$error":"#VALUE!"}},{"$f":"(('LiFFT_v1.4.0'!$H$17-moment_cd_relationship!A3)*((moment_cd_relationship!B3-moment_cd_relationship!B4)/(moment_cd_relationship!A3-moment_cd_relationship!A4))+moment_cd_relationship!B3)*'LiFFT_v1.4.0'!$J$17","v":{"$error":"#VALUE!"}},{"$f":"(('LiFFT_v1.4.0'!$H$20-moment_cd_relationship!A3)*((moment_cd_relationship!B3-moment_cd_relationship!B4)/(moment_cd_relationship!A3-moment_cd_relationship!A4))+moment_cd_relationship!B3)*'LiFFT_v1.4.0'!$J$20","v":{"$error":"#VALUE!"}},{"$f":"(('LiFFT_v1.4.0'!$H$23-moment_cd_relationship!A3)*((moment_cd_relationship!B3-moment_cd_relationship!B4)/(moment_cd_relationship!A3-moment_cd_relationship!A4))+moment_cd_relationship!B3)*'LiFFT_v1.4.0'!$J$23","v":{"$error":"#VALUE!"}},{"$f":"(('LiFFT_v1.4.0'!$H$26-moment_cd_relationship!A3)*((moment_cd_relationship!B3-moment_cd_relationship!B4)/(moment_cd_relationship!A3-moment_cd_relationship!A4))+moment_cd_relationship!B3)*'LiFFT_v1.4.0'!$J$26","v":{"$error":"#VALUE!"}},{"$f":"(('LiFFT_v1.4.0'!$H$29-moment_cd_relationship!A3)*((moment_cd_relationship!B3-moment_cd_relationship!B4)/(moment_cd_relationship!A3-moment_cd_relationship!A4))+moment_cd_relationship!B3)*'LiFFT_v1.4.0'!$J$29","v":{"$error":"#VALUE!"}},{"$f":"(('LiFFT_v1.4.0'!$H$32-moment_cd_relationship!A3)*((moment_cd_relationship!B3-moment_cd_relationship!B4)/(moment_cd_relationship!A3-moment_cd_relationship!A4))+moment_cd_relationship!B3)*'LiFFT_v1.4.0'!$J$32","v":{"$error":"#VALUE!"}}]
[2,1.7999999999999999E-6,{"$f":"(('LiFFT_v1.4.0'!$H$5-moment_cd_relationship!A4)*((moment_cd_relationship!B4-moment_cd_relationship!B5)/(moment_cd_relationship!A4-moment_cd_relationship!A5))+moment_cd_relationship!B4)*'LiFFT_v1.4.0'!$J$5","v":4.649999999999997E-3},{"$f":"(('LiFFT_v1.4.0'!$H$8-moment_cd_relationship!A4)*((moment_cd_relationship!B4-moment_cd_relationship!B5)/(moment_cd_relationship!A4-moment_cd_relationship!A5))+moment_cd_relationship!B4)*'LiFFT_v1.4.0'!$J$8","v":{"$error":"#VALUE!"}},{"$f":"(('LiFFT_v1.4.0'!$H$11-moment_cd_relationship!A4)*((moment_cd_relationship!B4-moment_cd_relationship!B5)/(moment_cd_relationship!A4-moment_cd_relationship!A5))+moment_cd_relationship!B4)*'LiFFT_v1.4.0'!$J$11","v":{"$error":"#VALUE!"}},{"$f":"(('LiFFT_v1.4.0'!$H$14-moment_cd_relationship!A4)*((moment_cd_relationship!B4-moment_cd_relationship!B5)/(moment_cd_relationship!A4-moment_cd_relationship!A5))+moment_cd_relationship!B4)*'LiFFT_v1.4.0'!$J$14","v":{"$error":"#VALUE!"}},{"$f":"(('LiFFT_v1.4.0'!$H$17-moment_cd_relationship!A4)*((moment_cd_relationship!B4-moment_cd_relationship!B5)/(moment_cd_relationship!A4-moment_cd_relationship!A5))+moment_cd_relationship!B4)*'LiFFT_v1.4.0'!$J$17","v":{"$error":"#VALUE!"}},{"$f":"(('LiFFT_v1.4.0'!$H$20-moment_cd_relationship!A4)*((moment_cd_relationship!B4-moment_cd_relationship!B5)/(moment_cd_relationship!A4-moment_cd_relationship!A5))+moment_cd_relationship!B4)*'LiFFT_v1.4.0'!$J$20","v":{"$error":"#VALUE!"}},{"$f":"(('LiFFT_v1.4.0'!$H$23-moment_cd_relationship!A4)*((moment_cd_relationship!B4-moment_cd_relationship!B5)/(moment_cd_relationship!A4-moment_cd_relationship!A5))+moment_cd_relationship!B4)*'LiFFT_v1.4.0'!$J$23","v":{"$error":"#VALUE!"}},{"$f":"(('LiFFT_v1.4.0'!$H$26-moment_cd_relationship!A4)*((moment_cd_relationship!B4-moment_cd_relationship!B5)/(moment_cd_relationship!A4-moment_cd_relationship!A5))+moment_cd_relationship!B4)*'LiFFT_v1.4.0'!$J$26","v":{"$error":"#VALUE!"}},{"$f":"(('LiFFT_v1.4.0'!$H$29-moment_cd_relationship!A4)*((moment_cd_relationship!B4-moment_cd_relationship!B5)/(moment_cd_relationship!A4-moment_cd_relationship!A5))+moment_cd_relationship!B4)*'LiFFT_v1.4.0'!$J$29","v":{"$error":"#VALUE!"}},{"$f":"(('LiFFT_v1.4.0'!$H$32-moment_cd_relationship!A4)*((moment_cd_relationship!B4-moment_cd_relationship!B5)/(moment_cd_relationship!A4-moment_cd_relationship!A5))+moment_cd_relationship!B4)*'LiFFT_v1.4.0'!$J$32","v":{"$error":"#VALUE!"}}]
[3,1.9E-6,{"$f":"(('LiFFT_v1.4.0'!$H$5-moment_cd_relationship!A5)*((moment_cd_relationship!B5-moment_cd_relationship!B6)/(moment_cd_relationship!A5-moment_cd_relationship!A6))+moment_cd_relationship!B5)*'LiFFT_v1.4.0'!$J$5","v":4.6500000000000022E-3},{"$f":"(('LiFFT_v1.4.0'!$H$8-moment_cd_relationship!A5)*((moment_cd_relationship!B5-moment_cd_relationship!B6)/(moment_cd_relationship!A5-moment_cd_relationship!A6))+moment_cd_relationship!B5)*'LiFFT_v1.4.0'!$J$8","v":{"$error":"#VALUE!"}},{"$f":"(('LiFFT_v1.4.0'!$H$11-moment_cd_relationship!A5)*((moment_cd_relationship!B5-moment_cd_relationship!B6)/(moment_cd_relationship!A5-moment_cd_relationship!A6))+moment_cd_relationship!B5)*'LiFFT_v1.4.0'!$J$11","v":{"$error":"#VALUE!"}},{"$f":"(('LiFFT_v1.4.0'!$H$14-moment_cd_relationship!A5)*((moment_cd_relationship!B5-moment_cd_relationship!B6)/(moment_cd_relationship!A5-moment_cd_relationship!A6))+moment_cd_relationship!B5)*'LiFFT_v1.4.0'!$J$14","v":{"$error":"#VALUE!"}},{"$f":"(('LiFFT_v1.4.0'!$H$17-moment_cd_relationship!A5)*((moment_cd_relationship!B5-moment_cd_relationship!B6)/(moment_cd_relationship!A5-moment_cd_relationship!A6))+moment_cd_relationship!B5)*'LiFFT_v1.4.0'!$J$17","v":{"$error":"#VALUE!"}},{"$f":"(('LiFFT_v1.4.0'!$H$20-moment_cd_relationship!A5)*((moment_cd_relationship!B5-moment_cd_relationship!B6)/(moment_cd_relationship!A5-moment_cd_relationship!A6))+moment_cd_relationship!B5)*'LiFFT_v1.4.0'!$J$20","v":{"$error":"#VALUE!"}},{"$f":"(('LiFFT_v1.4.0'!$H$23-moment_cd_relationship!A5)*((moment_cd_relationship!B5-moment_cd_relationship!B6)/(moment_cd_relationship!A5-moment_cd_relationship!A6))+moment_cd_relationship!B5)*'LiFFT_v1.4.0'!$J$23","v":{"$error":"#VALUE!"}},{"$f":"(('LiFFT_v1.4.0'!$H$26-moment_cd_relationship!A5)*((moment_cd_relationship!B5-moment_cd_relationship!B6)/(moment_cd_relationship!A5-moment_cd_relationship!A6))+moment_cd_relationship!B5)*'LiFFT_v1.4.0'!$J$26","v":{"$error":"#VALUE!"}},{"$f":"(('LiFFT_v1.4.0'!$H$29-moment_cd_relationship!A5)*((moment_cd_relationship!B5-moment_cd_relationship!B6)/(moment_cd_relationship!A5-moment_cd_relationship!A6))+moment_cd_relationship!B5)*'LiFFT_v1.4.0'!$J$29","v":{"$error":"#VALUE!"}},{"$f":"(('LiFFT_v1.4.0'!$H$32-moment_cd_relationship!A5)*((moment_cd_relationship!B5-moment_cd_relationship!B6)/(moment_cd_relationship!A5-moment_cd_relationship!A6))+moment_cd_relationship!B5)*'LiFFT_v1.4.0'!$J$32","v":{"$error":"#VALUE!"}}]
[4,1.9999999999999999E-6,{"$f":"(('LiFFT_v1.4.0'!$H$5-moment_cd_relationship!A6)*((moment_cd_relationship!B6-moment_cd_relationship!B7)/(moment_cd_relationship!A6-moment_cd_relationship!A7))+moment_cd_relationship!B6)*'LiFFT_v1.4.0'!$J$5","v":4.6499999999999979E-3},{"$f":"(('LiFFT_v1.4.0'!$H$8-moment_cd_relationship!A6)*((moment_cd_relationship!B6-moment_cd_relationship!B7)/(moment_cd_relationship!A6-moment_cd_relationship!A7))+moment_cd_relationship!B6)*'LiFFT_v1.4.0'!$J$8","v":{"$error":"#VALUE!"}},{"$f":"(('LiFFT_v1.4.0'!$H$11-moment_cd_relationship!A6)*((moment_cd_relationship!B6-moment_cd_relationship!B7)/(moment_cd_relationship!A6-moment_cd_relationship!A7))+moment_cd_relationship!B6)*'LiFFT_v1.4.0'!$J$11","v":{"$error":"#VALUE!"}},{"$f":"(('LiFFT_v1.4.0'!$H$14-moment_cd_relationship!A6)*((moment_cd_relationship!B6-moment_cd_relationship!B7)/(moment_cd_relationship!A6-moment_cd_relationship!A7))+moment_cd_relationship!B6)*'LiFFT_v1.4.0'!$J$14","v":{"$error":"#VALUE!"}},{"$f":"(('LiFFT_v1.4.0'!$H$17-moment_cd_relationship!A6)*((moment_cd_relationship!B6-moment_cd_relationship!B7)/(moment_cd_relationship!A6-moment_cd_relationship!A7))+moment_cd_relationship!B6)*'LiFFT_v1.4.0'!$J$17","v":{"$error":"#VALUE!"}},{"$f":"(('LiFFT_v1.4.0'!$H$20-moment_cd_relationship!A6)*((moment_cd_relationship!B6-moment_cd_relationship!B7)/(moment_cd_relationship!A6-moment_cd_relationship!A7))+moment_cd_relationship!B6)*'LiFFT_v1.4.0'!$J$20","v":{"$error":"#VALUE!"}},{"$f":"(('LiFFT_v1.4.0'!$H$23-moment_cd_relationship!A6)*((moment_cd_relationship!B6-moment_cd_relationship!B7)/(moment_cd_relationship!A6-moment_cd_relationship!A7))+moment_cd_relationship!B6)*'LiFFT_v1.4.0'!$J$23","v":{"$error":"#VALUE!"}},{"$f":"(('LiFFT_v1.4.0'!$H$26-moment_cd_relationship!A6)*((moment_cd_relationship!B6-moment_cd_relationship!B7)/(moment_cd_relationship!A6-moment_cd_relationship!A7))+moment_cd_relationship!B6)*'LiFFT_v1.4.0'!$J$26","v":{"$error":"#VALUE!"}},{"$f":"(('LiFFT_v1.4.0'!$H$29-moment_cd_relationship!A6)*((moment_cd_relationship!B6-moment_cd_relationship!B7)/(moment_cd_relationship!A6-moment_cd_relationship!A7))+moment_cd_relationship!B6)*'LiFFT_v1.4.0'!$J$29","v":{"$error":"#VALUE!"}},{"$f":"(('LiFFT_v1.4.0'!$H$32-moment_cd_relationship!A6)*((moment_cd_relationship!B6-moment_cd_relationship!B7)/(moment_cd_relationship!A6-moment_cd_relationship!A7))+moment_cd_relationship!B6)*'LiFFT_v1.4.0'!$J$32","v":{"$error":"#VALUE!"}}]
[5,2.0999999999999998E-6,{"$f":"(('LiFFT_v1.4.0'!$H$5-moment_cd_relationship!A7)*((moment_cd_relationship!B7-moment_cd_relationship!B8)/(moment_cd_relationship!A7-moment_cd_relationship!A8))+moment_cd_relationship!B7)*'LiFFT_v1.4.0'!$J$5","v":4.6499999999999979E-3},{"$f":"(('LiFFT_v1.4.0'!$H$8-moment_cd_relationship!A7)*((moment_cd_relationship!B7-moment_cd_relationship!B8)/(moment_cd_relationship!A7-moment_cd_relationship!A8))+moment_cd_relationship!B7)*'LiFFT_v1.4.0'!$J$8","v":{"$error":"#VALUE!"}},{"$f":"(('LiFFT_v1.4.0'!$H$11-moment_cd_relationship!A7)*((moment_cd_relationship!B7-moment_cd_relationship!B8)/(moment_cd_relationship!A7-moment_cd_relationship!A8))+moment_cd_relationship!B7)*'LiFFT_v1.4.0'!$J$11","v":{"$error":"#VALUE!"}},{"$f":"(('LiFFT_v1.4.0'!$H$14-moment_cd_relationship!A7)*((moment_cd_relationship!B7-moment_cd_relationship!B8)/(moment_cd_relationship!A7-moment_cd_relationship!A8))+moment_cd_relationship!B7)*'LiFFT_v1.4.0'!$J$14","v":{"$error":"#VALUE!"}},{"$f":"(('LiFFT_v1.4.0'!$H$17-moment_cd_relationship!A7)*((moment_cd_relationship!B7-moment_cd_relationship!B8)/(moment_cd_relationship!A7-moment_cd_relationship!A8))+moment_cd_relationship!B7)*'LiFFT_v1.4.0'!$J$17","v":{"$error":"#VALUE!"}},{"$f":"(('LiFFT_v1.4.0'!$H$20-moment_cd_relationship!A7)*((moment_cd_relationship!B7-moment_cd_relationship!B8)/(moment_cd_relationship!A7-moment_cd_relationship!A8))+moment_cd_relationship!B7)*'LiFFT_v1.4.0'!$J$20","v":{"$error":"#VALUE!"}},{"$f":"(('LiFFT_v1.4.0'!$H$23-moment_cd_relationship!A7)*((moment_cd_relationship!B7-moment_cd_relationship!B8)/(moment_cd_relationship!A7-moment_cd_relationship!A8))+moment_cd_relationship!B7)*'LiFFT_v1.4.0'!$J$23","v":{"$error":"#VALUE!"}},{"$f":"(('LiFFT_v1.4.0'!$H$26-moment_cd_relationship!A7)*((moment_cd_relationship!B7-moment_cd_relationship!B8)/(moment_cd_relationship!A7-moment_cd_relationship!A8))+moment_cd_relationship!B7)*'LiFFT_v1.4.0'!$J$26","v":{"$error":"#VALUE!"}},{"$f":"(('LiFFT_v1.4.0'!$H$29-moment_cd_relationship!A7)*((moment_cd_relationship!B7-moment_cd_relationship!B8)/(moment_cd_relationship!A7-moment_cd_relationship!A8))+moment_cd_relationship!B7)*'LiFFT_v1.4.0'!$J$29","v":{"$error":"#VALUE!"}},{"$f":"(('LiFFT_v1.4.0'!$H$32-moment_cd_relationship!A7)*((moment_cd_relationship!B7-moment_cd_relationship!B8)/(moment_cd_relationship!A7-moment_cd_relationship!A8))+moment_cd_relationship!B7)*'LiFFT_v1.4.0'!$J$32","v":{"$error":"#VALUE!"}}]
[6,2.2000000000000001E-6,{"$f":"(('LiFFT_v1.4.0'!$H$5-moment_cd_relationship!A8)*((moment_cd_relationship!B8-moment_cd_relationship!B9)/(moment_cd_relationship!A8-moment_cd_relationship!A9))+moment_cd_relationship!B8)*'LiFFT_v1.4.0'!$J$5","v":4.6500000000000048E-3},{"$f":"(('LiFFT_v1.4.0'!$H$8-moment_cd_relationship!A8)*((moment_cd_relationship!B8-moment_cd_relationship!B9)/(moment_cd_relationship!A8-moment_cd_relationship!A9))+moment_cd_relationship!B8)*'LiFFT_v1.4.0'!$J$8","v":{"$error":"#VALUE!"}},{"$f":"(('LiFFT_v1.4.0'!$H$11-moment_cd_relationship!A8)*((moment_cd_relationship!B8-moment_cd_relationship!B9)/(moment_cd_relationship!A8-moment_cd_relationship!A9))+moment_cd_relationship!B8)*'LiFFT_v1.4.0'!$J$11","v":{"$error":"#VALUE!"}},{"$f":"(('LiFFT_v1.4.0'!$H$14-moment_cd_relationship!A8)*((moment_cd_relationship!B8-moment_cd_relationship!B9)/(moment_cd_relationship!A8-moment_cd_relationship!A9))+moment_cd_relationship!B8)*'LiFFT_v1.4.0'!$J$14","v":{"$error":"#VALUE!"}},{"$f":"(('LiFFT_v1.4.0'!$H$17-moment_cd_relationship!A8)*((moment_cd_relationship!B8-moment_cd_relationship!B9)/(moment_cd_relationship!A8-moment_cd_relationship!A9))+moment_cd_relationship!B8)*'LiFFT_v1.4.0'!$J$17","v":{"$error":"#VALUE!"}},{"$f":"(('LiFFT_v1.4.0'!$H$20-moment_cd_relationship!A8)*((moment_cd_relationship!B8-moment_cd_relationship!B9)/(moment_cd_relationship!A8-moment_cd_relationship!A9))+moment_cd_relationship!B8)*'LiFFT_v1.4.0'!$J$20","v":{"$error":"#VALUE!"}},{"$f":"(('LiFFT_v1.4.0'!$H$23-moment_cd_relationship!A8)*((moment_cd_relationship!B8-moment_cd_relationship!B9)/(moment_cd_relationship!A8-moment_cd_relationship!A9))+moment_cd_relationship!B8)*'LiFFT_v1.4.0'!$J$23","v":{"$error":"#VALUE!"}},{"$f":"(('LiFFT_v1.4.0'!$H$26-moment_cd_relationship!A8)*((moment_cd_relationship!B8-moment_cd_relationship!B9)/(moment_cd_relationship!A8-moment_cd_relationship!A9))+moment_cd_relationship!B8)*'LiFFT_v1.4.0'!$J$26","v":{"$error":"#VALUE!"}},{"$f":"(('LiFFT_v1.4.0'!$H$29-moment_cd_relationship!A8)*((moment_cd_relationship!B8-moment_cd_relationship!B9)/(moment_cd_relationship!A8-moment_cd_relationship!A9))+moment_cd_relationship!B8)*'LiFFT_v1.4.0'!$J$29","v":{"$error":"#VALUE!"}},{"$f":"(('LiFFT_v1.4.0'!$H$32-moment_cd_relationship!A8)*((moment_cd_relationship!B8-moment_cd_relationship!B9)/(moment_cd_relationship!A8-moment_cd_relationship!A9))+moment_cd_relationship!B8)*'LiFFT_v1.4.0'!$J$32","v":{"$error":"#VALUE!"}}]
[7,2.3E-6,{"$f":"(('LiFFT_v1.4.0'!$H$5-moment_cd_relationship!A9)*((moment_cd_relationship!B9-moment_cd_relationship!B10)/(moment_cd_relationship!A9-moment_cd_relationship!A10))+moment_cd_relationship!B9)*'LiFFT_v1.4.0'!$J$5","v":4.6499999999999988E-3},{"$f":"(('LiFFT_v1.4.0'!$H$8-moment_cd_relationship!A9)*((moment_cd_relationship!B9-moment_cd_relationship!B10)/(moment_cd_relationship!A9-moment_cd_relationship!A10))+moment_cd_relationship!B9)*'LiFFT_v1.4.0'!$J$8","v":{"$error":"#VALUE!"}},{"$f":"(('LiFFT_v1.4.0'!$H$11-moment_cd_relationship!A9)*((moment_cd_relationship!B9-moment_cd_relationship!B10)/(moment_cd_relationship!A9-moment_cd_relationship!A10))+moment_cd_relationship!B9)*'LiFFT_v1.4.0'!$J$11","v":{"$error":"#VALUE!"}},{"$f":"(('LiFFT_v1.4.0'!$H$14-moment_cd_relationship!A9)*((moment_cd_relationship!B9-moment_cd_relationship!B10)/(moment_cd_relationship!A9-moment_cd_relationship!A10))+moment_cd_relationship!B9)*'LiFFT_v1.4.0'!$J$14","v":{"$error":"#VALUE!"}},{"$f":"(('LiFFT_v1.4.0'!$H$17-moment_cd_relationship!A9)*((moment_cd_relationship!B9-moment_cd_relationship!B10)/(moment_cd_relationship!A9-moment_cd_relationship!A10))+moment_cd_relationship!B9)*'LiFFT_v1.4.0'!$J$17","v":{"$error":"#VALUE!"}},{"$f":"(('LiFFT_v1.4.0'!$H$20-moment_cd_relationship!A9)*((moment_cd_relationship!B9-moment_cd_relationship!B10)/(moment_cd_relationship!A9-moment_cd_relationship!A10))+moment_cd_relationship!B9)*'LiFFT_v1.4.0'!$J$20","v":{"$error":"#VALUE!"}},{"$f":"(('LiFFT_v1.4.0'!$H$23-moment_cd_relationship!A9)*((moment_cd_relationship!B9-moment_cd_relationship!B10)/(moment_cd_relationship!A9-moment_cd_relationship!A10))+moment_cd_relationship!B9)*'LiFFT_v1.4.0'!$J$23","v":{"$error":"#VALUE!"}},{"$f":"(('LiFFT_v1.4.0'!$H$26-moment_cd_relationship!A9)*((moment_cd_relationship!B9-moment_cd_relationship!B10)/(moment_cd_relationship!A9-moment_cd_relationship!A10))+moment_cd_relationship!B9)*'LiFFT_v1.4.0'!$J$26","v":{"$error":"#VALUE!"}},{"$f":"(('LiFFT_v1.4.0'!$H$29-moment_cd_relationship!A9)*((moment_cd_relationship!B9-moment_cd_relationship!B10)/(moment_cd_relationship!A9-moment_cd_relationship!A10))+moment_cd_relationship!B9)*'LiFFT_v1.4.0'!$J$29","v":{"$error":"#VALUE!"}},{"$f":"(('LiFFT_v1.4.0'!$H$32-moment_cd_relationship!A9)*((moment_cd_relationship!B9-moment_cd_relationship!B10)/(moment_cd_relationship!A9-moment_cd_relationship!A10))+moment_cd_relationship!B9)*'LiFFT_v1.4.0'!$J$32","v":{"$error":"#VALUE!"}}]
[8,2.3999999999999999E-6,{"$f":"(('LiFFT_v1.4.0'!$H$5-moment_cd_relationship!A10)*((moment_cd_relationship!B10-moment_cd_relationship!B11)/(moment_cd_relationship!A10-moment_cd_relationship!A11))+moment_cd_relationship!B10)*'LiFFT_v1.4.0'!$J$5","v":4.6499999999999988E-3},{"$f":"(('LiFFT_v1.4.0'!$H$8-moment_cd_relationship!A10)*((moment_cd_relationship!B10-moment_cd_relationship!B11)/(moment_cd_relationship!A10-moment_cd_relationship!A11))+moment_cd_relationship!B10)*'LiFFT_v1.4.0'!$J$8","v":{"$error":"#VALUE!"}},{"$f":"(('LiFFT_v1.4.0'!$H$11-moment_cd_relationship!A10)*((moment_cd_relationship!B10-moment_cd_relationship!B11)/(moment_cd_relationship!A10-moment_cd_relationship!A11))+moment_cd_relationship!B10)*'LiFFT_v1.4.0'!$J$11","v":{"$error":"#VALUE!"}},{"$f":"(('LiFFT_v1.4.0'!$H$14-moment_cd_relationship!A10)*((moment_cd_relationship!B10-moment_cd_relationship!B11)/(moment_cd_relationship!A10-moment_cd_relationship!A11))+moment_cd_relationship!B10)*'LiFFT_v1.4.0'!$J$14","v":{"$error":"#VALUE!"}},{"$f":"(('LiFFT_v1.4.0'!$H$17-moment_cd_relationship!A10)*((moment_cd_relationship!B10-moment_cd_relationship!B11)/(moment_cd_relationship!A10-moment_cd_relationship!A11))+moment_cd_relationship!B10)*'LiFFT_v1.4.0'!$J$17","v":{"$error":"#VALUE!"}},{"$f":"(('LiFFT_v1.4.0'!$H$20-moment_cd_relationship!A10)*((moment_cd_relationship!B10-moment_cd_relationship!B11)/(moment_cd_relationship!A10-moment_cd_relationship!A11))+moment_cd_relationship!B10)*'LiFFT_v1.4.0'!$J$20","v":{"$error":"#VALUE!"}},{"$f":"(('LiFFT_v1.4.0'!$H$23-moment_cd_relationship!A10)*((moment_cd_relationship!B10-moment_cd_relationship!B11)/(moment_cd_relationship!A10-moment_cd_relationship!A11))+moment_cd_relationship!B10)*'LiFFT_v1.4.0'!$J$23","v":{"$error":"#VALUE!"}},{"$f":"(('LiFFT_v1.4.0'!$H$26-moment_cd_relationship!A10)*((moment_cd_relationship!B10-moment_cd_relationship!B11)/(moment_cd_relationship!A10-moment_cd_relationship!A11))+moment_cd_relationship!B10)*'LiFFT_v1.4.0'!$J$26","v":{"$error":"#VALUE!"}},{"$f":"(('LiFFT_v1.4.0'!$H$29-moment_cd_relationship!A10)*((moment_cd_relationship!B10-moment_cd_relationship!B11)/(moment_cd_relationship!A10-moment_cd_relationship!A11))+moment_cd_relationship!B10)*'LiFFT_v1.4.0'!$J$29","v":{"$error":"#VALUE!"}},{"$f":"(('LiFFT_v1.4.0'!$H$32-moment_cd_relationship!A10)*((moment_cd_relationship!B10-moment_cd_relationship!B11)/(moment_cd_relationship!A10-moment_cd_relationship!A11))+moment_cd_relationship!B10)*'LiFFT_v1.4.0'!$J$32","v":{"$error":"#VALUE!"}}]
[9,2.5000000000000002E-6,{"$f":"(('LiFFT_v1.4.0'!$H$5-moment_cd_relationship!A11)*((moment_cd_relationship!B11-moment_cd_relationship!B12)/(moment_cd_relationship!A11-moment_cd_relationship!A12))+moment_cd_relationship!B11)*'LiFFT_v1.4.0'!$J$5","v":4.6500000000000031E-3},{"$f":"(('LiFFT_v1.4.0'!$H$8-moment_cd_relationship!A11)*((moment_cd_relationship!B11-moment_cd_relationship!B12)/(moment_cd_relationship!A11-moment_cd_relationship!A12))+moment_cd_relationship!B11)*'LiFFT_v1.4.0'!$J$8","v":{"$error":"#VALUE!"}},{"$f":"(('LiFFT_v1.4.0'!$H$11-moment_cd_relationship!A11)*((moment_cd_relationship!B11-moment_cd_relationship!B12)/(moment_cd_relationship!A11-moment_cd_relationship!A12))+moment_cd_relationship!B11)*'LiFFT_v1.4.0'!$J$11","v":{"$error":"#VALUE!"}},{"$f":"(('LiFFT_v1.4.0'!$H$14-moment_cd_relationship!A11)*((moment_cd_relationship!B11-moment_cd_relationship!B12)/(moment_cd_relationship!A11-moment_cd_relationship!A12))+moment_cd_relationship!B11)*'LiFFT_v1.4.0'!$J$14","v":{"$error":"#VALUE!"}},{"$f":"(('LiFFT_v1.4.0'!$H$17-moment_cd_relationship!A11)*((moment_cd_relationship!B11-moment_cd_relationship!B12)/(moment_cd_relationship!A11-moment_cd_relationship!A12))+moment_cd_relationship!B11)*'LiFFT_v1.4.0'!$J$17","v":{"$error":"#VALUE!"}},{"$f":"(('LiFFT_v1.4.0'!$H$20-moment_cd_relationship!A11)*((moment_cd_relationship!B11-moment_cd_relationship!B12)/(moment_cd_relationship!A11-moment_cd_relationship!A12))+moment_cd_relationship!B11)*'LiFFT_v1.4.0'!$J$20","v":{"$error":"#VALUE!"}},{"$f":"(('LiFFT_v1.4.0'!$H$23-moment_cd_relationship!A11)*((moment_cd_relationship!B11-moment_cd_relationship!B12)/(moment_cd_relationship!A11-moment_cd_relationship!A12))+moment_cd_relationship!B11)*'LiFFT_v1.4.0'!$J$23","v":{"$error":"#VALUE!"}},{"$f":"(('LiFFT_v1.4.0'!$H$26-moment_cd_relationship!A11)*((moment_cd_relationship!B11-moment_cd_relationship!B12)/(moment_cd_relationship!A11-moment_cd_relationship!A12))+moment_cd_relationship!B11)*'LiFFT_v1.4.0'!$J$26","v":{"$error":"#VALUE!"}},{"$f":"(('LiFFT_v1.4.0'!$H$29-moment_cd_relationship!A11)*((moment_cd_relationship!B11-moment_cd_relationship!B12)/(moment_cd_relationship!A11-moment_cd_relationship!A12))+moment_cd_relationship!B11)*'LiFFT_v1.4.0'!$J$29","v":{"$error":"#VALUE!"}},{"$f":"(('LiFFT_v1.4.0'!$H$32-moment_cd_relationship!A11)*((moment_cd_relationship!B11-moment_cd_relationship!B12)/(moment_cd_relationship!A11-moment_cd_relationship!A12))+moment_cd_relationship!B11)*'LiFFT_v1.4.0'!$J$32","v":{"$error":"#VALUE!"}}]
[10,2.7E-6,{"$f":"(('LiFFT_v1.4.0'!$H$5-moment_cd_relationship!A12)*((moment_cd_relationship!B12-moment_cd_relationship!B13)/(moment_cd_relationship!A12-moment_cd_relationship!A13))+moment_cd_relationship!B12)*'LiFFT_v1.4.0'!$J$5","v":5.5499999999999985E-3},{"$f":"(('LiFFT_v1.4.0'!$H$8-moment_cd_relationship!A12)*((moment_cd_relationship!B12-moment_cd_relationship!B13)/(moment_cd_relationship!A12-moment_cd_relationship!A13))+moment_cd_relationship!B12)*'LiFFT_v1.4.0'!$J$8","v":{"$error":"#VALUE!"}},{"$f":"(('LiFFT_v1.4.0'!$H$11-moment_cd_relationship!A12)*((moment_cd_relationship!B12-moment_cd_relationship!B13)/(moment_cd_relationship!A12-moment_cd_relationship!A13))+moment_cd_relationship!B12)*'LiFFT_v1.4.0'!$J$11","v":{"$error":"#VALUE!"}},{"$f":"(('LiFFT_v1.4.0'!$H$14-moment_cd_relationship!A12)*((moment_cd_relationship!B12-moment_cd_relationship!B13)/(moment_cd_relationship!A12-moment_cd_relationship!A13))+moment_cd_relationship!B12)*'LiFFT_v1.4.0'!$J$14","v":{"$error":"#VALUE!"}},{"$f":"(('LiFFT_v1.4.0'!$H$17-moment_cd_relationship!A12)*((moment_cd_relationship!B12-moment_cd_relationship!B13)/(moment_cd_relationship!A12-moment_cd_relationship!A13))+moment_cd_relationship!B12)*'LiFFT_v1.4.0'!$J$17","v":{"$error":"#VALUE!"}},{"$f":"(('LiFFT_v1.4.0'!$H$20-moment_cd_relationship!A12)*((moment_cd_relationship!B12-moment_cd_relationship!B13)/(moment_cd_relationship!A12-moment_cd_relationship!A13))+moment_cd_relationship!B12)*'LiFFT_v1.4.0'!$J$20","v":{"$error":"#VALUE!"}},{"$f":"(('LiFFT_v1.4.0'!$H$23-moment_cd_relationship!A12)*((moment_cd_relationship!B12-moment_cd_relationship!B13)/(moment_cd_relationship!A12-moment_cd_relationship!A13))+moment_cd_relationship!B12)*'LiFFT_v1.4.0'!$J$23","v":{"$error":"#VALUE!"}},{"$f":"(('LiFFT_v1.4.0'!$H$26-moment_cd_relationship!A12)*((moment_cd_relationship!B12-moment_cd_relationship!B13)/(moment_cd_relationship!A12-moment_cd_relationship!A13))+moment_cd_relationship!B12)*'LiFFT_v1.4.0'!$J$26","v":{"$error":"#VALUE!"}},{"$f":"(('LiFFT_v1.4.0'!$H$29-moment_cd_relationship!A12)*((moment_cd_relationship!B12-moment_cd_relationship!B13)/(moment_cd_relationship!A12-moment_cd_relationship!A13))+moment_cd_relationship!B12)*'LiFFT_v1.4.0'!$J$29","v":{"$error":"#VALUE!"}},{"$f":"(('LiFFT_v1.4.0'!$H$32-moment_cd_relationship!A12)*((moment_cd_relationship!B12-moment_cd_relationship!B13)/(moment_cd_relationship!A12-moment_cd_relationship!A13))+moment_cd_relationship!B12)*'LiFFT_v1.4.0'!$J$32","v":{"$error":"#VALUE!"}}]
[11,2.7999999999999999E-6,{"$f":"(('LiFFT_v1.4.0'!$H$5-moment_cd_relationship!A13)*((moment_cd_relationship!B13-moment_cd_relationship!B14)/(moment_cd_relationship!A13-moment_cd_relationship!A14))+moment_cd_relationship!B13)*'LiFFT_v1.4.0'!$J$5","v":4.7999999999999996E-3},{"$f":"(('LiFFT_v1.4.0'!$H$8-moment_cd_relationship!A13)*((moment_cd_relationship!B13-moment_cd_relationship!B14)/(moment_cd_relationship!A13-moment_cd_relationship!A14))+moment_cd_relationship!B13)*'LiFFT_v1.4.0'!$J$8","v":{"$error":"#VALUE!"}},{"$f":"(('LiFFT_v1.4.0'!$H$11-moment_cd_relationship!A13)*((moment_cd_relationship!B13-moment_cd_relationship!B14)/(moment_cd_relationship!A13-moment_cd_relationship!A14))+moment_cd_relationship!B13)*'LiFFT_v1.4.0'!$J$11","v":{"$error":"#VALUE!"}},{"$f":"(('LiFFT_v1.4.0'!$H$14-moment_cd_relationship!A13)*((moment_cd_relationship!B13-moment_cd_relationship!B14)/(moment_cd_relationship!A13-moment_cd_relationship!A14))+moment_cd_relationship!B13)*'LiFFT_v1.4.0'!$J$14","v":{"$error":"#VALUE!"}},{"$f":"(('LiFFT_v1.4.0'!$H$17-moment_cd_relationship!A13)*((moment_cd_relationship!B13-moment_cd_relationship!B14)/(moment_cd_relationship!A13-moment_cd_relationship!A14))+moment_cd_relationship!B13)*'LiFFT_v1.4.0'!$J$17","v":{"$error":"#VALUE!"}},{"$f":"(('LiFFT_v1.4.0'!$H$20-moment_cd_relationship!A13)*((moment_cd_relationship!B13-moment_cd_relationship!B14)/(moment_cd_relationship!A13-moment_cd_relationship!A14))+moment_cd_relationship!B13)*'LiFFT_v1.4.0'!$J$20","v":{"$error":"#VALUE!"}},{"$f":"(('LiFFT_v1.4.0'!$H$23-moment_cd_relationship!A13)*((moment_cd_relationship!B13-moment_cd_relationship!B14)/(moment_cd_relationship!A13-moment_cd_relationship!A14))+moment_cd_relationship!B13)*'LiFFT_v1.4.0'!$J$23","v":{"$error":"#VALUE!"}},{"$f":"(('LiFFT_v1.4.0'!$H$26-moment_cd_relationship!A13)*((moment_cd_relationship!B13-moment_cd_relationship!B14)/(moment_cd_relationship!A13-moment_cd_relationship!A14))+moment_cd_relationship!B13)*'LiFFT_v1.4.0'!$J$26","v":{"$error":"#VALUE!"}},{"$f":"(('LiFFT_v1.4.0'!$H$29-moment_cd_relationship!A13)*((moment_cd_relationship!B13-moment_cd_relationship!B14)/(moment_cd_relationship!A13-moment_cd_relationship!A14))+moment_cd_relationship!B13)*'LiFFT_v1.4.0'!$J$29","v":{"$error":"#VALUE!"}},{"$f":"(('LiFFT_v1.4.0'!$H$32-moment_cd_relationship!A13)*((moment_cd_relationship!B13-moment_cd_relationship!B14)/(moment_cd_relationship!A13-moment_cd_relationship!A14))+moment_cd_relationship!B13)*'LiFFT_v1.4.0'!$J$32","v":{"$error":"#VALUE!"}}]
[12,2.9000000000000002E-6,{"$f":"(('LiFFT_v1.4.0'!$H$5-moment_cd_relationship!A14)*((moment_cd_relationship!B14-moment_cd_relationship!B15)/(moment_cd_relationship!A14-moment_cd_relationship!A15))+moment_cd_relationship!B14)*'LiFFT_v1.4.0'!$J$5","v":4.8000000000000013E-3},{"$f":"(('LiFFT_v1.4.0'!$H$8-moment_cd_relationship!A14)*((moment_cd_relationship!B14-moment_cd_relationship!B15)/(moment_cd_relationship!A14-moment_cd_relationship!A15))+moment_cd_relationship!B14)*'LiFFT_v1.4.0'!$J$8","v":{"$error":"#VALUE!"}},{"$f":"(('LiFFT_v1.4.0'!$H$11-moment_cd_relationship!A14)*((moment_cd_relationship!B14-moment_cd_relationship!B15)/(moment_cd_relationship!A14-moment_cd_relationship!A15))+moment_cd_relationship!B14)*'LiFFT_v1.4.0'!$J$11","v":{"$error":"#VALUE!"}},{"$f":"(('LiFFT_v1.4.0'!$H$14-moment_cd_relationship!A14)*((moment_cd_relationship!B14-moment_cd_relationship!B15)/(moment_cd_relationship!A14-moment_cd_relationship!A15))+moment_cd_relationship!B14)*'LiFFT_v1.4.0'!$J$14","v":{"$error":"#VALUE!"}},{"$f":"(('LiFFT_v1.4.0'!$H$17-moment_cd_relationship!A14)*((moment_cd_relationship!B14-moment_cd_relationship!B15)/(moment_cd_relationship!A14-moment_cd_relationship!A15))+moment_cd_relationship!B14)*'LiFFT_v1.4.0'!$J$17","v":{"$error":"#VALUE!"}},{"$f":"(('LiFFT_v1.4.0'!$H$20-moment_cd_relationship!A14)*((moment_cd_relationship!B14-moment_cd_relationship!B15)/(moment_cd_relationship!A14-moment_cd_relationship!A15))+moment_cd_relationship!B14)*'LiFFT_v1.4.0'!$J$20","v":{"$error":"#VALUE!"}},{"$f":"(('LiFFT_v1.4.0'!$H$23-moment_cd_relationship!A14)*((moment_cd_relationship!B14-moment_cd_relationship!B15)/(moment_cd_relationship!A14-moment_cd_relationship!A15))+moment_cd_relationship!B14)*'LiFFT_v1.4.0'!$J$23","v":{"$error":"#VALUE!"}},{"$f":"(('LiFFT_v1.4.0'!$H$26-moment_cd_relationship!A14)*((moment_cd_relationship!B14-moment_cd_relationship!B15)/(moment_cd_relationship!A14-moment_cd_relationship!A15))+moment_cd_relationship!B14)*'LiFFT_v1.4.0'!$J$26","v":{"$error":"#VALUE!"}},{"$f":"(('LiFFT_v1.4.0'!$H$29-moment_cd_relationship!A14)*((moment_cd_relationship!B14-moment_cd_relationship!B15)/(moment_cd_relationship!A14-moment_cd_relationship!A15))+moment_cd_relationship!B14)*'LiFFT_v1.4.0'!$J$29","v":{"$error":"#VALUE!"}},{"$f":"(('LiFFT_v1.4.0'!$H$32-moment_cd_relationship!A14)*((moment_cd_relationship!B14-moment_cd_relationship!B15)/(moment_cd_relationship!A14-moment_cd_relationship!A15))+moment_cd_relationship!B14)*'LiFFT_v1.4.0'!$J$32","v":{"$error":"#VALUE!"}}]
[13,3.1E-6,{"$f":"(('LiFFT_v1.4.0'!$H$5-moment_cd_relationship!A15)*((moment_cd_relationship!B15-moment_cd_relationship!B16)/(moment_cd_relationship!A15-moment_cd_relationship!A16))+moment_cd_relationship!B15)*'LiFFT_v1.4.0'!$J$5","v":5.2499999999999995E-3},{"$f":"(('LiFFT_v1.4.0'!$H$8-moment_cd_relationship!A15)*((moment_cd_relationship!B15-moment_cd_relationship!B16)/(moment_cd_relationship!A15-moment_cd_relationship!A16))+moment_cd_relationship!B15)*'LiFFT_v1.4.0'!$J$8","v":{"$error":"#VALUE!"}},{"$f":"(('LiFFT_v1.4.0'!$H$11-moment_cd_relationship!A15)*((moment_cd_relationship!B15-moment_cd_relationship!B16)/(moment_cd_relationship!A15-moment_cd_relationship!A16))+moment_cd_relationship!B15)*'LiFFT_v1.4.0'!$J$11","v":{"$error":"#VALUE!"}},{"$f":"(('LiFFT_v1.4.0'!$H$14-moment_cd_relationship!A15)*((moment_cd_relationship!B15-moment_cd_relationship!B16)/(moment_cd_relationship!A15-moment_cd_relationship!A16))+moment_cd_relationship!B15)*'LiFFT_v1.4.0'!$J$14","v":{"$error":"#VALUE!"}},{"$f":"(('LiFFT_v1.4.0'!$H$17-moment_cd_relationship!A15)*((moment_cd_relationship!B15-moment_cd_relationship!B16)/(moment_cd_relationship!A15-moment_cd_relationship!A16))+moment_cd_relationship!B15)*'LiFFT_v1.4.0'!$J$17","v":{"$error":"#VALUE!"}},{"$f":"(('LiFFT_v1.4.0'!$H$20-moment_cd_relationship!A15)*((moment_cd_relationship!B15-moment_cd_relationship!B16)/(moment_cd_relationship!A15-moment_cd_relationship!A16))+moment_cd_relationship!B15)*'LiFFT_v1.4.0'!$J$20","v":{"$error":"#VALUE!"}},{"$f":"(('LiFFT_v1.4.0'!$H$23-moment_cd_relationship!A15)*((moment_cd_relationship!B15-moment_cd_relationship!B16)/(moment_cd_relationship!A15-moment_cd_relationship!A16))+moment_cd_relationship!B15)*'LiFFT_v1.4.0'!$J$23","v":{"$error":"#VALUE!"}},{"$f":"(('LiFFT_v1.4.0'!$H$26-moment_cd_relationship!A15)*((moment_cd_relationship!B15-moment_cd_relationship!B16)/(moment_cd_relationship!A15-moment_cd_relationship!A16))+moment_cd_relationship!B15)*'LiFFT_v1.4.0'!$J$26","v":{"$error":"#VALUE!"}},{"$f":"(('LiFFT_v1.4.0'!$H$29-moment_cd_relationship!A15)*((moment_cd_relationship!B15-moment_cd_relationship!B16)/(moment_cd_relationship!A15-moment_cd_relationship!A16))+moment_cd_relationship!B15)*'LiFFT_v1.4.0'!$J$29","v":{"$error":"#VALUE!"}},{"$f":"(('LiFFT_v1.4.0'!$H$32-moment_cd_relationship!A15)*((moment_cd_relationship!B15-moment_cd_relationship!B16)/(moment_cd_relationship!A15-moment_cd_relationship!A16))+moment_cd_relationship!B15)*'LiFFT_v1.4.0'!$J$32","v":{"$error":"#VALUE!"}}]
[14,3.1999999999999999E-6,{"$f":"(('LiFFT_v1.4.0'!$H$5-moment_cd_relationship!A16)*((moment_cd_relationship!B16-moment_cd_relationship!B17)/(moment_cd_relationship!A16-moment_cd_relationship!A17))+moment_cd_relationship!B16)*'LiFFT_v1.4.0'!$J$5","v":4.9499999999999995E-3},{"$f":"(('LiFFT_v1.4.0'!$H$8-moment_cd_relationship!A16)*((moment_cd_relationship!B16-moment_cd_relationship!B17)/(moment_cd_relationship!A16-moment_cd_relationship!A17))+moment_cd_relationship!B16)*'LiFFT_v1.4.0'!$J$8","v":{"$error":"#VALUE!"}},{"$f":"(('LiFFT_v1.4.0'!$H$11-moment_cd_relationship!A16)*((moment_cd_relationship!B16-moment_cd_relationship!B17)/(moment_cd_relationship!A16-moment_cd_relationship!A17))+moment_cd_relationship!B16)*'LiFFT_v1.4.0'!$J$11","v":{"$error":"#VALUE!"}},{"$f":"(('LiFFT_v1.4.0'!$H$14-moment_cd_relationship!A16)*((moment_cd_relationship!B16-moment_cd_relationship!B17)/(moment_cd_relationship!A16-moment_cd_relationship!A17))+moment_cd_relationship!B16)*'LiFFT_v1.4.0'!$J$14","v":{"$error":"#VALUE!"}},{"$f":"(('LiFFT_v1.4.0'!$H$17-moment_cd_relationship!A16)*((moment_cd_relationship!B16-moment_cd_relationship!B17)/(moment_cd_relationship!A16-moment_cd_relationship!A17))+moment_cd_relationship!B16)*'LiFFT_v1.4.0'!$J$17","v":{"$error":"#VALUE!"}},{"$f":"(('LiFFT_v1.4.0'!$H$20-moment_cd_relationship!A16)*((moment_cd_relationship!B16-moment_cd_relationship!B17)/(moment_cd_relationship!A16-moment_cd_relationship!A17))+moment_cd_relationship!B16)*'LiFFT_v1.4.0'!$J$20","v":{"$error":"#VALUE!"}},{"$f":"(('LiFFT_v1.4.0'!$H$23-moment_cd_relationship!A16)*((moment_cd_relationship!B16-moment_cd_relationship!B17)/(moment_cd_relationship!A16-moment_cd_relationship!A17))+moment_cd_relationship!B16)*'LiFFT_v1.4.0'!$J$23","v":{"$error":"#VALUE!"}},{"$f":"(('LiFFT_v1.4.0'!$H$26-moment_cd_relationship!A16)*((moment_cd_relationship!B16-moment_cd_relationship!B17)/(moment_cd_relationship!A16-moment_cd_relationship!A17))+moment_cd_relationship!B16)*'LiFFT_v1.4.0'!$J$26","v":{"$error":"#VALUE!"}},{"$f":"(('LiFFT_v1.4.0'!$H$29-moment_cd_relationship!A16)*((moment_cd_relationship!B16-moment_cd_relationship!B17)/(moment_cd_relationship!A16-moment_cd_relationship!A17))+moment_cd_relationship!B16)*'LiFFT_v1.4.0'!$J$29","v":{"$error":"#VALUE!"}},{"$f":"(('LiFFT_v1.4.0'!$H$32-moment_cd_relationship!A16)*((moment_cd_relationship!B16-moment_cd_relationship!B17)/(moment_cd_relationship!A16-moment_cd_relationship!A17))+moment_cd_relationship!B16)*'LiFFT_v1.4.0'!$J$32","v":{"$error":"#VALUE!"}}]
[15,3.4000000000000001E-6,{"$f":"(('LiFFT_v1.4.0'!$H$5-moment_cd_relationship!A17)*((moment_cd_relationship!B17-moment_cd_relationship!B18)/(moment_cd_relationship!A17-moment_cd_relationship!A18))+moment_cd_relationship!B17)*'LiFFT_v1.4.0'!$J$5","v":5.1000000000000004E-3},{"$f":"(('LiFFT_v1.4.0'!$H$8-moment_cd_relationship!A17)*((moment_cd_relationship!B17-moment_cd_relationship!B18)/(moment_cd_relationship!A17-moment_cd_relationship!A18))+moment_cd_relationship!B17)*'LiFFT_v1.4.0'!$J$8","v":{"$error":"#VALUE!"}},{"$f":"(('LiFFT_v1.4.0'!$H$11-moment_cd_relationship!A17)*((moment_cd_relationship!B17-moment_cd_relationship!B18)/(moment_cd_relationship!A17-moment_cd_relationship!A18))+moment_cd_relationship!B17)*'LiFFT_v1.4.0'!$J$11","v":{"$error":"#VALUE!"}},{"$f":"(('LiFFT_v1.4.0'!$H$14-moment_cd_relationship!A17)*((moment_cd_relationship!B17-moment_cd_relationship!B18)/(moment_cd_relationship!A17-moment_cd_relationship!A18))+moment_cd_relationship!B17)*'LiFFT_v1.4.0'!$J$14","v":{"$error":"#VALUE!"}},{"$f":"(('LiFFT_v1.4.0'!$H$17-moment_cd_relationship!A17)*((moment_cd_relationship!B17-moment_cd_relationship!B18)/(moment_cd_relationship!A17-moment_cd_relationship!A18))+moment_cd_relationship!B17)*'LiFFT_v1.4.0'!$J$17","v":{"$error":"#VALUE!"}},{"$f":"(('LiFFT_v1.4.0'!$H$20-moment_cd_relationship!A17)*((moment_cd_relationship!B17-moment_cd_relationship!B18)/(moment_cd_relationship!A17-moment_cd_relationship!A18))+moment_cd_relationship!B17)*'LiFFT_v1.4.0'!$J$20","v":{"$error":"#VALUE!"}},{"$f":"(('LiFFT_v1.4.0'!$H$23-moment_cd_relationship!A17)*((moment_cd_relationship!B17-moment_cd_relationship!B18)/(moment_cd_relationship!A17-moment_cd_relationship!A18))+moment_cd_relationship!B17)*'LiFFT_v1.4.0'!$J$23","v":{"$error":"#VALUE!"}},{"$f":"(('LiFFT_v1.4.0'!$H$26-moment_cd_relationship!A17)*((moment_cd_relationship!B17-moment_cd_relationship!B18)/(moment_cd_relationship!A17-moment_cd_relationship!A18))+moment_cd_relationship!B17)*'LiFFT_v1.4.0'!$J$26","v":{"$error":"#VALUE!"}},{"$f":"(('LiFFT_v1.4.0'!$H$29-moment_cd_relationship!A17)*((moment_cd_relationship!B17-moment_cd_relationship!B18)/(moment_cd_relationship!A17-moment_cd_relationship!A18))+moment_cd_relationship!B17)*'LiFFT_v1.4.0'!$J$29","v":{"$error":"#VALUE!"}},{"$f":"(('LiFFT_v1.4.0'!$H$32-moment_cd_relationship!A17)*((moment_cd_relationship!B17-moment_cd_relationship!B18)/(moment_cd_relationship!A17-moment_cd_relationship!A18))+moment_cd_relationship!B17)*'LiFFT_v1.4.0'!$J$32","v":{"$error":"#VALUE!"}}]
[16,3.5999999999999998E-6,{"$f":"(('LiFFT_v1.4.0'!$H$5-moment_cd_relationship!A18)*((moment_cd_relationship!B18-moment_cd_relationship!B19)/(moment_cd_relationship!A18-moment_cd_relationship!A19))+moment_cd_relationship!B18)*'LiFFT_v1.4.0'!$J$5","v":5.1000000000000004E-3},{"$f":"(('LiFFT_v1.4.0'!$H$8-moment_cd_relationship!A18)*((moment_cd_relationship!B18-moment_cd_relationship!B19)/(moment_cd_relationship!A18-moment_cd_relationship!A19))+moment_cd_relationship!B18)*'LiFFT_v1.4.0'!$J$8","v":{"$error":"#VALUE!"}},{"$f":"(('LiFFT_v1.4.0'!$H$11-moment_cd_relationship!A18)*((moment_cd_relationship!B18-moment_cd_relationship!B19)/(moment_cd_relationship!A18-moment_cd_relationship!A19))+moment_cd_relationship!B18)*'LiFFT_v1.4.0'!$J$11","v":{"$error":"#VALUE!"}},{"$f":"(('LiFFT_v1.4.0'!$H$14-moment_cd_relationship!A18)*((moment_cd_relationship!B18-moment_cd_relationship!B19)/(moment_cd_relationship!A18-moment_cd_relationship!A19))+moment_cd_relationship!B18)*'LiFFT_v1.4.0'!$J$14","v":{"$error":"#VALUE!"}},{"$f":"(('LiFFT_v1.4.0'!$H$17-moment_cd_relationship!A18)*((moment_cd_relationship!B18-moment_cd_relationship!B19)/(moment_cd_relationship!A18-moment_cd_relationship!A19))+moment_cd_relationship!B18)*'LiFFT_v1.4.0'!$J$17","v":{"$error":"#VALUE!"}},{"$f":"(('LiFFT_v1.4.0'!$H$20-moment_cd_relationship!A18)*((moment_cd_relationship!B18-moment_cd_relationship!B19)/(moment_cd_relationship!A18-moment_cd_relationship!A19))+moment_cd_relationship!B18)*'LiFFT_v1.4.0'!$J$20","v":{"$error":"#VALUE!"}},{"$f":"(('LiFFT_v1.4.0'!$H$23-moment_cd_relationship!A18)*((moment_cd_relationship!B18-moment_cd_relationship!B19)/(moment_cd_relationship!A18-moment_cd_relationship!A19))+moment_cd_relationship!B18)*'LiFFT_v1.4.0'!$J$23","v":{"$error":"#VALUE!"}},{"$f":"(('LiFFT_v1.4.0'!$H$26-moment_cd_relationship!A18)*((moment_cd_relationship!B18-moment_cd_relationship!B19)/(moment_cd_relationship!A18-moment_cd_relationship!A19))+moment_cd_relationship!B18)*'LiFFT_v1.4.0'!$J$26","v":{"$error":"#VALUE!"}},{"$f":"(('LiFFT_v1.4.0'!$H$29-moment_cd_relationship!A18)*((moment_cd_relationship!B18-moment_cd_relationship!B19)/(moment_cd_relationship!A18-moment_cd_relationship!A19))+moment_cd_relationship!B18)*'LiFFT_v1.4.0'!$J$29","v":{"$error":"#VALUE!"}},{"$f":"(('LiFFT_v1.4.0'!$H$32-moment_cd_relationship!A18)*((moment_cd_relationship!B18-moment_cd_relationship!B19)/(moment_cd_relationship!A18-moment_cd_relationship!A19))+moment_cd_relationship!B18)*'LiFFT_v1.4.0'!$J$32","v":{"$error":"#VALUE!"}}]
[17,3.8E-6,{"$f":"(('LiFFT_v1.4.0'!$H$5-moment_cd_relationship!A19)*((moment_cd_relationship!B19-moment_cd_relationship!B20)/(moment_cd_relationship!A19-moment_cd_relationship!A20))+moment_cd_relationship!B19)*'LiFFT_v1.4.0'!$J$5","v":5.0999999999999995E-3},{"$f":"(('LiFFT_v1.4.0'!$H$8-moment_cd_relationship!A19)*((moment_cd_relationship!B19-moment_cd_relationship!B20)/(moment_cd_relationship!A19-moment_cd_relationship!A20))+moment_cd_relationship!B19)*'LiFFT_v1.4.0'!$J$8","v":{"$error":"#VALUE!"}},{"$f":"(('LiFFT_v1.4.0'!$H$11-moment_cd_relationship!A19)*((moment_cd_relationship!B19-moment_cd_relationship!B20)/(moment_cd_relationship!A19-moment_cd_relationship!A20))+moment_cd_relationship!B19)*'LiFFT_v1.4.0'!$J$11","v":{"$error":"#VALUE!"}},{"$f":"(('LiFFT_v1.4.0'!$H$14-moment_cd_relationship!A19)*((moment_cd_relationship!B19-moment_cd_relationship!B20)/(moment_cd_relationship!A19-moment_cd_relationship!A20))+moment_cd_relationship!B19)*'LiFFT_v1.4.0'!$J$14","v":{"$error":"#VALUE!"}},{"$f":"(('LiFFT_v1.4.0'!$H$17-moment_cd_relationship!A19)*((moment_cd_relationship!B19-moment_cd_relationship!B20)/(moment_cd_relationship!A19-moment_cd_relationship!A20))+moment_cd_relationship!B19)*'LiFFT_v1.4.0'!$J$17","v":{"$error":"#VALUE!"}},{"$f":"(('LiFFT_v1.4.0'!$H$20-moment_cd_relationship!A19)*((moment_cd_relationship!B19-moment_cd_relationship!B20)/(moment_cd_relationship!A19-moment_cd_relationship!A20))+moment_cd_relationship!B19)*'LiFFT_v1.4.0'!$J$20","v":{"$error":"#VALUE!"}},{"$f":"(('LiFFT_v1.4.0'!$H$23-moment_cd_relationship!A19)*((moment_cd_relationship!B19-moment_cd_relationship!B20)/(moment_cd_relationship!A19-moment_cd_relationship!A20))+moment_cd_relationship!B19)*'LiFFT_v1.4.0'!$J$23","v":{"$error":"#VALUE!"}},{"$f":"(('LiFFT_v1.4.0'!$H$26-moment_cd_relationship!A19)*((moment_cd_relationship!B19-moment_cd_relationship!B20)/(moment_cd_relationship!A19-moment_cd_relationship!A20))+moment_cd_relationship!B19)*'LiFFT_v1.4.0'!$J$26","v":{"$error":"#VALUE!"}},{"$f":"(('LiFFT_v1.4.0'!$H$29-moment_cd_relationship!A19)*((moment_cd_relationship!B19-moment_cd_relationship!B20)/(moment_cd_relationship!A19-moment_cd_relationship!A20))+moment_cd_relationship!B19)*'LiFFT_v1.4.0'!$J$29","v":{"$error":"#VALUE!"}},{"$f":"(('LiFFT_v1.4.0'!$H$32-moment_cd_relationship!A19)*((moment_cd_relationship!B19-moment_cd_relationship!B20)/(moment_cd_relationship!A19-moment_cd_relationship!A20))+moment_cd_relationship!B19)*'LiFFT_v1.4.0'!$J$32","v":{"$error":"#VALUE!"}}]
[18,3.9999999999999998E-6,{"$f":"(('LiFFT_v1.4.0'!$H$5-moment_cd_relationship!A20)*((moment_cd_relationship!B20-moment_cd_relationship!B21)/(moment_cd_relationship!A20-moment_cd_relationship!A21))+moment_cd_relationship!B20)*'LiFFT_v1.4.0'!$J$5","v":5.1000000000000004E-3},{"$f":"(('LiFFT_v1.4.0'!$H$8-moment_cd_relationship!A20)*((moment_cd_relationship!B20-moment_cd_relationship!B21)/(moment_cd_relationship!A20-moment_cd_relationship!A21))+moment_cd_relationship!B20)*'LiFFT_v1.4.0'!$J$8","v":{"$error":"#VALUE!"}},{"$f":"(('LiFFT_v1.4.0'!$H$11-moment_cd_relationship!A20)*((moment_cd_relationship!B20-moment_cd_relationship!B21)/(moment_cd_relationship!A20-moment_cd_relationship!A21))+moment_cd_relationship!B20)*'LiFFT_v1.4.0'!$J$11","v":{"$error":"#VALUE!"}},{"$f":"(('LiFFT_v1.4.0'!$H$14-moment_cd_relationship!A20)*((moment_cd_relationship!B20-moment_cd_relationship!B21)/(moment_cd_relationship!A20-moment_cd_relationship!A21))+moment_cd_relationship!B20)*'LiFFT_v1.4.0'!$J$14","v":{"$error":"#VALUE!"}},{"$f":"(('LiFFT_v1.4.0'!$H$17-moment_cd_relationship!A20)*((moment_cd_relationship!B20-moment_cd_relationship!B21)/(moment_cd_relationship!A20-moment_cd_relationship!A21))+moment_cd_relationship!B20)*'LiFFT_v1.4.0'!$J$17","v":{"$error":"#VALUE!"}},{"$f":"(('LiFFT_v1.4.0'!$H$20-moment_cd_relationship!A20)*((moment_cd_relationship!B20-moment_cd_relationship!B21)/(moment_cd_relationship!A20-moment_cd_relationship!A21))+moment_cd_relationship!B20)*'LiFFT_v1.4.0'!$J$20","v":{"$error":"#VALUE!"}},{"$f":"(('LiFFT_v1.4.0'!$H$23-moment_cd_relationship!A20)*((moment_cd_relationship!B20-moment_cd_relationship!B21)/(moment_cd_relationship!A20-moment_cd_relationship!A21))+moment_cd_relationship!B20)*'LiFFT_v1.4.0'!$J$23","v":{"$error":"#VALUE!"}},{"$f":"(('LiFFT_v1.4.0'!$H$26-moment_cd_relationship!A20)*((moment_cd_relationship!B20-moment_cd_relationship!B21)/(moment_cd_relationship!A20-moment_cd_relationship!A21))+moment_cd_relationship!B20)*'LiFFT_v1.4.0'!$J$26","v":{"$error":"#VALUE!"}},{"$f":"(('LiFFT_v1.4.0'!$H$29-moment_cd_relationship!A20)*((moment_cd_relationship!B20-moment_cd_relationship!B21)/(moment_cd_relationship!A20-moment_cd_relationship!A21))+moment_cd_relationship!B20)*'LiFFT_v1.4.0'!$J$29","v":{"$error":"#VALUE!"}},{"$f":"(('LiFFT_v1.4.0'!$H$32-moment_cd_relationship!A20)*((moment_cd_relationship!B20-moment_cd_relationship!B21)/(moment_cd_relationship!A20-moment_cd_relationship!A21))+moment_cd_relationship!B20)*'LiFFT_v1.4.0'!$J$32","v":{"$error":"#VALUE!"}}]
[19,4.1999999999999996E-6,{"$f":"(('LiFFT_v1.4.0'!$H$5-moment_cd_relationship!A21)*((moment_cd_relationship!B21-moment_cd_relationship!B22)/(moment_cd_relationship!A21-moment_cd_relationship!A22))+moment_cd_relationship!B21)*'LiFFT_v1.4.0'!$J$5","v":5.1000000000000004E-3},{"$f":"(('LiFFT_v1.4.0'!$H$8-moment_cd_relationship!A21)*((moment_cd_relationship!B21-moment_cd_relationship!B22)/(moment_cd_relationship!A21-moment_cd_relationship!A22))+moment_cd_relationship!B21)*'LiFFT_v1.4.0'!$J$8","v":{"$error":"#VALUE!"}},{"$f":"(('LiFFT_v1.4.0'!$H$11-moment_cd_relationship!A21)*((moment_cd_relationship!B21-moment_cd_relationship!B22)/(moment_cd_relationship!A21-moment_cd_relationship!A22))+moment_cd_relationship!B21)*'LiFFT_v1.4.0'!$J$11","v":{"$error":"#VALUE!"}},{"$f":"(('LiFFT_v1.4.0'!$H$14-moment_cd_relationship!A21)*((moment_cd_relationship!B21-moment_cd_relationship!B22)/(moment_cd_relationship!A21-moment_cd_relationship!A22))+moment_cd_relationship!B21)*'LiFFT_v1.4.0'!$J$14","v":{"$error":"#VALUE!"}},{"$f":"(('LiFFT_v1.4.0'!$H$17-moment_cd_relationship!A21)*((moment_cd_relationship!B21-moment_cd_relationship!B22)/(moment_cd_relationship!A21-moment_cd_relationship!A22))+moment_cd_relationship!B21)*'LiFFT_v1.4.0'!$J$17","v":{"$error":"#VALUE!"}},{"$f":"(('LiFFT_v1.4.0'!$H$20-moment_cd_relationship!A21)*((moment_cd_relationship!B21-moment_cd_relationship!B22)/(moment_cd_relationship!A21-moment_cd_relationship!A22))+moment_cd_relationship!B21)*'LiFFT_v1.4.0'!$J$20","v":{"$error":"#VALUE!"}},{"$f":"(('LiFFT_v1.4.0'!$H$23-moment_cd_relationship!A21)*((moment_cd_relationship!B21-moment_cd_relationship!B22)/(moment_cd_relationship!A21-moment_cd_relationship!A22))+moment_cd_relationship!B21)*'LiFFT_v1.4.0'!$J$23","v":{"$error":"#VALUE!"}},{"$f":"(('LiFFT_v1.4.0'!$H$26-moment_cd_relationship!A21)*((moment_cd_relationship!B21-moment_cd_relationship!B22)/(moment_cd_relationship!A21-moment_cd_relationship!A22))+moment_cd_relationship!B21)*'LiFFT_v1.4.0'!$J$26","v":{"$error":"#VALUE!"}},{"$f":"(('LiFFT_v1.4.0'!$H$29-moment_cd_relationship!A21)*((moment_cd_relationship!B21-moment_cd_relationship!B22)/(moment_cd_relationship!A21-moment_cd_relationship!A22))+moment_cd_relationship!B21)*'LiFFT_v1.4.0'!$J$29","v":{"$error":"#VALUE!"}},{"$f":"(('LiFFT_v1.4.0'!$H$32-moment_cd_relationship!A21)*((moment_cd_relationship!B21-moment_cd_relationship!B22)/(moment_cd_relationship!A21-moment_cd_relationship!A22))+moment_cd_relationship!B21)*'LiFFT_v1.4.0'!$J$32","v":{"$error":"#VALUE!"}}]
[20,4.4000000000000002E-6,{"$f":"(('LiFFT_v1.4.0'!$H$5-moment_cd_relationship!A22)*((moment_cd_relationship!B22-moment_cd_relationship!B23)/(moment_cd_relationship!A22-moment_cd_relationship!A23))+moment_cd_relationship!B22)*'LiFFT_v1.4.0'!$J$5","v":5.099999999999996E-3},{"$f":"(('LiFFT_v1.4.0'!$H$8-moment_cd_relationship!A22)*((moment_cd_relationship!B22-moment_cd_relationship!B23)/(moment_cd_relationship!A22-moment_cd_relationship!A23))+moment_cd_relationship!B22)*'LiFFT_v1.4.0'!$J$8","v":{"$error":"#VALUE!"}},{"$f":"(('LiFFT_v1.4.0'!$H$11-moment_cd_relationship!A22)*((moment_cd_relationship!B22-moment_cd_relationship!B23)/(moment_cd_relationship!A22-moment_cd_relationship!A23))+moment_cd_relationship!B22)*'LiFFT_v1.4.0'!$J$11","v":{"$error":"#VALUE!"}},{"$f":"(('LiFFT_v1.4.0'!$H$14-moment_cd_relationship!A22)*((moment_cd_relationship!B22-moment_cd_relationship!B23)/(moment_cd_relationship!A22-moment_cd_relationship!A23))+moment_cd_relationship!B22)*'LiFFT_v1.4.0'!$J$14","v":{"$error":"#VALUE!"}},{"$f":"(('LiFFT_v1.4.0'!$H$17-moment_cd_relationship!A22)*((moment_cd_relationship!B22-moment_cd_relationship!B23)/(moment_cd_relationship!A22-moment_cd_relationship!A23))+moment_cd_relationship!B22)*'LiFFT_v1.4.0'!$J$17","v":{"$error":"#VALUE!"}},{"$f":"(('LiFFT_v1.4.0'!$H$20-moment_cd_relationship!A22)*((moment_cd_relationship!B22-moment_cd_relationship!B23)/(moment_cd_relationship!A22-moment_cd_relationship!A23))+moment_cd_relationship!B22)*'LiFFT_v1.4.0'!$J$20","v":{"$error":"#VALUE!"}},{"$f":"(('LiFFT_v1.4.0'!$H$23-moment_cd_relationship!A22)*((moment_cd_relationship!B22-moment_cd_relationship!B23)/(moment_cd_relationship!A22-moment_cd_relationship!A23))+moment_cd_relationship!B22)*'LiFFT_v1.4.0'!$J$23","v":{"$error":"#VALUE!"}},{"$f":"(('LiFFT_v1.4.0'!$H$26-moment_cd_relationship!A22)*((moment_cd_relationship!B22-moment_cd_relationship!B23)/(moment_cd_relationship!A22-moment_cd_relationship!A23))+moment_cd_relationship!B22)*'LiFFT_v1.4.0'!$J$26","v":{"$error":"#VALUE!"}},{"$f":"(('LiFFT_v1.4.0'!$H$29-moment_cd_relationship!A22)*((moment_cd_relationship!B22-moment_cd_relationship!B23)/(moment_cd_relationship!A22-moment_cd_relationship!A23))+moment_cd_relationship!B22)*'LiFFT_v1.4.0'!$J$29","v":{"$error":"#VALUE!"}},{"$f":"(('LiFFT_v1.4.0'!$H$32-moment_cd_relationship!A22)*((moment_cd_relationship!B22-moment_cd_relationship!B23)/(moment_cd_relationship!A22-moment_cd_relationship!A23))+moment_cd_relationship!B22)*'LiFFT_v1.4.0'!$J$32","v":{"$error":"#VALUE!"}}]
[21,4.6E-6,{"$f":"(('LiFFT_v1.4.0'!$H$5-moment_cd_relationship!A23)*((moment_cd_relationship!B23-moment_cd_relationship!B24)/(moment_cd_relationship!A23-moment_cd_relationship!A24))+moment_cd_relationship!B23)*'LiFFT_v1.4.0'!$J$5","v":5.1000000000000021E-3},{"$f":"(('LiFFT_v1.4.0'!$H$8-moment_cd_relationship!A23)*((moment_cd_relationship!B23-moment_cd_relationship!B24)/(moment_cd_relationship!A23-moment_cd_relationship!A24))+moment_cd_relationship!B23)*'LiFFT_v1.4.0'!$J$8","v":{"$error":"#VALUE!"}},{"$f":"(('LiFFT_v1.4.0'!$H$11-moment_cd_relationship!A23)*((moment_cd_relationship!B23-moment_cd_relationship!B24)/(moment_cd_relationship!A23-moment_cd_relationship!A24))+moment_cd_relationship!B23)*'LiFFT_v1.4.0'!$J$11","v":{"$error":"#VALUE!"}},{"$f":"(('LiFFT_v1.4.0'!$H$14-moment_cd_relationship!A23)*((moment_cd_relationship!B23-moment_cd_relationship!B24)/(moment_cd_relationship!A23-moment_cd_relationship!A24))+moment_cd_relationship!B23)*'LiFFT_v1.4.0'!$J$14","v":{"$error":"#VALUE!"}},{"$f":"(('LiFFT_v1.4.0'!$H$17-moment_cd_relationship!A23)*((moment_cd_relationship!B23-moment_cd_relationship!B24)/(moment_cd_relationship!A23-moment_cd_relationship!A24))+moment_cd_relationship!B23)*'LiFFT_v1.4.0'!$J$17","v":{"$error":"#VALUE!"}},{"$f":"(('LiFFT_v1.4.0'!$H$20-moment_cd_relationship!A23)*((moment_cd_relationship!B23-moment_cd_relationship!B24)/(moment_cd_relationship!A23-moment_cd_relationship!A24))+moment_cd_relationship!B23)*'LiFFT_v1.4.0'!$J$20","v":{"$error":"#VALUE!"}},{"$f":"(('LiFFT_v1.4.0'!$H$23-moment_cd_relationship!A23)*((moment_cd_relationship!B23-moment_cd_relationship!B24)/(moment_cd_relationship!A23-moment_cd_relationship!A24))+moment_cd_relationship!B23)*'LiFFT_v1.4.0'!$J$23","v":{"$error":"#VALUE!"}},{"$f":"(('LiFFT_v1.4.0'!$H$26-moment_cd_relationship!A23)*((moment_cd_relationship!B23-moment_cd_relationship!B24)/(moment_cd_relationship!A23-moment_cd_relationship!A24))+moment_cd_relationship!B23)*'LiFFT_v1.4.0'!$J$26","v":{"$error":"#VALUE!"}},{"$f":"(('LiFFT_v1.4.0'!$H$29-moment_cd_relationship!A23)*((moment_cd_relationship!B23-moment_cd_relationship!B24)/(moment_cd_relationship!A23-moment_cd_relationship!A24))+moment_cd_relationship!B23)*'LiFFT_v1.4.0'!$J$29","v":{"$error":"#VALUE!"}},{"$f":"(('LiFFT_v1.4.0'!$H$32-moment_cd_relationship!A23)*((moment_cd_relationship!B23-moment_cd_relationship!B24)/(moment_cd_relationship!A23-moment_cd_relationship!A24))+moment_cd_relationship!B23)*'LiFFT_v1.4.0'!$J$32","v":{"$error":"#VALUE!"}}]
[22,4.7999999999999998E-6,{"$f":"(('LiFFT_v1.4.0'!$H$5-moment_cd_relationship!A24)*((moment_cd_relationship!B24-moment_cd_relationship!B25)/(moment_cd_relationship!A24-moment_cd_relationship!A25))+moment_cd_relationship!B24)*'LiFFT_v1.4.0'!$J$5","v":5.1000000000000021E-3},{"$f":"(('LiFFT_v1.4.0'!$H$8-moment_cd_relationship!A24)*((moment_cd_relationship!B24-moment_cd_relationship!B25)/(moment_cd_relationship!A24-moment_cd_relationship!A25))+moment_cd_relationship!B24)*'LiFFT_v1.4.0'!$J$8","v":{"$error":"#VALUE!"}},{"$f":"(('LiFFT_v1.4.0'!$H$11-moment_cd_relationship!A24)*((moment_cd_relationship!B24-moment_cd_relationship!B25)/(moment_cd_relationship!A24-moment_cd_relationship!A25))+moment_cd_relationship!B24)*'LiFFT_v1.4.0'!$J$11","v":{"$error":"#VALUE!"}},{"$f":"(('LiFFT_v1.4.0'!$H$14-moment_cd_relationship!A24)*((moment_cd_relationship!B24-moment_cd_relationship!B25)/(moment_cd_relationship!A24-moment_cd_relationship!A25))+moment_cd_relationship!B24)*'LiFFT_v1.4.0'!$J$14","v":{"$error":"#VALUE!"}},{"$f":"(('LiFFT_v1.4.0'!$H$17-moment_cd_relationship!A24)*((moment_cd_relationship!B24-moment_cd_relationship!B25)/(moment_cd_relationship!A24-moment_cd_relationship!A25))+moment_cd_relationship!B24)*'LiFFT_v1.4.0'!$J$17","v":{"$error":"#VALUE!"}},{"$f":"(('LiFFT_v1.4.0'!$H$20-moment_cd_relationship!A24)*((moment_cd_relationship!B24-moment_cd_relationship!B25)/(moment_cd_relationship!A24-moment_cd_relationship!A25))+moment_cd_relationship!B24)*'LiFFT_v1.4.0'!$J$20","v":{"$error":"#VALUE!"}},{"$f":"(('LiFFT_v1.4.0'!$H$23-moment_cd_relationship!A24)*((moment_cd_relationship!B24-moment_cd_relationship!B25)/(moment_cd_relationship!A24-moment_cd_relationship!A25))+moment_cd_relationship!B24)*'LiFFT_v1.4.0'!$J$23","v":{"$error":"#VALUE!"}},{"$f":"(('LiFFT_v1.4.0'!$H$26-moment_cd_relationship!A24)*((moment_cd_relationship!B24-moment_cd_relationship!B25)/(moment_cd_relationship!A24-moment_cd_relationship!A25))+moment_cd_relationship!B24)*'LiFFT_v1.4.0'!$J$26","v":{"$error":"#VALUE!"}},{"$f":"(('LiFFT_v1.4.0'!$H$29-moment_cd_relationship!A24)*((moment_cd_relationship!B24-moment_cd_relationship!B25)/(moment_cd_relationship!A24-moment_cd_relationship!A25))+moment_cd_relationship!B24)*'LiFFT_v1.4.0'!$J$29","v":{"$error":"#VALUE!"}},{"$f":"(('LiFFT_v1.4.0'!$H$32-moment_cd_relationship!A24)*((moment_cd_relationship!B24-moment_cd_relationship!B25)/(moment_cd_relationship!A24-moment_cd_relationship!A25))+moment_cd_relationship!B24)*'LiFFT_v1.4.0'!$J$32","v":{"$error":"#VALUE!"}}]
[23,5.1000000000000003E-6,{"$f":"(('LiFFT_v1.4.0'!$H$5-moment_cd_relationship!A25)*((moment_cd_relationship!B25-moment_cd_relationship!B26)/(moment_cd_relationship!A25-moment_cd_relationship!A26))+moment_cd_relationship!B25)*'LiFFT_v1.4.0'!$J$5","v":4.0499999999999946E-3},{"$f":"(('LiFFT_v1.4.0'!$H$8-moment_cd_relationship!A25)*((moment_cd_relationship!B25-moment_cd_relationship!B26)/(moment_cd_relationship!A25-moment_cd_relationship!A26))+moment_cd_relationship!B25)*'LiFFT_v1.4.0'!$J$8","v":{"$error":"#VALUE!"}},{"$f":"(('LiFFT_v1.4.0'!$H$11-moment_cd_relationship!A25)*((moment_cd_relationship!B25-moment_cd_relationship!B26)/(moment_cd_relationship!A25-moment_cd_relationship!A26))+moment_cd_relationship!B25)*'LiFFT_v1.4.0'!$J$11","v":{"$error":"#VALUE!"}},{"$f":"(('LiFFT_v1.4.0'!$H$14-moment_cd_relationship!A25)*((moment_cd_relationship!B25-moment_cd_relationship!B26)/(moment_cd_relationship!A25-moment_cd_relationship!A26))+moment_cd_relationship!B25)*'LiFFT_v1.4.0'!$J$14","v":{"$error":"#VALUE!"}},{"$f":"(('LiFFT_v1.4.0'!$H$17-moment_cd_relationship!A25)*((moment_cd_relationship!B25-moment_cd_relationship!B26)/(moment_cd_relationship!A25-moment_cd_relationship!A26))+moment_cd_relationship!B25)*'LiFFT_v1.4.0'!$J$17","v":{"$error":"#VALUE!"}},{"$f":"(('LiFFT_v1.4.0'!$H$20-moment_cd_relationship!A25)*((moment_cd_relationship!B25-moment_cd_relationship!B26)/(moment_cd_relationship!A25-moment_cd_relationship!A26))+moment_cd_relationship!B25)*'LiFFT_v1.4.0'!$J$20","v":{"$error":"#VALUE!"}},{"$f":"(('LiFFT_v1.4.0'!$H$23-moment_cd_relationship!A25)*((moment_cd_relationship!B25-moment_cd_relationship!B26)/(moment_cd_relationship!A25-moment_cd_relationship!A26))+moment_cd_relationship!B25)*'LiFFT_v1.4.0'!$J$23","v":{"$error":"#VALUE!"}},{"$f":"(('LiFFT_v1.4.0'!$H$26-moment_cd_relationship!A25)*((moment_cd_relationship!B25-moment_cd_relationship!B26)/(moment_cd_relationship!A25-moment_cd_relationship!A26))+moment_cd_relationship!B25)*'LiFFT_v1.4.0'!$J$26","v":{"$error":"#VALUE!"}},{"$f":"(('LiFFT_v1.4.0'!$H$29-moment_cd_relationship!A25)*((moment_cd_relationship!B25-moment_cd_relationship!B26)/(moment_cd_relationship!A25-moment_cd_relationship!A26))+moment_cd_relationship!B25)*'LiFFT_v1.4.0'!$J$29","v":{"$error":"#VALUE!"}},{"$f":"(('LiFFT_v1.4.0'!$H$32-moment_cd_relationship!A25)*((moment_cd_relationship!B25-moment_cd_relationship!B26)/(moment_cd_relationship!A25-moment_cd_relationship!A26))+moment_cd_relationship!B25)*'LiFFT_v1.4.0'!$J$32","v":{"$error":"#VALUE!"}}]
[24,5.3000000000000001E-6,{"$f":"(('LiFFT_v1.4.0'!$H$5-moment_cd_relationship!A26)*((moment_cd_relationship!B26-moment_cd_relationship!B27)/(moment_cd_relationship!A26-moment_cd_relationship!A27))+moment_cd_relationship!B26)*'LiFFT_v1.4.0'!$J$5","v":5.2500000000000029E-3},{"$f":"(('LiFFT_v1.4.0'!$H$8-moment_cd_relationship!A26)*((moment_cd_relationship!B26-moment_cd_relationship!B27)/(moment_cd_relationship!A26-moment_cd_relationship!A27))+moment_cd_relationship!B26)*'LiFFT_v1.4.0'!$J$8","v":{"$error":"#VALUE!"}},{"$f":"(('LiFFT_v1.4.0'!$H$11-moment_cd_relationship!A26)*((moment_cd_relationship!B26-moment_cd_relationship!B27)/(moment_cd_relationship!A26-moment_cd_relationship!A27))+moment_cd_relationship!B26)*'LiFFT_v1.4.0'!$J$11","v":{"$error":"#VALUE!"}},{"$f":"(('LiFFT_v1.4.0'!$H$14-moment_cd_relationship!A26)*((moment_cd_relationship!B26-moment_cd_relationship!B27)/(moment_cd_relationship!A26-moment_cd_relationship!A27))+moment_cd_relationship!B26)*'LiFFT_v1.4.0'!$J$14","v":{"$error":"#VALUE!"}},{"$f":"(('LiFFT_v1.4.0'!$H$17-moment_cd_relationship!A26)*((moment_cd_relationship!B26-moment_cd_relationship!B27)/(moment_cd_relationship!A26-moment_cd_relationship!A27))+moment_cd_relationship!B26)*'LiFFT_v1.4.0'!$J$17","v":{"$error":"#VALUE!"}},{"$f":"(('LiFFT_v1.4.0'!$H$20-moment_cd_relationship!A26)*((moment_cd_relationship!B26-moment_cd_relationship!B27)/(moment_cd_relationship!A26-moment_cd_relationship!A27))+moment_cd_relationship!B26)*'LiFFT_v1.4.0'!$J$20","v":{"$error":"#VALUE!"}},{"$f":"(('LiFFT_v1.4.0'!$H$23-moment_cd_relationship!A26)*((moment_cd_relationship!B26-moment_cd_relationship!B27)/(moment_cd_relationship!A26-moment_cd_relationship!A27))+moment_cd_relationship!B26)*'LiFFT_v1.4.0'!$J$23","v":{"$error":"#VALUE!"}},{"$f":"(('LiFFT_v1.4.0'!$H$26-moment_cd_relationship!A26)*((moment_cd_relationship!B26-moment_cd_relationship!B27)/(moment_cd_relationship!A26-moment_cd_relationship!A27))+moment_cd_relationship!B26)*'LiFFT_v1.4.0'!$J$26","v":{"$error":"#VALUE!"}},{"$f":"(('LiFFT_v1.4.0'!$H$29-moment_cd_relationship!A26)*((moment_cd_relationship!B26-moment_cd_relationship!B27)/(moment_cd_relationship!A26-moment_cd_relationship!A27))+moment_cd_relationship!B26)*'LiFFT_v1.4.0'!$J$29","v":{"$error":"#VALUE!"}},{"$f":"(('LiFFT_v1.4.0'!$H$32-moment_cd_relationship!A26)*((moment_cd_relationship!B26-moment_cd_relationship!B27)/(moment_cd_relationship!A26-moment_cd_relationship!A27))+moment_cd_relationship!B26)*'LiFFT_v1.4.0'!$J$32","v":{"$error":"#VALUE!"}}]
[25,5.5999999999999997E-6,{"$f":"(('LiFFT_v1.4.0'!$H$5-moment_cd_relationship!A27)*((moment_cd_relationship!B27-moment_cd_relationship!B28)/(moment_cd_relationship!A27-moment_cd_relationship!A28))+moment_cd_relationship!B27)*'LiFFT_v1.4.0'!$J$5","v":3.9000000000000046E-3},{"$f":"(('LiFFT_v1.4.0'!$H$8-moment_cd_relationship!A27)*((moment_cd_relationship!B27-moment_cd_relationship!B28)/(moment_cd_relationship!A27-moment_cd_relationship!A28))+moment_cd_relationship!B27)*'LiFFT_v1.4.0'!$J$8","v":{"$error":"#VALUE!"}},{"$f":"(('LiFFT_v1.4.0'!$H$11-moment_cd_relationship!A27)*((moment_cd_relationship!B27-moment_cd_relationship!B28)/(moment_cd_relationship!A27-moment_cd_relationship!A28))+moment_cd_relationship!B27)*'LiFFT_v1.4.0'!$J$11","v":{"$error":"#VALUE!"}},{"$f":"(('LiFFT_v1.4.0'!$H$14-moment_cd_relationship!A27)*((moment_cd_relationship!B27-moment_cd_relationship!B28)/(moment_cd_relationship!A27-moment_cd_relationship!A28))+moment_cd_relationship!B27)*'LiFFT_v1.4.0'!$J$14","v":{"$error":"#VALUE!"}},{"$f":"(('LiFFT_v1.4.0'!$H$17-moment_cd_relationship!A27)*((moment_cd_relationship!B27-moment_cd_relationship!B28)/(moment_cd_relationship!A27-moment_cd_relationship!A28))+moment_cd_relationship!B27)*'LiFFT_v1.4.0'!$J$17","v":{"$error":"#VALUE!"}},{"$f":"(('LiFFT_v1.4.0'!$H$20-moment_cd_relationship!A27)*((moment_cd_relationship!B27-moment_cd_relationship!B28)/(moment_cd_relationship!A27-moment_cd_relationship!A28))+moment_cd_relationship!B27)*'LiFFT_v1.4.0'!$J$20","v":{"$error":"#VALUE!"}},{"$f":"(('LiFFT_v1.4.0'!$H$23-moment_cd_relationship!A27)*((moment_cd_relationship!B27-moment_cd_relationship!B28)/(moment_cd_relationship!A27-moment_cd_relationship!A28))+moment_cd_relationship!B27)*'LiFFT_v1.4.0'!$J$23","v":{"$error":"#VALUE!"}},{"$f":"(('LiFFT_v1.4.0'!$H$26-moment_cd_relationship!A27)*((moment_cd_relationship!B27-moment_cd_relationship!B28)/(moment_cd_relationship!A27-moment_cd_relationship!A28))+moment_cd_relationship!B27)*'LiFFT_v1.4.0'!$J$26","v":{"$error":"#VALUE!"}},{"$f":"(('LiFFT_v1.4.0'!$H$29-moment_cd_relationship!A27)*((moment_cd_relationship!B27-moment_cd_relationship!B28)/(moment_cd_relationship!A27-moment_cd_relationship!A28))+moment_cd_relationship!B27)*'LiFFT_v1.4.0'!$J$29","v":{"$error":"#VALUE!"}},{"$f":"(('LiFFT_v1.4.0'!$H$32-moment_cd_relationship!A27)*((moment_cd_relationship!B27-moment_cd_relationship!B28)/(moment_cd_relationship!A27-moment_cd_relationship!A28))+moment_cd_relationship!B27)*'LiFFT_v1.4.0'!$J$32","v":{"$error":"#VALUE!"}}]
[26,5.9000000000000003E-6,{"$f":"(('LiFFT_v1.4.0'!$H$5-moment_cd_relationship!A28)*((moment_cd_relationship!B28-moment_cd_relationship!B29)/(moment_cd_relationship!A28-moment_cd_relationship!A29))+moment_cd_relationship!B28)*'LiFFT_v1.4.0'!$J$5","v":3.899999999999992E-3},{"$f":"(('LiFFT_v1.4.0'!$H$8-moment_cd_relationship!A28)*((moment_cd_relationship!B28-moment_cd_relationship!B29)/(moment_cd_relationship!A28-moment_cd_relationship!A29))+moment_cd_relationship!B28)*'LiFFT_v1.4.0'!$J$8","v":{"$error":"#VALUE!"}},{"$f":"(('LiFFT_v1.4.0'!$H$11-moment_cd_relationship!A28)*((moment_cd_relationship!B28-moment_cd_relationship!B29)/(moment_cd_relationship!A28-moment_cd_relationship!A29))+moment_cd_relationship!B28)*'LiFFT_v1.4.0'!$J$11","v":{"$error":"#VALUE!"}},{"$f":"(('LiFFT_v1.4.0'!$H$14-moment_cd_relationship!A28)*((moment_cd_relationship!B28-moment_cd_relationship!B29)/(moment_cd_relationship!A28-moment_cd_relationship!A29))+moment_cd_relationship!B28)*'LiFFT_v1.4.0'!$J$14","v":{"$error":"#VALUE!"}},{"$f":"(('LiFFT_v1.4.0'!$H$17-moment_cd_relationship!A28)*((moment_cd_relationship!B28-moment_cd_relationship!B29)/(moment_cd_relationship!A28-moment_cd_relationship!A29))+moment_cd_relationship!B28)*'LiFFT_v1.4.0'!$J$17","v":{"$error":"#VALUE!"}},{"$f":"(('LiFFT_v1.4.0'!$H$20-moment_cd_relationship!A28)*((moment_cd_relationship!B28-moment_cd_relationship!B29)/(moment_cd_relationship!A28-moment_cd_relationship!A29))+moment_cd_relationship!B28)*'LiFFT_v1.4.0'!$J$20","v":{"$error":"#VALUE!"}},{"$f":"(('LiFFT_v1.4.0'!$H$23-moment_cd_relationship!A28)*((moment_cd_relationship!B28-moment_cd_relationship!B29)/(moment_cd_relationship!A28-moment_cd_relationship!A29))+moment_cd_relationship!B28)*'LiFFT_v1.4.0'!$J$23","v":{"$error":"#VALUE!"}},{"$f":"(('LiFFT_v1.4.0'!$H$26-moment_cd_relationship!A28)*((moment_cd_relationship!B28-moment_cd_relationship!B29)/(moment_cd_relationship!A28-moment_cd_relationship!A29))+moment_cd_relationship!B28)*'LiFFT_v1.4.0'!$J$26","v":{"$error":"#VALUE!"}},{"$f":"(('LiFFT_v1.4.0'!$H$29-moment_cd_relationship!A28)*((moment_cd_relationship!B28-moment_cd_relationship!B29)/(moment_cd_relationship!A28-moment_cd_relationship!A29))+moment_cd_relationship!B28)*'LiFFT_v1.4.0'!$J$29","v":{"$error":"#VALUE!"}},{"$f":"(('LiFFT_v1.4.0'!$H$32-moment_cd_relationship!A28)*((moment_cd_relationship!B28-moment_cd_relationship!B29)/(moment_cd_relationship!A28-moment_cd_relationship!A29))+moment_cd_relationship!B28)*'LiFFT_v1.4.0'!$J$32","v":{"$error":"#VALUE!"}}]
[27,6.1999999999999999E-6,{"$f":"(('LiFFT_v1.4.0'!$H$5-moment_cd_relationship!A29)*((moment_cd_relationship!B29-moment_cd_relationship!B30)/(moment_cd_relationship!A29-moment_cd_relationship!A30))+moment_cd_relationship!B29)*'LiFFT_v1.4.0'!$J$5","v":3.9000000000000059E-3},{"$f":"(('LiFFT_v1.4.0'!$H$8-moment_cd_relationship!A29)*((moment_cd_relationship!B29-moment_cd_relationship!B30)/(moment_cd_relationship!A29-moment_cd_relationship!A30))+moment_cd_relationship!B29)*'LiFFT_v1.4.0'!$J$8","v":{"$error":"#VALUE!"}},{"$f":"(('LiFFT_v1.4.0'!$H$11-moment_cd_relationship!A29)*((moment_cd_relationship!B29-moment_cd_relationship!B30)/(moment_cd_relationship!A29-moment_cd_relationship!A30))+moment_cd_relationship!B29)*'LiFFT_v1.4.0'!$J$11","v":{"$error":"#VALUE!"}},{"$f":"(('LiFFT_v1.4.0'!$H$14-moment_cd_relationship!A29)*((moment_cd_relationship!B29-moment_cd_relationship!B30)/(moment_cd_relationship!A29-moment_cd_relationship!A30))+moment_cd_relationship!B29)*'LiFFT_v1.4.0'!$J$14","v":{"$error":"#VALUE!"}},{"$f":"(('LiFFT_v1.4.0'!$H$17-moment_cd_relationship!A29)*((moment_cd_relationship!B29-moment_cd_relationship!B30)/(moment_cd_relationship!A29-moment_cd_relationship!A30))+moment_cd_relationship!B29)*'LiFFT_v1.4.0'!$J$17","v":{"$error":"#VALUE!"}},{"$f":"(('LiFFT_v1.4.0'!$H$20-moment_cd_relationship!A29)*((moment_cd_relationship!B29-moment_cd_relationship!B30)/(moment_cd_relationship!A29-moment_cd_relationship!A30))+moment_cd_relationship!B29)*'LiFFT_v1.4.0'!$J$20","v":{"$error":"#VALUE!"}},{"$f":"(('LiFFT_v1.4.0'!$H$23-moment_cd_relationship!A29)*((moment_cd_relationship!B29-moment_cd_relationship!B30)/(moment_cd_relationship!A29-moment_cd_relationship!A30))+moment_cd_relationship!B29)*'LiFFT_v1.4.0'!$J$23","v":{"$error":"#VALUE!"}},{"$f":"(('LiFFT_v1.4.0'!$H$26-moment_cd_relationship!A29)*((moment_cd_relationship!B29-moment_cd_relationship!B30)/(moment_cd_relationship!A29-moment_cd_relationship!A30))+moment_cd_relationship!B29)*'LiFFT_v1.4.0'!$J$26","v":{"$error":"#VALUE!"}},{"$f":"(('LiFFT_v1.4.0'!$H$29-moment_cd_relationship!A29)*((moment_cd_relationship!B29-moment_cd_relationship!B30)/(moment_cd_relationship!A29-moment_cd_relationship!A30))+moment_cd_relationship!B29)*'LiFFT_v1.4.0'!$J$29","v":{"$error":"#VALUE!"}},{"$f":"(('LiFFT_v1.4.0'!$H$32-moment_cd_relationship!A29)*((moment_cd_relationship!B29-moment_cd_relationship!B30)/(moment_cd_relationship!A29-moment_cd_relationship!A30))+moment_cd_relationship!B29)*'LiFFT_v1.4.0'!$J$32","v":{"$error":"#VALUE!"}}]
[28,6.4999999999999996E-6,{"$f":"(('LiFFT_v1.4.0'!$H$5-moment_cd_relationship!A30)*((moment_cd_relationship!B30-moment_cd_relationship!B31)/(moment_cd_relationship!A30-moment_cd_relationship!A31))+moment_cd_relationship!B30)*'LiFFT_v1.4.0'!$J$5","v":3.9000000000000059E-3},{"$f":"(('LiFFT_v1.4.0'!$H$8-moment_cd_relationship!A30)*((moment_cd_relationship!B30-moment_cd_relationship!B31)/(moment_cd_relationship!A30-moment_cd_relationship!A31))+moment_cd_relationship!B30)*'LiFFT_v1.4.0'!$J$8","v":{"$error":"#VALUE!"}},{"$f":"(('LiFFT_v1.4.0'!$H$11-moment_cd_relationship!A30)*((moment_cd_relationship!B30-moment_cd_relationship!B31)/(moment_cd_relationship!A30-moment_cd_relationship!A31))+moment_cd_relationship!B30)*'LiFFT_v1.4.0'!$J$11","v":{"$error":"#VALUE!"}},{"$f":"(('LiFFT_v1.4.0'!$H$14-moment_cd_relationship!A30)*((moment_cd_relationship!B30-moment_cd_relationship!B31)/(moment_cd_relationship!A30-moment_cd_relationship!A31))+moment_cd_relationship!B30)*'LiFFT_v1.4.0'!$J$14","v":{"$error":"#VALUE!"}},{"$f":"(('LiFFT_v1.4.0'!$H$17-moment_cd_relationship!A30)*((moment_cd_relationship!B30-moment_cd_relationship!B31)/(moment_cd_relationship!A30-moment_cd_relationship!A31))+moment_cd_relationship!B30)*'LiFFT_v1.4.0'!$J$17","v":{"$error":"#VALUE!"}},{"$f":"(('LiFFT_v1.4.0'!$H$20-moment_cd_relationship!A30)*((moment_cd_relationship!B30-moment_cd_relationship!B31)/(moment_cd_relationship!A30-moment_cd_relationship!A31))+moment_cd_relationship!B30)*'LiFFT_v1.4.0'!$J$20","v":{"$error":"#VALUE!"}},{"$f":"(('LiFFT_v1.4.0'!$H$23-moment_cd_relationship!A30)*((moment_cd_relationship!B30-moment_cd_relationship!B31)/(moment_cd_relationship!A30-moment_cd_relationship!A31))+moment_cd_relationship!B30)*'LiFFT_v1.4.0'!$J$23","v":{"$error":"#VALUE!"}},{"$f":"(('LiFFT_v1.4.0'!$H$26-moment_cd_relationship!A30)*((moment_cd_relationship!B30-moment_cd_relationship!B31)/(moment_cd_relationship!A30-moment_cd_relationship!A31))+moment_cd_relationship!B30)*'LiFFT_v1.4.0'!$J$26","v":{"$error":"#VALUE!"}},{"$f":"(('LiFFT_v1.4.0'!$H$29-moment_cd_relationship!A30)*((moment_cd_relationship!B30-moment_cd_relationship!B31)/(moment_cd_relationship!A30-moment_cd_relationship!A31))+moment_cd_relationship!B30)*'LiFFT_v1.4.0'!$J$29","v":{"$error":"#VALUE!"}},{"$f":"(('LiFFT_v1.4.0'!$H$32-moment_cd_relationship!A30)*((moment_cd_relationship!B30-moment_cd_relationship!B31)/(moment_cd_relationship!A30-moment_cd_relationship!A31))+moment_cd_relationship!B30)*'LiFFT_v1.4.0'!$J$32","v":{"$error":"#VALUE!"}}]
[29,6.9E-6,{"$f":"(('LiFFT_v1.4.0'!$H$5-moment_cd_relationship!A31)*((moment_cd_relationship!B31-moment_cd_relationship!B32)/(moment_cd_relationship!A31-moment_cd_relationship!A32))+moment_cd_relationship!B31)*'LiFFT_v1.4.0'!$J$5","v":1.9499999999999915E-3},{"$f":"(('LiFFT_v1.4.0'!$H$8-moment_cd_relationship!A31)*((moment_cd_relationship!B31-moment_cd_relationship!B32)/(moment_cd_relationship!A31-moment_cd_relationship!A32))+moment_cd_relationship!B31)*'LiFFT_v1.4.0'!$J$8","v":{"$error":"#VALUE!"}},{"$f":"(('LiFFT_v1.4.0'!$H$11-moment_cd_relationship!A31)*((moment_cd_relationship!B31-moment_cd_relationship!B32)/(moment_cd_relationship!A31-moment_cd_relationship!A32))+moment_cd_relationship!B31)*'LiFFT_v1.4.0'!$J$11","v":{"$error":"#VALUE!"}},{"$f":"(('LiFFT_v1.4.0'!$H$14-moment_cd_relationship!A31)*((moment_cd_relationship!B31-moment_cd_relationship!B32)/(moment_cd_relationship!A31-moment_cd_relationship!A32))+moment_cd_relationship!B31)*'LiFFT_v1.4.0'!$J$14","v":{"$error":"#VALUE!"}},{"$f":"(('LiFFT_v1.4.0'!$H$17-moment_cd_relationship!A31)*((moment_cd_relationship!B31-moment_cd_relationship!B32)/(moment_cd_relationship!A31-moment_cd_relationship!A32))+moment_cd_relationship!B31)*'LiFFT_v1.4.0'!$J$17","v":{"$error":"#VALUE!"}},{"$f":"(('LiFFT_v1.4.0'!$H$20-moment_cd_relationship!A31)*((moment_cd_relationship!B31-moment_cd_relationship!B32)/(moment_cd_relationship!A31-moment_cd_relationship!A32))+moment_cd_relationship!B31)*'LiFFT_v1.4.0'!$J$20","v":{"$error":"#VALUE!"}},{"$f":"(('LiFFT_v1.4.0'!$H$23-moment_cd_relationship!A31)*((moment_cd_relationship!B31-moment_cd_relationship!B32)/(moment_cd_relationship!A31-moment_cd_relationship!A32))+moment_cd_relationship!B31)*'LiFFT_v1.4.0'!$J$23","v":{"$error":"#VALUE!"}},{"$f":"(('LiFFT_v1.4.0'!$H$26-moment_cd_relationship!A31)*((moment_cd_relationship!B31-moment_cd_relationship!B32)/(moment_cd_relationship!A31-moment_cd_relationship!A32))+moment_cd_relationship!B31)*'LiFFT_v1.4.0'!$J$26","v":{"$error":"#VALUE!"}},{"$f":"(('LiFFT_v1.4.0'!$H$29-moment_cd_relationship!A31)*((moment_cd_relationship!B31-moment_cd_relationship!B32)/(moment_cd_relationship!A31-moment_cd_relationship!A32))+moment_cd_relationship!B31)*'LiFFT_v1.4.0'!$J$29","v":{"$error":"#VALUE!"}},{"$f":"(('LiFFT_v1.4.0'!$H$32-moment_cd_relationship!A31)*((moment_cd_relationship!B31-moment_cd_relationship!B32)/(moment_cd_relationship!A31-moment_cd_relationship!A32))+moment_cd_relationship!B31)*'LiFFT_v1.4.0'!$J$32","v":{"$error":"#VALUE!"}}]
[30,7.1999999999999997E-6,{"$f":"(('LiFFT_v1.4.0'!$H$5-moment_cd_relationship!A32)*((moment_cd_relationship!B32-moment_cd_relationship!B33)/(moment_cd_relationship!A32-moment_cd_relationship!A33))+moment_cd_relationship!B32)*'LiFFT_v1.4.0'!$J$5","v":4.0500000000000067E-3},{"$f":"(('LiFFT_v1.4.0'!$H$8-moment_cd_relationship!A32)*((moment_cd_relationship!B32-moment_cd_relationship!B33)/(moment_cd_relationship!A32-moment_cd_relationship!A33))+moment_cd_relationship!B32)*'LiFFT_v1.4.0'!$J$8","v":{"$error":"#VALUE!"}},{"$f":"(('LiFFT_v1.4.0'!$H$11-moment_cd_relationship!A32)*((moment_cd_relationship!B32-moment_cd_relationship!B33)/(moment_cd_relationship!A32-moment_cd_relationship!A33))+moment_cd_relationship!B32)*'LiFFT_v1.4.0'!$J$11","v":{"$error":"#VALUE!"}},{"$f":"(('LiFFT_v1.4.0'!$H$14-moment_cd_relationship!A32)*((moment_cd_relationship!B32-moment_cd_relationship!B33)/(moment_cd_relationship!A32-moment_cd_relationship!A33))+moment_cd_relationship!B32)*'LiFFT_v1.4.0'!$J$14","v":{"$error":"#VALUE!"}},{"$f":"(('LiFFT_v1.4.0'!$H$17-moment_cd_relationship!A32)*((moment_cd_relationship!B32-moment_cd_relationship!B33)/(moment_cd_relationship!A32-moment_cd_relationship!A33))+moment_cd_relationship!B32)*'LiFFT_v1.4.0'!$J$17","v":{"$error":"#VALUE!"}},{"$f":"(('LiFFT_v1.4.0'!$H$20-moment_cd_relationship!A32)*((moment_cd_relationship!B32-moment_cd_relationship!B33)/(moment_cd_relationship!A32-moment_cd_relationship!A33))+moment_cd_relationship!B32)*'LiFFT_v1.4.0'!$J$20","v":{"$error":"#VALUE!"}},{"$f":"(('LiFFT_v1.4.0'!$H$23-moment_cd_relationship!A32)*((moment_cd_relationship!B32-moment_cd_relationship!B33)/(moment_cd_relationship!A32-moment_cd_relationship!A33))+moment_cd_relationship!B32)*'LiFFT_v1.4.0'!$J$23","v":{"$error":"#VALUE!"}},{"$f":"(('LiFFT_v1.4.0'!$H$26-moment_cd_relationship!A32)*((moment_cd_relationship!B32-moment_cd_relationship!B33)/(moment_cd_relationship!A32-moment_cd_relationship!A33))+moment_cd_relationship!B32)*'LiFFT_v1.4.0'!$J$26","v":{"$error":"#VALUE!"}},{"$f":"(('LiFFT_v1.4.0'!$H$29-moment_cd_relationship!A32)*((moment_cd_relationship!B32-moment_cd_relationship!B33)/(moment_cd_relationship!A32-moment_cd_relationship!A33))+moment_cd_relationship!B32)*'LiFFT_v1.4.0'!$J$29","v":{"$error":"#VALUE!"}},{"$f":"(('LiFFT_v1.4.0'!$H$32-moment_cd_relationship!A32)*((moment_cd_relationship!B32-moment_cd_relationship!B33)/(moment_cd_relationship!A32-moment_cd_relationship!A33))+moment_cd_relationship!B32)*'LiFFT_v1.4.0'!$J$32","v":{"$error":"#VALUE!"}}]
[31,7.6000000000000001E-6,{"$f":"(('LiFFT_v1.4.0'!$H$5-moment_cd_relationship!A33)*((moment_cd_relationship!B33-moment_cd_relationship!B34)/(moment_cd_relationship!A33-moment_cd_relationship!A34))+moment_cd_relationship!B33)*'LiFFT_v1.4.0'!$J$5","v":1.7999999999999904E-3},{"$f":"(('LiFFT_v1.4.0'!$H$8-moment_cd_relationship!A33)*((moment_cd_relationship!B33-moment_cd_relationship!B34)/(moment_cd_relationship!A33-moment_cd_relationship!A34))+moment_cd_relationship!B33)*'LiFFT_v1.4.0'!$J$8","v":{"$error":"#VALUE!"}},{"$f":"(('LiFFT_v1.4.0'!$H$11-moment_cd_relationship!A33)*((moment_cd_relationship!B33-moment_cd_relationship!B34)/(moment_cd_relationship!A33-moment_cd_relationship!A34))+moment_cd_relationship!B33)*'LiFFT_v1.4.0'!$J$11","v":{"$error":"#VALUE!"}},{"$f":"(('LiFFT_v1.4.0'!$H$14-moment_cd_relationship!A33)*((moment_cd_relationship!B33-moment_cd_relationship!B34)/(moment_cd_relationship!A33-moment_cd_relationship!A34))+moment_cd_relationship!B33)*'LiFFT_v1.4.0'!$J$14","v":{"$error":"#VALUE!"}},{"$f":"(('LiFFT_v1.4.0'!$H$17-moment_cd_relationship!A33)*((moment_cd_relationship!B33-moment_cd_relationship!B34)/(moment_cd_relationship!A33-moment_cd_relationship!A34))+moment_cd_relationship!B33)*'LiFFT_v1.4.0'!$J$17","v":{"$error":"#VALUE!"}},{"$f":"(('LiFFT_v1.4.0'!$H$20-moment_cd_relationship!A33)*((moment_cd_relationship!B33-moment_cd_relationship!B34)/(moment_cd_relationship!A33-moment_cd_relationship!A34))+moment_cd_relationship!B33)*'LiFFT_v1.4.0'!$J$20","v":{"$error":"#VALUE!"}},{"$f":"(('LiFFT_v1.4.0'!$H$23-moment_cd_relationship!A33)*((moment_cd_relationship!B33-moment_cd_relationship!B34)/(moment_cd_relationship!A33-moment_cd_relationship!A34))+moment_cd_relationship!B33)*'LiFFT_v1.4.0'!$J$23","v":{"$error":"#VALUE!"}},{"$f":"(('LiFFT_v1.4.0'!$H$26-moment_cd_relationship!A33)*((moment_cd_relationship!B33-moment_cd_relationship!B34)/(moment_cd_relationship!A33-moment_cd_relationship!A34))+moment_cd_relationship!B33)*'LiFFT_v1.4.0'!$J$26","v":{"$error":"#VALUE!"}},{"$f":"(('LiFFT_v1.4.0'!$H$29-moment_cd_relationship!A33)*((moment_cd_relationship!B33-moment_cd_relationship!B34)/(moment_cd_relationship!A33-moment_cd_relationship!A34))+moment_cd_relationship!B33)*'LiFFT_v1.4.0'!$J$29","v":{"$error":"#VALUE!"}},{"$f":"(('LiFFT_v1.4.0'!$H$32-moment_cd_relationship!A33)*((moment_cd_relationship!B33-moment_cd_relationship!B34)/(moment_cd_relationship!A33-moment_cd_relationship!A34))+moment_cd_relationship!B33)*'LiFFT_v1.4.0'!$J$32","v":{"$error":"#VALUE!"}}]
[32,7.9999999999999996E-6,{"$f":"(('LiFFT_v1.4.0'!$H$5-moment_cd_relationship!A34)*((moment_cd_relationship!B34-moment_cd_relationship!B35)/(moment_cd_relationship!A34-moment_cd_relationship!A35))+moment_cd_relationship!B34)*'LiFFT_v1.4.0'!$J$5","v":1.8000000000000108E-3},{"$f":"(('LiFFT_v1.4.0'!$H$8-moment_cd_relationship!A34)*((moment_cd_relationship!B34-moment_cd_relationship!B35)/(moment_cd_relationship!A34-moment_cd_relationship!A35))+moment_cd_relationship!B34)*'LiFFT_v1.4.0'!$J$8","v":{"$error":"#VALUE!"}},{"$f":"(('LiFFT_v1.4.0'!$H$11-moment_cd_relationship!A34)*((moment_cd_relationship!B34-moment_cd_relationship!B35)/(moment_cd_relationship!A34-moment_cd_relationship!A35))+moment_cd_relationship!B34)*'LiFFT_v1.4.0'!$J$11","v":{"$error":"#VALUE!"}},{"$f":"(('LiFFT_v1.4.0'!$H$14-moment_cd_relationship!A34)*((moment_cd_relationship!B34-moment_cd_relationship!B35)/(moment_cd_relationship!A34-moment_cd_relationship!A35))+moment_cd_relationship!B34)*'LiFFT_v1.4.0'!$J$14","v":{"$error":"#VALUE!"}},{"$f":"(('LiFFT_v1.4.0'!$H$17-moment_cd_relationship!A34)*((moment_cd_relationship!B34-moment_cd_relationship!B35)/(moment_cd_relationship!A34-moment_cd_relationship!A35))+moment_cd_relationship!B34)*'LiFFT_v1.4.0'!$J$17","v":{"$error":"#VALUE!"}},{"$f":"(('LiFFT_v1.4.0'!$H$20-moment_cd_relationship!A34)*((moment_cd_relationship!B34-moment_cd_relationship!B35)/(moment_cd_relationship!A34-moment_cd_relationship!A35))+moment_cd_relationship!B34)*'LiFFT_v1.4.0'!$J$20","v":{"$error":"#VALUE!"}},{"$f":"(('LiFFT_v1.4.0'!$H$23-moment_cd_relationship!A34)*((moment_cd_relationship!B34-moment_cd_relationship!B35)/(moment_cd_relationship!A34-moment_cd_relationship!A35))+moment_cd_relationship!B34)*'LiFFT_v1.4.0'!$J$23","v":{"$error":"#VALUE!"}},{"$f":"(('LiFFT_v1.4.0'!$H$26-moment_cd_relationship!A34)*((moment_cd_relationship!B34-moment_cd_relationship!B35)/(moment_cd_relationship!A34-moment_cd_relationship!A35))+moment_cd_relationship!B34)*'LiFFT_v1.4.0'!$J$26","v":{"$error":"#VALUE!"}},{"$f":"(('LiFFT_v1.4.0'!$H$29-moment_cd_relationship!A34)*((moment_cd_relationship!B34-moment_cd_relationship!B35)/(moment_cd_relationship!A34-moment_cd_relationship!A35))+moment_cd_relationship!B34)*'LiFFT_v1.4.0'!$J$29","v":{"$error":"#VALUE!"}},{"$f":"(('LiFFT_v1.4.0'!$H$32-moment_cd_relationship!A34)*((moment_cd_relationship!B34-moment_cd_relationship!B35)/(moment_cd_relationship!A34-moment_cd_relationship!A35))+moment_cd_relationship!B34)*'LiFFT_v1.4.0'!$J$32","v":{"$error":"#VALUE!"}}]
[33,8.3999999999999992E-6,{"$f":"(('LiFFT_v1.4.0'!$H$5-moment_cd_relationship!A35)*((moment_cd_relationship!B35-moment_cd_relationship!B36)/(moment_cd_relationship!A35-moment_cd_relationship!A36))+moment_cd_relationship!B35)*'LiFFT_v1.4.0'!$J$5","v":1.8000000000000108E-3},{"$f":"(('LiFFT_v1.4.0'!$H$8-moment_cd_relationship!A35)*((moment_cd_relationship!B35-moment_cd_relationship!B36)/(moment_cd_relationship!A35-moment_cd_relationship!A36))+moment_cd_relationship!B35)*'LiFFT_v1.4.0'!$J$8","v":{"$error":"#VALUE!"}},{"$f":"(('LiFFT_v1.4.0'!$H$11-moment_cd_relationship!A35)*((moment_cd_relationship!B35-moment_cd_relationship!B36)/(moment_cd_relationship!A35-moment_cd_relationship!A36))+moment_cd_relationship!B35)*'LiFFT_v1.4.0'!$J$11","v":{"$error":"#VALUE!"}},{"$f":"(('LiFFT_v1.4.0'!$H$14-moment_cd_relationship!A35)*((moment_cd_relationship!B35-moment_cd_relationship!B36)/(moment_cd_relationship!A35-moment_cd_relationship!A36))+moment_cd_relationship!B35)*'LiFFT_v1.4.0'!$J$14","v":{"$error":"#VALUE!"}},{"$f":"(('LiFFT_v1.4.0'!$H$17-moment_cd_relationship!A35)*((moment_cd_relationship!B35-moment_cd_relationship!B36)/(moment_cd_relationship!A35-moment_cd_relationship!A36))+moment_cd_relationship!B35)*'LiFFT_v1.4.0'!$J$17","v":{"$error":"#VALUE!"}},{"$f":"(('LiFFT_v1.4.0'!$H$20-moment_cd_relationship!A35)*((moment_cd_relationship!B35-moment_cd_relationship!B36)/(moment_cd_relationship!A35-moment_cd_relationship!A36))+moment_cd_relationship!B35)*'LiFFT_v1.4.0'!$J$20","v":{"$error":"#VALUE!"}},{"$f":"(('LiFFT_v1.4.0'!$H$23-moment_cd_relationship!A35)*((moment_cd_relationship!B35-moment_cd_relationship!B36)/(moment_cd_relationship!A35-moment_cd_relationship!A36))+moment_cd_relationship!B35)*'LiFFT_v1.4.0'!$J$23","v":{"$error":"#VALUE!"}},{"$f":"(('LiFFT_v1.4.0'!$H$26-moment_cd_relationship!A35)*((moment_cd_relationship!B35-moment_cd_relationship!B36)/(moment_cd_relationship!A35-moment_cd_relationship!A36))+moment_cd_relationship!B35)*'LiFFT_v1.4.0'!$J$26","v":{"$error":"#VALUE!"}},{"$f":"(('LiFFT_v1.4.0'!$H$29-moment_cd_relationship!A35)*((moment_cd_relationship!B35-moment_cd_relationship!B36)/(moment_cd_relationship!A35-moment_cd_relationship!A36))+moment_cd_relationship!B35)*'LiFFT_v1.4.0'!$J$29","v":{"$error":"#VALUE!"}},{"$f":"(('LiFFT_v1.4.0'!$H$32-moment_cd_relationship!A35)*((moment_cd_relationship!B35-moment_cd_relationship!B36)/(moment_cd_relationship!A35-moment_cd_relationship!A36))+moment_cd_relationship!B35)*'LiFFT_v1.4.0'!$J$32","v":{"$error":"#VALUE!"}}]
[34,8.8000000000000004E-6,{"$f":"(('LiFFT_v1.4.0'!$H$5-moment_cd_relationship!A36)*((moment_cd_relationship!B36-moment_cd_relationship!B37)/(moment_cd_relationship!A36-moment_cd_relationship!A37))+moment_cd_relationship!B36)*'LiFFT_v1.4.0'!$J$5","v":1.799999999999965E-3},{"$f":"(('LiFFT_v1.4.0'!$H$8-moment_cd_relationship!A36)*((moment_cd_relationship!B36-moment_cd_relationship!B37)/(moment_cd_relationship!A36-moment_cd_relationship!A37))+moment_cd_relationship!B36)*'LiFFT_v1.4.0'!$J$8","v":{"$error":"#VALUE!"}},{"$f":"(('LiFFT_v1.4.0'!$H$11-moment_cd_relationship!A36)*((moment_cd_relationship!B36-moment_cd_relationship!B37)/(moment_cd_relationship!A36-moment_cd_relationship!A37))+moment_cd_relationship!B36)*'LiFFT_v1.4.0'!$J$11","v":{"$error":"#VALUE!"}},{"$f":"(('LiFFT_v1.4.0'!$H$14-moment_cd_relationship!A36)*((moment_cd_relationship!B36-moment_cd_relationship!B37)/(moment_cd_relationship!A36-moment_cd_relationship!A37))+moment_cd_relationship!B36)*'LiFFT_v1.4.0'!$J$14","v":{"$error":"#VALUE!"}},{"$f":"(('LiFFT_v1.4.0'!$H$17-moment_cd_relationship!A36)*((moment_cd_relationship!B36-moment_cd_relationship!B37)/(moment_cd_relationship!A36-moment_cd_relationship!A37))+moment_cd_relationship!B36)*'LiFFT_v1.4.0'!$J$17","v":{"$error":"#VALUE!"}},{"$f":"(('LiFFT_v1.4.0'!$H$20-moment_cd_relationship!A36)*((moment_cd_relationship!B36-moment_cd_relationship!B37)/(moment_cd_relationship!A36-moment_cd_relationship!A37))+moment_cd_relationship!B36)*'LiFFT_v1.4.0'!$J$20","v":{"$error":"#VALUE!"}},{"$f":"(('LiFFT_v1.4.0'!$H$23-moment_cd_relationship!A36)*((moment_cd_relationship!B36-moment_cd_relationship!B37)/(moment_cd_relationship!A36-moment_cd_relationship!A37))+moment_cd_relationship!B36)*'LiFFT_v1.4.0'!$J$23","v":{"$error":"#VALUE!"}},{"$f":"(('LiFFT_v1.4.0'!$H$26-moment_cd_relationship!A36)*((moment_cd_relationship!B36-moment_cd_relationship!B37)/(moment_cd_relationship!A36-moment_cd_relationship!A37))+moment_cd_relationship!B36)*'LiFFT_v1.4.0'!$J$26","v":{"$error":"#VALUE!"}},{"$f":"(('LiFFT_v1.4.0'!$H$29-moment_cd_relationship!A36)*((moment_cd_relationship!B36-moment_cd_relationship!B37)/(moment_cd_relationship!A36-moment_cd_relationship!A37))+moment_cd_relationship!B36)*'LiFFT_v1.4.0'!$J$29","v":{"$error":"#VALUE!"}},{"$f":"(('LiFFT_v1.4.0'!$H$32-moment_cd_relationship!A36)*((moment_cd_relationship!B36-moment_cd_relationship!B37)/(moment_cd_relationship!A36-moment_cd_relationship!A37))+moment_cd_relationship!B36)*'LiFFT_v1.4.0'!$J$32","v":{"$error":"#VALUE!"}}]
[35,9.3000000000000007E-6,{"$f":"(('LiFFT_v1.4.0'!$H$5-moment_cd_relationship!A37)*((moment_cd_relationship!B37-moment_cd_relationship!B38)/(moment_cd_relationship!A37-moment_cd_relationship!A38))+moment_cd_relationship!B37)*'LiFFT_v1.4.0'!$J$5","v":-1.0500000000000077E-3},{"$f":"(('LiFFT_v1.4.0'!$H$8-moment_cd_relationship!A37)*((moment_cd_relationship!B37-moment_cd_relationship!B38)/(moment_cd_relationship!A37-moment_cd_relationship!A38))+moment_cd_relationship!B37)*'LiFFT_v1.4.0'!$J$8","v":{"$error":"#VALUE!"}},{"$f":"(('LiFFT_v1.4.0'!$H$11-moment_cd_relationship!A37)*((moment_cd_relationship!B37-moment_cd_relationship!B38)/(moment_cd_relationship!A37-moment_cd_relationship!A38))+moment_cd_relationship!B37)*'LiFFT_v1.4.0'!$J$11","v":{"$error":"#VALUE!"}},{"$f":"(('LiFFT_v1.4.0'!$H$14-moment_cd_relationship!A37)*((moment_cd_relationship!B37-moment_cd_relationship!B38)/(moment_cd_relationship!A37-moment_cd_relationship!A38))+moment_cd_relationship!B37)*'LiFFT_v1.4.0'!$J$14","v":{"$error":"#VALUE!"}},{"$f":"(('LiFFT_v1.4.0'!$H$17-moment_cd_relationship!A37)*((moment_cd_relationship!B37-moment_cd_relationship!B38)/(moment_cd_relationship!A37-moment_cd_relationship!A38))+moment_cd_relationship!B37)*'LiFFT_v1.4.0'!$J$17","v":{"$error":"#VALUE!"}},{"$f":"(('LiFFT_v1.4.0'!$H$20-moment_cd_relationship!A37)*((moment_cd_relationship!B37-moment_cd_relationship!B38)/(moment_cd_relationship!A37-moment_cd_relationship!A38))+moment_cd_relationship!B37)*'LiFFT_v1.4.0'!$J$20","v":{"$error":"#VALUE!"}},{"$f":"(('LiFFT_v1.4.0'!$H$23-moment_cd_relationship!A37)*((moment_cd_relationship!B37-moment_cd_relationship!B38)/(moment_cd_relationship!A37-moment_cd_relationship!A38))+moment_cd_relationship!B37)*'LiFFT_v1.4.0'!$J$23","v":{"$error":"#VALUE!"}},{"$f":"(('LiFFT_v1.4.0'!$H$26-moment_cd_relationship!A37)*((moment_cd_relationship!B37-moment_cd_relationship!B38)/(moment_cd_relationship!A37-moment_cd_relationship!A38))+moment_cd_relationship!B37)*'LiFFT_v1.4.0'!$J$26","v":{"$error":"#VALUE!"}},{"$f":"(('LiFFT_v1.4.0'!$H$29-moment_cd_relationship!A37)*((moment_cd_relationship!B37-moment_cd_relationship!B38)/(moment_cd_relationship!A37-moment_cd_relationship!A38))+moment_cd_relationship!B37)*'LiFFT_v1.4.0'!$J$29","v":{"$error":"#VALUE!"}},{"$f":"(('LiFFT_v1.4.0'!$H$32-moment_cd_relationship!A37)*((moment_cd_relationship!B37-moment_cd_relationship!B38)/(moment_cd_relationship!A37-moment_cd_relationship!A38))+moment_cd_relationship!B37)*'LiFFT_v1.4.0'!$J$32","v":{"$error":"#VALUE!"}}]
[36,9.7000000000000003E-6,{"$f":"(('LiFFT_v1.4.0'!$H$5-moment_cd_relationship!A38)*((moment_cd_relationship!B38-moment_cd_relationship!B39)/(moment_cd_relationship!A38-moment_cd_relationship!A39))+moment_cd_relationship!B38)*'LiFFT_v1.4.0'!$J$5","v":1.9500000000000144E-3},{"$f":"(('LiFFT_v1.4.0'!$H$8-moment_cd_relationship!A38)*((moment_cd_relationship!B38-moment_cd_relationship!B39)/(moment_cd_relationship!A38-moment_cd_relationship!A39))+moment_cd_relationship!B38)*'LiFFT_v1.4.0'!$J$8","v":{"$error":"#VALUE!"}},{"$f":"(('LiFFT_v1.4.0'!$H$11-moment_cd_relationship!A38)*((moment_cd_relationship!B38-moment_cd_relationship!B39)/(moment_cd_relationship!A38-moment_cd_relationship!A39))+moment_cd_relationship!B38)*'LiFFT_v1.4.0'!$J$11","v":{"$error":"#VALUE!"}},{"$f":"(('LiFFT_v1.4.0'!$H$14-moment_cd_relationship!A38)*((moment_cd_relationship!B38-moment_cd_relationship!B39)/(moment_cd_relationship!A38-moment_cd_relationship!A39))+moment_cd_relationship!B38)*'LiFFT_v1.4.0'!$J$14","v":{"$error":"#VALUE!"}},{"$f":"(('LiFFT_v1.4.0'!$H$17-moment_cd_relationship!A38)*((moment_cd_relationship!B38-moment_cd_relationship!B39)/(moment_cd_relationship!A38-moment_cd_relationship!A39))+moment_cd_relationship!B38)*'LiFFT_v1.4.0'!$J$17","v":{"$error":"#VALUE!"}},{"$f":"(('LiFFT_v1.4.0'!$H$20-moment_cd_relationship!A38)*((moment_cd_relationship!B38-moment_cd_relationship!B39)/(moment_cd_relationship!A38-moment_cd_relationship!A39))+moment_cd_relationship!B38)*'LiFFT_v1.4.0'!$J$20","v":{"$error":"#VALUE!"}},{"$f":"(('LiFFT_v1.4.0'!$H$23-moment_cd_relationship!A38)*((moment_cd_relationship!B38-moment_cd_relationship!B39)/(moment_cd_relationship!A38-moment_cd_relationship!A39))+moment_cd_relationship!B38)*'LiFFT_v1.4.0'!$J$23","v":{"$error":"#VALUE!"}},{"$f":"(('LiFFT_v1.4.0'!$H$26-moment_cd_relationship!A38)*((moment_cd_relationship!B38-moment_cd_relationship!B39)/(moment_cd_relationship!A38-moment_cd_relationship!A39))+moment_cd_relationship!B38)*'LiFFT_v1.4.0'!$J$26","v":{"$error":"#VALUE!"}},{"$f":"(('LiFFT_v1.4.0'!$H$29-moment_cd_relationship!A38)*((moment_cd_relationship!B38-moment_cd_relationship!B39)/(moment_cd_relationship!A38-moment_cd_relationship!A39))+moment_cd_relationship!B38)*'LiFFT_v1.4.0'!$J$29","v":{"$error":"#VALUE!"}},{"$f":"(('LiFFT_v1.4.0'!$H$32-moment_cd_relationship!A38)*((moment_cd_relationship!B38-moment_cd_relationship!B39)/(moment_cd_relationship!A38-moment_cd_relationship!A39))+moment_cd_relationship!B38)*'LiFFT_v1.4.0'!$J$32","v":{"$error":"#VALUE!"}}]
[37,1.0200000000000001E-5,{"$f":"(('LiFFT_v1.4.0'!$H$5-moment_cd_relationship!A39)*((moment_cd_relationship!B39-moment_cd_relationship!B40)/(moment_cd_relationship!A39-moment_cd_relationship!A40))+moment_cd_relationship!B39)*'LiFFT_v1.4.0'!$J$5","v":-1.2000000000000088E-3},{"$f":"(('LiFFT_v1.4.0'!$H$8-moment_cd_relationship!A39)*((moment_cd_relationship!B39-moment_cd_relationship!B40)/(moment_cd_relationship!A39-moment_cd_relationship!A40))+moment_cd_relationship!B39)*'LiFFT_v1.4.0'!$J$8","v":{"$error":"#VALUE!"}},{"$f":"(('LiFFT_v1.4.0'!$H$11-moment_cd_relationship!A39)*((moment_cd_relationship!B39-moment_cd_relationship!B40)/(moment_cd_relationship!A39-moment_cd_relationship!A40))+moment_cd_relationship!B39)*'LiFFT_v1.4.0'!$J$11","v":{"$error":"#VALUE!"}},{"$f":"(('LiFFT_v1.4.0'!$H$14-moment_cd_relationship!A39)*((moment_cd_relationship!B39-moment_cd_relationship!B40)/(moment_cd_relationship!A39-moment_cd_relationship!A40))+moment_cd_relationship!B39)*'LiFFT_v1.4.0'!$J$14","v":{"$error":"#VALUE!"}},{"$f":"(('LiFFT_v1.4.0'!$H$17-moment_cd_relationship!A39)*((moment_cd_relationship!B39-moment_cd_relationship!B40)/(moment_cd_relationship!A39-moment_cd_relationship!A40))+moment_cd_relationship!B39)*'LiFFT_v1.4.0'!$J$17","v":{"$error":"#VALUE!"}},{"$f":"(('LiFFT_v1.4.0'!$H$20-moment_cd_relationship!A39)*((moment_cd_relationship!B39-moment_cd_relationship!B40)/(moment_cd_relationship!A39-moment_cd_relationship!A40))+moment_cd_relationship!B39)*'LiFFT_v1.4.0'!$J$20","v":{"$error":"#VALUE!"}},{"$f":"(('LiFFT_v1.4.0'!$H$23-moment_cd_relationship!A39)*((moment_cd_relationship!B39-moment_cd_relationship!B40)/(moment_cd_relationship!A39-moment_cd_relationship!A40))+moment_cd_relationship!B39)*'LiFFT_v1.4.0'!$J$23","v":{"$error":"#VALUE!"}},{"$f":"(('LiFFT_v1.4.0'!$H$26-moment_cd_relationship!A39)*((moment_cd_relationship!B39-moment_cd_relationship!B40)/(moment_cd_relationship!A39-moment_cd_relationship!A40))+moment_cd_relationship!B39)*'LiFFT_v1.4.0'!$J$26","v":{"$error":"#VALUE!"}},{"$f":"(('LiFFT_v1.4.0'!$H$29-moment_cd_relationship!A39)*((moment_cd_relationship!B39-moment_cd_relationship!B40)/(moment_cd_relationship!A39-moment_cd_relationship!A40))+moment_cd_relationship!B39)*'LiFFT_v1.4.0'!$J$29","v":{"$error":"#VALUE!"}},{"$f":"(('LiFFT_v1.4.0'!$H$32-moment_cd_relationship!A39)*((moment_cd_relationship!B39-moment_cd_relationship!B40)/(moment_cd_relationship!A39-moment_cd_relationship!A40))+moment_cd_relationship!B39)*'LiFFT_v1.4.0'!$J$32","v":{"$error":"#VALUE!"}}]
[38,1.08E-5,{"$f":"(('LiFFT_v1.4.0'!$H$5-moment_cd_relationship!A40)*((moment_cd_relationship!B40-moment_cd_relationship!B41)/(moment_cd_relationship!A40-moment_cd_relationship!A41))+moment_cd_relationship!B40)*'LiFFT_v1.4.0'!$J$5","v":-4.4999999999999771E-3},{"$f":"(('LiFFT_v1.4.0'!$H$8-moment_cd_relationship!A40)*((moment_cd_relationship!B40-moment_cd_relationship!B41)/(moment_cd_relationship!A40-moment_cd_relationship!A41))+moment_cd_relationship!B40)*'LiFFT_v1.4.0'!$J$8","v":{"$error":"#VALUE!"}},{"$f":"(('LiFFT_v1.4.0'!$H$11-moment_cd_relationship!A40)*((moment_cd_relationship!B40-moment_cd_relationship!B41)/(moment_cd_relationship!A40-moment_cd_relationship!A41))+moment_cd_relationship!B40)*'LiFFT_v1.4.0'!$J$11","v":{"$error":"#VALUE!"}},{"$f":"(('LiFFT_v1.4.0'!$H$14-moment_cd_relationship!A40)*((moment_cd_relationship!B40-moment_cd_relationship!B41)/(moment_cd_relationship!A40-moment_cd_relationship!A41))+moment_cd_relationship!B40)*'LiFFT_v1.4.0'!$J$14","v":{"$error":"#VALUE!"}},{"$f":"(('LiFFT_v1.4.0'!$H$17-moment_cd_relationship!A40)*((moment_cd_relationship!B40-moment_cd_relationship!B41)/(moment_cd_relationship!A40-moment_cd_relationship!A41))+moment_cd_relationship!B40)*'LiFFT_v1.4.0'!$J$17","v":{"$error":"#VALUE!"}},{"$f":"(('LiFFT_v1.4.0'!$H$20-moment_cd_relationship!A40)*((moment_cd_relationship!B40-moment_cd_relationship!B41)/(moment_cd_relationship!A40-moment_cd_relationship!A41))+moment_cd_relationship!B40)*'LiFFT_v1.4.0'!$J$20","v":{"$error":"#VALUE!"}},{"$f":"(('LiFFT_v1.4.0'!$H$23-moment_cd_relationship!A40)*((moment_cd_relationship!B40-moment_cd_relationship!B41)/(moment_cd_relationship!A40-moment_cd_relationship!A41))+moment_cd_relationship!B40)*'LiFFT_v1.4.0'!$J$23","v":{"$error":"#VALUE!"}},{"$f":"(('LiFFT_v1.4.0'!$H$26-moment_cd_relationship!A40)*((moment_cd_relationship!B40-moment_cd_relationship!B41)/(moment_cd_relationship!A40-moment_cd_relationship!A41))+moment_cd_relationship!B40)*'LiFFT_v1.4.0'!$J$26","v":{"$error":"#VALUE!"}},{"$f":"(('LiFFT_v1.4.0'!$H$29-moment_cd_relationship!A40)*((moment_cd_relationship!B40-moment_cd_relationship!B41)/(moment_cd_relationship!A40-moment_cd_relationship!A41))+moment_cd_relationship!B40)*'LiFFT_v1.4.0'!$J$29","v":{"$error":"#VALUE!"}},{"$f":"(('LiFFT_v1.4.0'!$H$32-moment_cd_relationship!A40)*((moment_cd_relationship!B40-moment_cd_relationship!B41)/(moment_cd_relationship!A40-moment_cd_relationship!A41))+moment_cd_relationship!B40)*'LiFFT_v1.4.0'!$J$32","v":{"$error":"#VALUE!"}}]
[39,1.13E-5,{"$f":"(('LiFFT_v1.4.0'!$H$5-moment_cd_relationship!A41)*((moment_cd_relationship!B41-moment_cd_relationship!B42)/(moment_cd_relationship!A41-moment_cd_relationship!A42))+moment_cd_relationship!B41)*'LiFFT_v1.4.0'!$J$5","v":-1.0500000000000103E-3},{"$f":"(('LiFFT_v1.4.0'!$H$8-moment_cd_relationship!A41)*((moment_cd_relationship!B41-moment_cd_relationship!B42)/(moment_cd_relationship!A41-moment_cd_relationship!A42))+moment_cd_relationship!B41)*'LiFFT_v1.4.0'!$J$8","v":{"$error":"#VALUE!"}},{"$f":"(('LiFFT_v1.4.0'!$H$11-moment_cd_relationship!A41)*((moment_cd_relationship!B41-moment_cd_relationship!B42)/(moment_cd_relationship!A41-moment_cd_relationship!A42))+moment_cd_relationship!B41)*'LiFFT_v1.4.0'!$J$11","v":{"$error":"#VALUE!"}},{"$f":"(('LiFFT_v1.4.0'!$H$14-moment_cd_relationship!A41)*((moment_cd_relationship!B41-moment_cd_relationship!B42)/(moment_cd_relationship!A41-moment_cd_relationship!A42))+moment_cd_relationship!B41)*'LiFFT_v1.4.0'!$J$14","v":{"$error":"#VALUE!"}},{"$f":"(('LiFFT_v1.4.0'!$H$17-moment_cd_relationship!A41)*((moment_cd_relationship!B41-moment_cd_relationship!B42)/(moment_cd_relationship!A41-moment_cd_relationship!A42))+moment_cd_relationship!B41)*'LiFFT_v1.4.0'!$J$17","v":{"$error":"#VALUE!"}},{"$f":"(('LiFFT_v1.4.0'!$H$20-moment_cd_relationship!A41)*((moment_cd_relationship!B41-moment_cd_relationship!B42)/(moment_cd_relationship!A41-moment_cd_relationship!A42))+moment_cd_relationship!B41)*'LiFFT_v1.4.0'!$J$20","v":{"$error":"#VALUE!"}},{"$f":"(('LiFFT_v1.4.0'!$H$23-moment_cd_relationship!A41)*((moment_cd_relationship!B41-moment_cd_relationship!B42)/(moment_cd_relationship!A41-moment_cd_relationship!A42))+moment_cd_relationship!B41)*'LiFFT_v1.4.0'!$J$23","v":{"$error":"#VALUE!"}},{"$f":"(('LiFFT_v1.4.0'!$H$26-moment_cd_relationship!A41)*((moment_cd_relationship!B41-moment_cd_relationship!B42)/(moment_cd_relationship!A41-moment_cd_relationship!A42))+moment_cd_relationship!B41)*'LiFFT_v1.4.0'!$J$26","v":{"$error":"#VALUE!"}},{"$f":"(('LiFFT_v1.4.0'!$H$29-moment_cd_relationship!A41)*((moment_cd_relationship!B41-moment_cd_relationship!B42)/(moment_cd_relationship!A41-moment_cd_relationship!A42))+moment_cd_relationship!B41)*'LiFFT_v1.4.0'!$J$29","v":{"$error":"#VALUE!"}},{"$f":"(('LiFFT_v1.4.0'!$H$32-moment_cd_relationship!A41)*((moment_cd_relationship!B41-moment_cd_relationship!B42)/(moment_cd_relationship!A41-moment_cd_relationship!A42))+moment_cd_relationship!B41)*'LiFFT_v1.4.0'!$J$32","v":{"$error":"#VALUE!"}}]
[40,1.19E-5,{"$f":"(('LiFFT_v1.4.0'!$H$5-moment_cd_relationship!A42)*((moment_cd_relationship!B42-moment_cd_relationship!B43)/(moment_cd_relationship!A42-moment_cd_relationship!A43))+moment_cd_relationship!B42)*'LiFFT_v1.4.0'!$J$5","v":-4.6499999999999762E-3},{"$f":"(('LiFFT_v1.4.0'!$H$8-moment_cd_relationship!A42)*((moment_cd_relationship!B42-moment_cd_relationship!B43)/(moment_cd_relationship!A42-moment_cd_relationship!A43))+moment_cd_relationship!B42)*'LiFFT_v1.4.0'!$J$8","v":{"$error":"#VALUE!"}},{"$f":"(('LiFFT_v1.4.0'!$H$11-moment_cd_relationship!A42)*((moment_cd_relationship!B42-moment_cd_relationship!B43)/(moment_cd_relationship!A42-moment_cd_relationship!A43))+moment_cd_relationship!B42)*'LiFFT_v1.4.0'!$J$11","v":{"$error":"#VALUE!"}},{"$f":"(('LiFFT_v1.4.0'!$H$14-moment_cd_relationship!A42)*((moment_cd_relationship!B42-moment_cd_relationship!B43)/(moment_cd_relationship!A42-moment_cd_relationship!A43))+moment_cd_relationship!B42)*'LiFFT_v1.4.0'!$J$14","v":{"$error":"#VALUE!"}},{"$f":"(('LiFFT_v1.4.0'!$H$17-moment_cd_relationship!A42)*((moment_cd_relationship!B42-moment_cd_relationship!B43)/(moment_cd_relationship!A42-moment_cd_relationship!A43))+moment_cd_relationship!B42)*'LiFFT_v1.4.0'!$J$17","v":{"$error":"#VALUE!"}},{"$f":"(('LiFFT_v1.4.0'!$H$20-moment_cd_relationship!A42)*((moment_cd_relationship!B42-moment_cd_relationship!B43)/(moment_cd_relationship!A42-moment_cd_relationship!A43))+moment_cd_relationship!B42)*'LiFFT_v1.4.0'!$J$20","v":{"$error":"#VALUE!"}},{"$f":"(('LiFFT_v1.4.0'!$H$23-moment_cd_relationship!A42)*((moment_cd_relationship!B42-moment_cd_relationship!B43)/(moment_cd_relationship!A42-moment_cd_relationship!A43))+moment_cd_relationship!B42)*'LiFFT_v1.4.0'!$J$23","v":{"$error":"#VALUE!"}},{"$f":"(('LiFFT_v1.4.0'!$H$26-moment_cd_relationship!A42)*((moment_cd_relationship!B42-moment_cd_relationship!B43)/(moment_cd_relationship!A42-moment_cd_relationship!A43))+moment_cd_relationship!B42)*'LiFFT_v1.4.0'!$J$26","v":{"$error":"#VALUE!"}},{"$f":"(('LiFFT_v1.4.0'!$H$29-moment_cd_relationship!A42)*((moment_cd_relationship!B42-moment_cd_relationship!B43)/(moment_cd_relationship!A42-moment_cd_relationship!A43))+moment_cd_relationship!B42)*'LiFFT_v1.4.0'!$J$29","v":{"$error":"#VALUE!"}},{"$f":"(('LiFFT_v1.4.0'!$H$32-moment_cd_relationship!A42)*((moment_cd_relationship!B42-moment_cd_relationship!B43)/(moment_cd_relationship!A42-moment_cd_relationship!A43))+moment_cd_relationship!B42)*'LiFFT_v1.4.0'!$J$32","v":{"$error":"#VALUE!"}}]
[41,1.2500000000000001E-5,{"$f":"(('LiFFT_v1.4.0'!$H$5-moment_cd_relationship!A43)*((moment_cd_relationship!B43-moment_cd_relationship!B44)/(moment_cd_relationship!A43-moment_cd_relationship!A44))+moment_cd_relationship!B43)*'LiFFT_v1.4.0'!$J$5","v":-4.6500000000000395E-3},{"$f":"(('LiFFT_v1.4.0'!$H$8-moment_cd_relationship!A43)*((moment_cd_relationship!B43-moment_cd_relationship!B44)/(moment_cd_relationship!A43-moment_cd_relationship!A44))+moment_cd_relationship!B43)*'LiFFT_v1.4.0'!$J$8","v":{"$error":"#VALUE!"}},{"$f":"(('LiFFT_v1.4.0'!$H$11-moment_cd_relationship!A43)*((moment_cd_relationship!B43-moment_cd_relationship!B44)/(moment_cd_relationship!A43-moment_cd_relationship!A44))+moment_cd_relationship!B43)*'LiFFT_v1.4.0'!$J$11","v":{"$error":"#VALUE!"}},{"$f":"(('LiFFT_v1.4.0'!$H$14-moment_cd_relationship!A43)*((moment_cd_relationship!B43-moment_cd_relationship!B44)/(moment_cd_relationship!A43-moment_cd_relationship!A44))+moment_cd_relationship!B43)*'LiFFT_v1.4.0'!$J$14","v":{"$error":"#VALUE!"}},{"$f":"(('LiFFT_v1.4.0'!$H$17-moment_cd_relationship!A43)*((moment_cd_relationship!B43-moment_cd_relationship!B44)/(moment_cd_relationship!A43-moment_cd_relationship!A44))+moment_cd_relationship!B43)*'LiFFT_v1.4.0'!$J$17","v":{"$error":"#VALUE!"}},{"$f":"(('LiFFT_v1.4.0'!$H$20-moment_cd_relationship!A43)*((moment_cd_relationship!B43-moment_cd_relationship!B44)/(moment_cd_relationship!A43-moment_cd_relationship!A44))+moment_cd_relationship!B43)*'LiFFT_v1.4.0'!$J$20","v":{"$error":"#VALUE!"}},{"$f":"(('LiFFT_v1.4.0'!$H$23-moment_cd_relationship!A43)*((moment_cd_relationship!B43-moment_cd_relationship!B44)/(moment_cd_relationship!A43-moment_cd_relationship!A44))+moment_cd_relationship!B43)*'LiFFT_v1.4.0'!$J$23","v":{"$error":"#VALUE!"}},{"$f":"(('LiFFT_v1.4.0'!$H$26-moment_cd_relationship!A43)*((moment_cd_relationship!B43-moment_cd_relationship!B44)/(moment_cd_relationship!A43-moment_cd_relationship!A44))+moment_cd_relationship!B43)*'LiFFT_v1.4.0'!$J$26","v":{"$error":"#VALUE!"}},{"$f":"(('LiFFT_v1.4.0'!$H$29-moment_cd_relationship!A43)*((moment_cd_relationship!B43-moment_cd_relationship!B44)/(moment_cd_relationship!A43-moment_cd_relationship!A44))+moment_cd_relationship!B43)*'LiFFT_v1.4.0'!$J$29","v":{"$error":"#VALUE!"}},{"$f":"(('LiFFT_v1.4.0'!$H$32-moment_cd_relationship!A43)*((moment_cd_relationship!B43-moment_cd_relationship!B44)/(moment_cd_relationship!A43-moment_cd_relationship!A44))+moment_cd_relationship!B43)*'LiFFT_v1.4.0'!$J$32","v":{"$error":"#VALUE!"}}]
[42,1.3200000000000001E-5,{"$f":"(('LiFFT_v1.4.0'!$H$5-moment_cd_relationship!A44)*((moment_cd_relationship!B44-moment_cd_relationship!B45)/(moment_cd_relationship!A44-moment_cd_relationship!A45))+moment_cd_relationship!B44)*'LiFFT_v1.4.0'!$J$5","v":-8.550000000000002E-3},{"$f":"(('LiFFT_v1.4.0'!$H$8-moment_cd_relationship!A44)*((moment_cd_relationship!B44-moment_cd_relationship!B45)/(moment_cd_relationship!A44-moment_cd_relationship!A45))+moment_cd_relationship!B44)*'LiFFT_v1.4.0'!$J$8","v":{"$error":"#VALUE!"}},{"$f":"(('LiFFT_v1.4.0'!$H$11-moment_cd_relationship!A44)*((moment_cd_relationship!B44-moment_cd_relationship!B45)/(moment_cd_relationship!A44-moment_cd_relationship!A45))+moment_cd_relationship!B44)*'LiFFT_v1.4.0'!$J$11","v":{"$error":"#VALUE!"}},{"$f":"(('LiFFT_v1.4.0'!$H$14-moment_cd_relationship!A44)*((moment_cd_relationship!B44-moment_cd_relationship!B45)/(moment_cd_relationship!A44-moment_cd_relationship!A45))+moment_cd_relationship!B44)*'LiFFT_v1.4.0'!$J$14","v":{"$error":"#VALUE!"}},{"$f":"(('LiFFT_v1.4.0'!$H$17-moment_cd_relationship!A44)*((moment_cd_relationship!B44-moment_cd_relationship!B45)/(moment_cd_relationship!A44-moment_cd_relationship!A45))+moment_cd_relationship!B44)*'LiFFT_v1.4.0'!$J$17","v":{"$error":"#VALUE!"}},{"$f":"(('LiFFT_v1.4.0'!$H$20-moment_cd_relationship!A44)*((moment_cd_relationship!B44-moment_cd_relationship!B45)/(moment_cd_relationship!A44-moment_cd_relationship!A45))+moment_cd_relationship!B44)*'LiFFT_v1.4.0'!$J$20","v":{"$error":"#VALUE!"}},{"$f":"(('LiFFT_v1.4.0'!$H$23-moment_cd_relationship!A44)*((moment_cd_relationship!B44-moment_cd_relationship!B45)/(moment_cd_relationship!A44-moment_cd_relationship!A45))+moment_cd_relationship!B44)*'LiFFT_v1.4.0'!$J$23","v":{"$error":"#VALUE!"}},{"$f":"(('LiFFT_v1.4.0'!$H$26-moment_cd_relationship!A44)*((moment_cd_relationship!B44-moment_cd_relationship!B45)/(moment_cd_relationship!A44-moment_cd_relationship!A45))+moment_cd_relationship!B44)*'LiFFT_v1.4.0'!$J$26","v":{"$error":"#VALUE!"}},{"$f":"(('LiFFT_v1.4.0'!$H$29-moment_cd_relationship!A44)*((moment_cd_relationship!B44-moment_cd_relationship!B45)/(moment_cd_relationship!A44-moment_cd_relationship!A45))+moment_cd_relationship!B44)*'LiFFT_v1.4.0'!$J$29","v":{"$error":"#VALUE!"}},{"$f":"(('LiFFT_v1.4.0'!$H$32-moment_cd_relationship!A44)*((moment_cd_relationship!B44-moment_cd_relationship!B45)/(moment_cd_relationship!A44-moment_cd_relationship!A45))+moment_cd_relationship!B44)*'LiFFT_v1.4.0'!$J$32","v":{"$error":"#VALUE!"}}]
[43,1.38E-5,{"$f":"(('LiFFT_v1.4.0'!$H$5-moment_cd_relationship!A45)*((moment_cd_relationship!B45-moment_cd_relationship!B46)/(moment_cd_relationship!A45-moment_cd_relationship!A46))+moment_cd_relationship!B45)*'LiFFT_v1.4.0'!$J$5","v":-4.4999999999999693E-3},{"$f":"(('LiFFT_v1.4.0'!$H$8-moment_cd_relationship!A45)*((moment_cd_relationship!B45-moment_cd_relationship!B46)/(moment_cd_relationship!A45-moment_cd_relationship!A46))+moment_cd_relationship!B45)*'LiFFT_v1.4.0'!$J$8","v":{"$error":"#VALUE!"}},{"$f":"(('LiFFT_v1.4.0'!$H$11-moment_cd_relationship!A45)*((moment_cd_relationship!B45-moment_cd_relationship!B46)/(moment_cd_relationship!A45-moment_cd_relationship!A46))+moment_cd_relationship!B45)*'LiFFT_v1.4.0'!$J$11","v":{"$error":"#VALUE!"}},{"$f":"(('LiFFT_v1.4.0'!$H$14-moment_cd_relationship!A45)*((moment_cd_relationship!B45-moment_cd_relationship!B46)/(moment_cd_relationship!A45-moment_cd_relationship!A46))+moment_cd_relationship!B45)*'LiFFT_v1.4.0'!$J$14","v":{"$error":"#VALUE!"}},{"$f":"(('LiFFT_v1.4.0'!$H$17-moment_cd_relationship!A45)*((moment_cd_relationship!B45-moment_cd_relationship!B46)/(moment_cd_relationship!A45-moment_cd_relationship!A46))+moment_cd_relationship!B45)*'LiFFT_v1.4.0'!$J$17","v":{"$error":"#VALUE!"}},{"$f":"(('LiFFT_v1.4.0'!$H$20-moment_cd_relationship!A45)*((moment_cd_relationship!B45-moment_cd_relationship!B46)/(moment_cd_relationship!A45-moment_cd_relationship!A46))+moment_cd_relationship!B45)*'LiFFT_v1.4.0'!$J$20","v":{"$error":"#VALUE!"}},{"$f":"(('LiFFT_v1.4.0'!$H$23-moment_cd_relationship!A45)*((moment_cd_relationship!B45-moment_cd_relationship!B46)/(moment_cd_relationship!A45-moment_cd_relationship!A46))+moment_cd_relationship!B45)*'LiFFT_v1.4.0'!$J$23","v":{"$error":"#VALUE!"}},{"$f":"(('LiFFT_v1.4.0'!$H$26-moment_cd_relationship!A45)*((moment_cd_relationship!B45-moment_cd_relationship!B46)/(moment_cd_relationship!A45-moment_cd_relationship!A46))+moment_cd_relationship!B45)*'LiFFT_v1.4.0'!$J$26","v":{"$error":"#VALUE!"}},{"$f":"(('LiFFT_v1.4.0'!$H$29-moment_cd_relationship!A45)*((moment_cd_relationship!B45-moment_cd_relationship!B46)/(moment_cd_relationship!A45-moment_cd_relationship!A46))+moment_cd_relationship!B45)*'LiFFT_v1.4.0'!$J$29","v":{"$error":"#VALUE!"}},{"$f":"(('LiFFT_v1.4.0'!$H$32-moment_cd_relationship!A45)*((moment_cd_relationship!B45-moment_cd_relationship!B46)/(moment_cd_relationship!A45-moment_cd_relationship!A46))+moment_cd_relationship!B45)*'LiFFT_v1.4.0'!$J$32","v":{"$error":"#VALUE!"}}]
[44,1.4600000000000001E-5,{"$f":"(('LiFFT_v1.4.0'!$H$5-moment_cd_relationship!A46)*((moment_cd_relationship!B46-moment_cd_relationship!B47)/(moment_cd_relationship!A46-moment_cd_relationship!A47))+moment_cd_relationship!B46)*'LiFFT_v1.4.0'!$J$5","v":-1.2900000000000035E-2},{"$f":"(('LiFFT_v1.4.0'!$H$8-moment_cd_relationship!A46)*((moment_cd_relationship!B46-moment_cd_relationship!B47)/(moment_cd_relationship!A46-moment_cd_relationship!A47))+moment_cd_relationship!B46)*'LiFFT_v1.4.0'!$J$8","v":{"$error":"#VALUE!"}},{"$f":"(('LiFFT_v1.4.0'!$H$11-moment_cd_relationship!A46)*((moment_cd_relationship!B46-moment_cd_relationship!B47)/(moment_cd_relationship!A46-moment_cd_relationship!A47))+moment_cd_relationship!B46)*'LiFFT_v1.4.0'!$J$11","v":{"$error":"#VALUE!"}},{"$f":"(('LiFFT_v1.4.0'!$H$14-moment_cd_relationship!A46)*((moment_cd_relationship!B46-moment_cd_relationship!B47)/(moment_cd_relationship!A46-moment_cd_relationship!A47))+moment_cd_relationship!B46)*'LiFFT_v1.4.0'!$J$14","v":{"$error":"#VALUE!"}},{"$f":"(('LiFFT_v1.4.0'!$H$17-moment_cd_relationship!A46)*((moment_cd_relationship!B46-moment_cd_relationship!B47)/(moment_cd_relationship!A46-moment_cd_relationship!A47))+moment_cd_relationship!B46)*'LiFFT_v1.4.0'!$J$17","v":{"$error":"#VALUE!"}},{"$f":"(('LiFFT_v1.4.0'!$H$20-moment_cd_relationship!A46)*((moment_cd_relationship!B46-moment_cd_relationship!B47)/(moment_cd_relationship!A46-moment_cd_relationship!A47))+moment_cd_relationship!B46)*'LiFFT_v1.4.0'!$J$20","v":{"$error":"#VALUE!"}},{"$f":"(('LiFFT_v1.4.0'!$H$23-moment_cd_relationship!A46)*((moment_cd_relationship!B46-moment_cd_relationship!B47)/(moment_cd_relationship!A46-moment_cd_relationship!A47))+moment_cd_relationship!B46)*'LiFFT_v1.4.0'!$J$23","v":{"$error":"#VALUE!"}},{"$f":"(('LiFFT_v1.4.0'!$H$26-moment_cd_relationship!A46)*((moment_cd_relationship!B46-moment_cd_relationship!B47)/(moment_cd_relationship!A46-moment_cd_relationship!A47))+moment_cd_relationship!B46)*'LiFFT_v1.4.0'!$J$26","v":{"$error":"#VALUE!"}},{"$f":"(('LiFFT_v1.4.0'!$H$29-moment_cd_relationship!A46)*((moment_cd_relationship!B46-moment_cd_relationship!B47)/(moment_cd_relationship!A46-moment_cd_relationship!A47))+moment_cd_relationship!B46)*'LiFFT_v1.4.0'!$J$29","v":{"$error":"#VALUE!"}},{"$f":"(('LiFFT_v1.4.0'!$H$32-moment_cd_relationship!A46)*((moment_cd_relationship!B46-moment_cd_relationship!B47)/(moment_cd_relationship!A46-moment_cd_relationship!A47))+moment_cd_relationship!B46)*'LiFFT_v1.4.0'!$J$32","v":{"$error":"#VALUE!"}}]
[45,1.5299999999999999E-5,{"$f":"(('LiFFT_v1.4.0'!$H$5-moment_cd_relationship!A47)*((moment_cd_relationship!B47-moment_cd_relationship!B48)/(moment_cd_relationship!A47-moment_cd_relationship!A48))+moment_cd_relationship!B47)*'LiFFT_v1.4.0'!$J$5","v":-8.5499999999999257E-3},{"$f":"(('LiFFT_v1.4.0'!$H$8-moment_cd_relationship!A47)*((moment_cd_relationship!B47-moment_cd_relationship!B48)/(moment_cd_relationship!A47-moment_cd_relationship!A48))+moment_cd_relationship!B47)*'LiFFT_v1.4.0'!$J$8","v":{"$error":"#VALUE!"}},{"$f":"(('LiFFT_v1.4.0'!$H$11-moment_cd_relationship!A47)*((moment_cd_relationship!B47-moment_cd_relationship!B48)/(moment_cd_relationship!A47-moment_cd_relationship!A48))+moment_cd_relationship!B47)*'LiFFT_v1.4.0'!$J$11","v":{"$error":"#VALUE!"}},{"$f":"(('LiFFT_v1.4.0'!$H$14-moment_cd_relationship!A47)*((moment_cd_relationship!B47-moment_cd_relationship!B48)/(moment_cd_relationship!A47-moment_cd_relationship!A48))+moment_cd_relationship!B47)*'LiFFT_v1.4.0'!$J$14","v":{"$error":"#VALUE!"}},{"$f":"(('LiFFT_v1.4.0'!$H$17-moment_cd_relationship!A47)*((moment_cd_relationship!B47-moment_cd_relationship!B48)/(moment_cd_relationship!A47-moment_cd_relationship!A48))+moment_cd_relationship!B47)*'LiFFT_v1.4.0'!$J$17","v":{"$error":"#VALUE!"}},{"$f":"(('LiFFT_v1.4.0'!$H$20-moment_cd_relationship!A47)*((moment_cd_relationship!B47-moment_cd_relationship!B48)/(moment_cd_relationship!A47-moment_cd_relationship!A48))+moment_cd_relationship!B47)*'LiFFT_v1.4.0'!$J$20","v":{"$error":"#VALUE!"}},{"$f":"(('LiFFT_v1.4.0'!$H$23-moment_cd_relationship!A47)*((moment_cd_relationship!B47-moment_cd_relationship!B48)/(moment_cd_relationship!A47-moment_cd_relationship!A48))+moment_cd_relationship!B47)*'LiFFT_v1.4.0'!$J$23","v":{"$error":"#VALUE!"}},{"$f":"(('LiFFT_v1.4.0'!$H$26-moment_cd_relationship!A47)*((moment_cd_relationship!B47-moment_cd_relationship!B48)/(moment_cd_relationship!A47-moment_cd_relationship!A48))+moment_cd_relationship!B47)*'LiFFT_v1.4.0'!$J$26","v":{"$error":"#VALUE!"}},{"$f":"(('LiFFT_v1.4.0'!$H$29-moment_cd_relationship!A47)*((moment_cd_relationship!B47-moment_cd_relationship!B48)/(moment_cd_relationship!A47-moment_cd_relationship!A48))+moment_cd_relationship!B47)*'LiFFT_v1.4.0'!$J$29","v":{"$error":"#VALUE!"}},{"$f":"(('LiFFT_v1.4.0'!$H$32-moment_cd_relationship!A47)*((moment_cd_relationship!B47-moment_cd_relationship!B48)/(moment_cd_relationship!A47-moment_cd_relationship!A48))+moment_cd_relationship!B47)*'LiFFT_v1.4.0'!$J$32","v":{"$error":"#VALUE!"}}]
[46,1.6099999999999998E-5,{"$f":"(('LiFFT_v1.4.0'!$H$5-moment_cd_relationship!A48)*((moment_cd_relationship!B48-moment_cd_relationship!B49)/(moment_cd_relationship!A48-moment_cd_relationship!A49))+moment_cd_relationship!B48)*'LiFFT_v1.4.0'!$J$5","v":-1.3049999999999961E-2},{"$f":"(('LiFFT_v1.4.0'!$H$8-moment_cd_relationship!A48)*((moment_cd_relationship!B48-moment_cd_relationship!B49)/(moment_cd_relationship!A48-moment_cd_relationship!A49))+moment_cd_relationship!B48)*'LiFFT_v1.4.0'!$J$8","v":{"$error":"#VALUE!"}},{"$f":"(('LiFFT_v1.4.0'!$H$11-moment_cd_relationship!A48)*((moment_cd_relationship!B48-moment_cd_relationship!B49)/(moment_cd_relationship!A48-moment_cd_relationship!A49))+moment_cd_relationship!B48)*'LiFFT_v1.4.0'!$J$11","v":{"$error":"#VALUE!"}},{"$f":"(('LiFFT_v1.4.0'!$H$14-moment_cd_relationship!A48)*((moment_cd_relationship!B48-moment_cd_relationship!B49)/(moment_cd_relationship!A48-moment_cd_relationship!A49))+moment_cd_relationship!B48)*'LiFFT_v1.4.0'!$J$14","v":{"$error":"#VALUE!"}},{"$f":"(('LiFFT_v1.4.0'!$H$17-moment_cd_relationship!A48)*((moment_cd_relationship!B48-moment_cd_relationship!B49)/(moment_cd_relationship!A48-moment_cd_relationship!A49))+moment_cd_relationship!B48)*'LiFFT_v1.4.0'!$J$17","v":{"$error":"#VALUE!"}},{"$f":"(('LiFFT_v1.4.0'!$H$20-moment_cd_relationship!A48)*((moment_cd_relationship!B48-moment_cd_relationship!B49)/(moment_cd_relationship!A48-moment_cd_relationship!A49))+moment_cd_relationship!B48)*'LiFFT_v1.4.0'!$J$20","v":{"$error":"#VALUE!"}},{"$f":"(('LiFFT_v1.4.0'!$H$23-moment_cd_relationship!A48)*((moment_cd_relationship!B48-moment_cd_relationship!B49)/(moment_cd_relationship!A48-moment_cd_relationship!A49))+moment_cd_relationship!B48)*'LiFFT_v1.4.0'!$J$23","v":{"$error":"#VALUE!"}},{"$f":"(('LiFFT_v1.4.0'!$H$26-moment_cd_relationship!A48)*((moment_cd_relationship!B48-moment_cd_relationship!B49)/(moment_cd_relationship!A48-moment_cd_relationship!A49))+moment_cd_relationship!B48)*'LiFFT_v1.4.0'!$J$26","v":{"$error":"#VALUE!"}},{"$f":"(('LiFFT_v1.4.0'!$H$29-moment_cd_relationship!A48)*((moment_cd_relationship!B48-moment_cd_relationship!B49)/(moment_cd_relationship!A48-moment_cd_relationship!A49))+moment_cd_relationship!B48)*'LiFFT_v1.4.0'!$J$29","v":{"$error":"#VALUE!"}},{"$f":"(('LiFFT_v1.4.0'!$H$32-moment_cd_relationship!A48)*((moment_cd_relationship!B48-moment_cd_relationship!B49)/(moment_cd_relationship!A48-moment_cd_relationship!A49))+moment_cd_relationship!B48)*'LiFFT_v1.4.0'!$J$32","v":{"$error":"#VALUE!"}}]
[47,1.6900000000000001E-5,{"$f":"(('LiFFT_v1.4.0'!$H$5-moment_cd_relationship!A49)*((moment_cd_relationship!B49-moment_cd_relationship!B50)/(moment_cd_relationship!A49-moment_cd_relationship!A50))+moment_cd_relationship!B49)*'LiFFT_v1.4.0'!$J$5","v":-1.3050000000000119E-2},{"$f":"(('LiFFT_v1.4.0'!$H$8-moment_cd_relationship!A49)*((moment_cd_relationship!B49-moment_cd_relationship!B50)/(moment_cd_relationship!A49-moment_cd_relationship!A50))+moment_cd_relationship!B49)*'LiFFT_v1.4.0'!$J$8","v":{"$error":"#VALUE!"}},{"$f":"(('LiFFT_v1.4.0'!$H$11-moment_cd_relationship!A49)*((moment_cd_relationship!B49-moment_cd_relationship!B50)/(moment_cd_relationship!A49-moment_cd_relationship!A50))+moment_cd_relationship!B49)*'LiFFT_v1.4.0'!$J$11","v":{"$error":"#VALUE!"}},{"$f":"(('LiFFT_v1.4.0'!$H$14-moment_cd_relationship!A49)*((moment_cd_relationship!B49-moment_cd_relationship!B50)/(moment_cd_relationship!A49-moment_cd_relationship!A50))+moment_cd_relationship!B49)*'LiFFT_v1.4.0'!$J$14","v":{"$error":"#VALUE!"}},{"$f":"(('LiFFT_v1.4.0'!$H$17-moment_cd_relationship!A49)*((moment_cd_relationship!B49-moment_cd_relationship!B50)/(moment_cd_relationship!A49-moment_cd_relationship!A50))+moment_cd_relationship!B49)*'LiFFT_v1.4.0'!$J$17","v":{"$error":"#VALUE!"}},{"$f":"(('LiFFT_v1.4.0'!$H$20-moment_cd_relationship!A49)*((moment_cd_relationship!B49-moment_cd_relationship!B50)/(moment_cd_relationship!A49-moment_cd_relationship!A50))+moment_cd_relationship!B49)*'LiFFT_v1.4.0'!$J$20","v":{"$error":"#VALUE!"}},{"$f":"(('LiFFT_v1.4.0'!$H$23-moment_cd_relationship!A49)*((moment_cd_relationship!B49-moment_cd_relationship!B50)/(moment_cd_relationship!A49-moment_cd_relationship!A50))+moment_cd_relationship!B49)*'LiFFT_v1.4.0'!$J$23","v":{"$error":"#VALUE!"}},{"$f":"(('LiFFT_v1.4.0'!$H$26-moment_cd_relationship!A49)*((moment_cd_relationship!B49-moment_cd_relationship!B50)/(moment_cd_relationship!A49-moment_cd_relationship!A50))+moment_cd_relationship!B49)*'LiFFT_v1.4.0'!$J$26","v":{"$error":"#VALUE!"}},{"$f":"(('LiFFT_v1.4.0'!$H$29-moment_cd_relationship!A49)*((moment_cd_relationship!B49-moment_cd_relationship!B50)/(moment_cd_relationship!A49-moment_cd_relationship!A50))+moment_cd_relationship!B49)*'LiFFT_v1.4.0'!$J$29","v":{"$error":"#VALUE!"}},{"$f":"(('LiFFT_v1.4.0'!$H$32-moment_cd_relationship!A49)*((moment_cd_relationship!B49-moment_cd_relationship!B50)/(moment_cd_relationship!A49-moment_cd_relationship!A50))+moment_cd_relationship!B49)*'LiFFT_v1.4.0'!$J$32","v":{"$error":"#VALUE!"}}]
[48,1.7799999999999999E-5,{"$f":"(('LiFFT_v1.4.0'!$H$5-moment_cd_relationship!A50)*((moment_cd_relationship!B50-moment_cd_relationship!B51)/(moment_cd_relationship!A50-moment_cd_relationship!A51))+moment_cd_relationship!B50)*'LiFFT_v1.4.0'!$J$5","v":-1.7849999999999911E-2},{"$f":"(('LiFFT_v1.4.0'!$H$8-moment_cd_relationship!A50)*((moment_cd_relationship!B50-moment_cd_relationship!B51)/(moment_cd_relationship!A50-moment_cd_relationship!A51))+moment_cd_relationship!B50)*'LiFFT_v1.4.0'!$J$8","v":{"$error":"#VALUE!"}},{"$f":"(('LiFFT_v1.4.0'!$H$11-moment_cd_relationship!A50)*((moment_cd_relationship!B50-moment_cd_relationship!B51)/(moment_cd_relationship!A50-moment_cd_relationship!A51))+moment_cd_relationship!B50)*'LiFFT_v1.4.0'!$J$11","v":{"$error":"#VALUE!"}},{"$f":"(('LiFFT_v1.4.0'!$H$14-moment_cd_relationship!A50)*((moment_cd_relationship!B50-moment_cd_relationship!B51)/(moment_cd_relationship!A50-moment_cd_relationship!A51))+moment_cd_relationship!B50)*'LiFFT_v1.4.0'!$J$14","v":{"$error":"#VALUE!"}},{"$f":"(('LiFFT_v1.4.0'!$H$17-moment_cd_relationship!A50)*((moment_cd_relationship!B50-moment_cd_relationship!B51)/(moment_cd_relationship!A50-moment_cd_relationship!A51))+moment_cd_relationship!B50)*'LiFFT_v1.4.0'!$J$17","v":{"$error":"#VALUE!"}},{"$f":"(('LiFFT_v1.4.0'!$H$20-moment_cd_relationship!A50)*((moment_cd_relationship!B50-moment_cd_relationship!B51)/(moment_cd_relationship!A50-moment_cd_relationship!A51))+moment_cd_relationship!B50)*'LiFFT_v1.4.0'!$J$20","v":{"$error":"#VALUE!"}},{"$f":"(('LiFFT_v1.4.0'!$H$23-moment_cd_relationship!A50)*((moment_cd_relationship!B50-moment_cd_relationship!B51)/(moment_cd_relationship!A50-moment_cd_relationship!A51))+moment_cd_relationship!B50)*'LiFFT_v1.4.0'!$J$23","v":{"$error":"#VALUE!"}},{"$f":"(('LiFFT_v1.4.0'!$H$26-moment_cd_relationship!A50)*((moment_cd_relationship!B50-moment_cd_relationship!B51)/(moment_cd_relationship!A50-moment_cd_relationship!A51))+moment_cd_relationship!B50)*'LiFFT_v1.4.0'!$J$26","v":{"$error":"#VALUE!"}},{"$f":"(('LiFFT_v1.4.0'!$H$29-moment_cd_relationship!A50)*((moment_cd_relationship!B50-moment_cd_relationship!B51)/(moment_cd_relationship!A50-moment_cd_relationship!A51))+moment_cd_relationship!B50)*'LiFFT_v1.4.0'!$J$29","v":{"$error":"#VALUE!"}},{"$f":"(('LiFFT_v1.4.0'!$H$32-moment_cd_relationship!A50)*((moment_cd_relationship!B50-moment_cd_relationship!B51)/(moment_cd_relationship!A50-moment_cd_relationship!A51))+moment_cd_relationship!B50)*'LiFFT_v1.4.0'!$J$32","v":{"$error":"#VALUE!"}}]
[49,1.8700000000000001E-5,{"$f":"(('LiFFT_v1.4.0'!$H$5-moment_cd_relationship!A51)*((moment_cd_relationship!B51-moment_cd_relationship!B52)/(moment_cd_relationship!A51-moment_cd_relationship!A52))+moment_cd_relationship!B51)*'LiFFT_v1.4.0'!$J$5","v":-1.7850000000000078E-2},{"$f":"(('LiFFT_v1.4.0'!$H$8-moment_cd_relationship!A51)*((moment_cd_relationship!B51-moment_cd_relationship!B52)/(moment_cd_relationship!A51-moment_cd_relationship!A52))+moment_cd_relationship!B51)*'LiFFT_v1.4.0'!$J$8","v":{"$error":"#VALUE!"}},{"$f":"(('LiFFT_v1.4.0'!$H$11-moment_cd_relationship!A51)*((moment_cd_relationship!B51-moment_cd_relationship!B52)/(moment_cd_relationship!A51-moment_cd_relationship!A52))+moment_cd_relationship!B51)*'LiFFT_v1.4.0'!$J$11","v":{"$error":"#VALUE!"}},{"$f":"(('LiFFT_v1.4.0'!$H$14-moment_cd_relationship!A51)*((moment_cd_relationship!B51-moment_cd_relationship!B52)/(moment_cd_relationship!A51-moment_cd_relationship!A52))+moment_cd_relationship!B51)*'LiFFT_v1.4.0'!$J$14","v":{"$error":"#VALUE!"}},{"$f":"(('LiFFT_v1.4.0'!$H$17-moment_cd_relationship!A51)*((moment_cd_relationship!B51-moment_cd_relationship!B52)/(moment_cd_relationship!A51-moment_cd_relationship!A52))+moment_cd_relationship!B51)*'LiFFT_v1.4.0'!$J$17","v":{"$error":"#VALUE!"}},{"$f":"(('LiFFT_v1.4.0'!$H$20-moment_cd_relationship!A51)*((moment_cd_relationship!B51-moment_cd_relationship!B52)/(moment_cd_relationship!A51-moment_cd_relationship!A52))+moment_cd_relationship!B51)*'LiFFT_v1.4.0'!$J$20","v":{"$error":"#VALUE!"}},{"$f":"(('LiFFT_v1.4.0'!$H$23-moment_cd_relationship!A51)*((moment_cd_relationship!B51-moment_cd_relationship!B52)/(moment_cd_relationship!A51-moment_cd_relationship!A52))+moment_cd_relationship!B51)*'LiFFT_v1.4.0'!$J$23","v":{"$error":"#VALUE!"}},{"$f":"(('LiFFT_v1.4.0'!$H$26-moment_cd_relationship!A51)*((moment_cd_relationship!B51-moment_cd_relationship!B52)/(moment_cd_relationship!A51-moment_cd_relationship!A52))+moment_cd_relationship!B51)*'LiFFT_v1.4.0'!$J$26","v":{"$error":"#VALUE!"}},{"$f":"(('LiFFT_v1.4.0'!$H$29-moment_cd_relationship!A51)*((moment_cd_relationship!B51-moment_cd_relationship!B52)/(moment_cd_relationship!A51-moment_cd_relationship!A52))+moment_cd_relationship!B51)*'LiFFT_v1.4.0'!$J$29","v":{"$error":"#VALUE!"}},{"$f":"(('LiFFT_v1.4.0'!$H$32-moment_cd_relationship!A51)*((moment_cd_relationship!B51-moment_cd_relationship!B52)/(moment_cd_relationship!A51-moment_cd_relationship!A52))+moment_cd_relationship!B51)*'LiFFT_v1.4.0'!$J$32","v":{"$error":"#VALUE!"}}]
[50,1.9700000000000001E-5,{"$f":"(('LiFFT_v1.4.0'!$H$5-moment_cd_relationship!A52)*((moment_cd_relationship!B52-moment_cd_relationship!B53)/(moment_cd_relationship!A52-moment_cd_relationship!A53))+moment_cd_relationship!B52)*'LiFFT_v1.4.0'!$J$5","v":-2.2950000000000029E-2},{"$f":"(('LiFFT_v1.4.0'!$H$8-moment_cd_relationship!A52)*((moment_cd_relationship!B52-moment_cd_relationship!B53)/(moment_cd_relationship!A52-moment_cd_relationship!A53))+moment_cd_relationship!B52)*'LiFFT_v1.4.0'!$J$8","v":{"$error":"#VALUE!"}},{"$f":"(('LiFFT_v1.4.0'!$H$11-moment_cd_relationship!A52)*((moment_cd_relationship!B52-moment_cd_relationship!B53)/(moment_cd_relationship!A52-moment_cd_relationship!A53))+moment_cd_relationship!B52)*'LiFFT_v1.4.0'!$J$11","v":{"$error":"#VALUE!"}},{"$f":"(('LiFFT_v1.4.0'!$H$14-moment_cd_relationship!A52)*((moment_cd_relationship!B52-moment_cd_relationship!B53)/(moment_cd_relationship!A52-moment_cd_relationship!A53))+moment_cd_relationship!B52)*'LiFFT_v1.4.0'!$J$14","v":{"$error":"#VALUE!"}},{"$f":"(('LiFFT_v1.4.0'!$H$17-moment_cd_relationship!A52)*((moment_cd_relationship!B52-moment_cd_relationship!B53)/(moment_cd_relationship!A52-moment_cd_relationship!A53))+moment_cd_relationship!B52)*'LiFFT_v1.4.0'!$J$17","v":{"$error":"#VALUE!"}},{"$f":"(('LiFFT_v1.4.0'!$H$20-moment_cd_relationship!A52)*((moment_cd_relationship!B52-moment_cd_relationship!B53)/(moment_cd_relationship!A52-moment_cd_relationship!A53))+moment_cd_relationship!B52)*'LiFFT_v1.4.0'!$J$20","v":{"$error":"#VALUE!"}},{"$f":"(('LiFFT_v1.4.0'!$H$23-moment_cd_relationship!A52)*((moment_cd_relationship!B52-moment_cd_relationship!B53)/(moment_cd_relationship!A52-moment_cd_relationship!A53))+moment_cd_relationship!B52)*'LiFFT_v1.4.0'!$J$23","v":{"$error":"#VALUE!"}},{"$f":"(('LiFFT_v1.4.0'!$H$26-moment_cd_relationship!A52)*((moment_cd_relationship!B52-moment_cd_relationship!B53)/(moment_cd_relationship!A52-moment_cd_relationship!A53))+moment_cd_relationship!B52)*'LiFFT_v1.4.0'!$J$26","v":{"$error":"#VALUE!"}},{"$f":"(('LiFFT_v1.4.0'!$H$29-moment_cd_relationship!A52)*((moment_cd_relationship!B52-moment_cd_relationship!B53)/(moment_cd_relationship!A52-moment_cd_relationship!A53))+moment_cd_relationship!B52)*'LiFFT_v1.4.0'!$J$29","v":{"$error":"#VALUE!"}},{"$f":"(('LiFFT_v1.4.0'!$H$32-moment_cd_relationship!A52)*((moment_cd_relationship!B52-moment_cd_relationship!B53)/(moment_cd_relationship!A52-moment_cd_relationship!A53))+moment_cd_relationship!B52)*'LiFFT_v1.4.0'!$J$32","v":{"$error":"#VALUE!"}}]
[51,2.0699999999999998E-5,{"$f":"(('LiFFT_v1.4.0'!$H$5-moment_cd_relationship!A53)*((moment_cd_relationship!B53-moment_cd_relationship!B54)/(moment_cd_relationship!A53-moment_cd_relationship!A54))+moment_cd_relationship!B53)*'LiFFT_v1.4.0'!$J$5","v":-2.2949999999999852E-2},{"$f":"(('LiFFT_v1.4.0'!$H$8-moment_cd_relationship!A53)*((moment_cd_relationship!B53-moment_cd_relationship!B54)/(moment_cd_relationship!A53-moment_cd_relationship!A54))+moment_cd_relationship!B53)*'LiFFT_v1.4.0'!$J$8","v":{"$error":"#VALUE!"}},{"$f":"(('LiFFT_v1.4.0'!$H$11-moment_cd_relationship!A53)*((moment_cd_relationship!B53-moment_cd_relationship!B54)/(moment_cd_relationship!A53-moment_cd_relationship!A54))+moment_cd_relationship!B53)*'LiFFT_v1.4.0'!$J$11","v":{"$error":"#VALUE!"}},{"$f":"(('LiFFT_v1.4.0'!$H$14-moment_cd_relationship!A53)*((moment_cd_relationship!B53-moment_cd_relationship!B54)/(moment_cd_relationship!A53-moment_cd_relationship!A54))+moment_cd_relationship!B53)*'LiFFT_v1.4.0'!$J$14","v":{"$error":"#VALUE!"}},{"$f":"(('LiFFT_v1.4.0'!$H$17-moment_cd_relationship!A53)*((moment_cd_relationship!B53-moment_cd_relationship!B54)/(moment_cd_relationship!A53-moment_cd_relationship!A54))+moment_cd_relationship!B53)*'LiFFT_v1.4.0'!$J$17","v":{"$error":"#VALUE!"}},{"$f":"(('LiFFT_v1.4.0'!$H$20-moment_cd_relationship!A53)*((moment_cd_relationship!B53-moment_cd_relationship!B54)/(moment_cd_relationship!A53-moment_cd_relationship!A54))+moment_cd_relationship!B53)*'LiFFT_v1.4.0'!$J$20","v":{"$error":"#VALUE!"}},{"$f":"(('LiFFT_v1.4.0'!$H$23-moment_cd_relationship!A53)*((moment_cd_relationship!B53-moment_cd_relationship!B54)/(moment_cd_relationship!A53-moment_cd_relationship!A54))+moment_cd_relationship!B53)*'LiFFT_v1.4.0'!$J$23","v":{"$error":"#VALUE!"}},{"$f":"(('LiFFT_v1.4.0'!$H$26-moment_cd_relationship!A53)*((moment_cd_relationship!B53-moment_cd_relationship!B54)/(moment_cd_relationship!A53-moment_cd_relationship!A54))+moment_cd_relationship!B53)*'LiFFT_v1.4.0'!$J$26","v":{"$error":"#VALUE!"}},{"$f":"(('LiFFT_v1.4.0'!$H$29-moment_cd_relationship!A53)*((moment_cd_relationship!B53-moment_cd_relationship!B54)/(moment_cd_relationship!A53-moment_cd_relationship!A54))+moment_cd_relationship!B53)*'LiFFT_v1.4.0'!$J$29","v":{"$error":"#VALUE!"}},{"$f":"(('LiFFT_v1.4.0'!$H$32-moment_cd_relationship!A53)*((moment_cd_relationship!B53-moment_cd_relationship!B54)/(moment_cd_relationship!A53-moment_cd_relationship!A54))+moment_cd_relationship!B53)*'LiFFT_v1.4.0'!$J$32","v":{"$error":"#VALUE!"}}]
[52,2.1800000000000001E-5,{"$f":"(('LiFFT_v1.4.0'!$H$5-moment_cd_relationship!A54)*((moment_cd_relationship!B54-moment_cd_relationship!B55)/(moment_cd_relationship!A54-moment_cd_relationship!A55))+moment_cd_relationship!B54)*'LiFFT_v1.4.0'!$J$5","v":-2.8350000000000167E-2},{"$f":"(('LiFFT_v1.4.0'!$H$8-moment_cd_relationship!A54)*((moment_cd_relationship!B54-moment_cd_relationship!B55)/(moment_cd_relationship!A54-moment_cd_relationship!A55))+moment_cd_relationship!B54)*'LiFFT_v1.4.0'!$J$8","v":{"$error":"#VALUE!"}},{"$f":"(('LiFFT_v1.4.0'!$H$11-moment_cd_relationship!A54)*((moment_cd_relationship!B54-moment_cd_relationship!B55)/(moment_cd_relationship!A54-moment_cd_relationship!A55))+moment_cd_relationship!B54)*'LiFFT_v1.4.0'!$J$11","v":{"$error":"#VALUE!"}},{"$f":"(('LiFFT_v1.4.0'!$H$14-moment_cd_relationship!A54)*((moment_cd_relationship!B54-moment_cd_relationship!B55)/(moment_cd_relationship!A54-moment_cd_relationship!A55))+moment_cd_relationship!B54)*'LiFFT_v1.4.0'!$J$14","v":{"$error":"#VALUE!"}},{"$f":"(('LiFFT_v1.4.0'!$H$17-moment_cd_relationship!A54)*((moment_cd_relationship!B54-moment_cd_relationship!B55)/(moment_cd_relationship!A54-moment_cd_relationship!A55))+moment_cd_relationship!B54)*'LiFFT_v1.4.0'!$J$17","v":{"$error":"#VALUE!"}},{"$f":"(('LiFFT_v1.4.0'!$H$20-moment_cd_relationship!A54)*((moment_cd_relationship!B54-moment_cd_relationship!B55)/(moment_cd_relationship!A54-moment_cd_relationship!A55))+moment_cd_relationship!B54)*'LiFFT_v1.4.0'!$J$20","v":{"$error":"#VALUE!"}},{"$f":"(('LiFFT_v1.4.0'!$H$23-moment_cd_relationship!A54)*((moment_cd_relationship!B54-moment_cd_relationship!B55)/(moment_cd_relationship!A54-moment_cd_relationship!A55))+moment_cd_relationship!B54)*'LiFFT_v1.4.0'!$J$23","v":{"$error":"#VALUE!"}},{"$f":"(('LiFFT_v1.4.0'!$H$26-moment_cd_relationship!A54)*((moment_cd_relationship!B54-moment_cd_relationship!B55)/(moment_cd_relationship!A54-moment_cd_relationship!A55))+moment_cd_relationship!B54)*'LiFFT_v1.4.0'!$J$26","v":{"$error":"#VALUE!"}},{"$f":"(('LiFFT_v1.4.0'!$H$29-moment_cd_relationship!A54)*((moment_cd_relationship!B54-moment_cd_relationship!B55)/(moment_cd_relationship!A54-moment_cd_relationship!A55))+moment_cd_relationship!B54)*'LiFFT_v1.4.0'!$J$29","v":{"$error":"#VALUE!"}},{"$f":"(('LiFFT_v1.4.0'!$H$32-moment_cd_relationship!A54)*((moment_cd_relationship!B54-moment_cd_relationship!B55)/(moment_cd_relationship!A54-moment_cd_relationship!A55))+moment_cd_relationship!B54)*'LiFFT_v1.4.0'!$J$32","v":{"$error":"#VALUE!"}}]
[53,2.2900000000000001E-5,{"$f":"(('LiFFT_v1.4.0'!$H$5-moment_cd_relationship!A55)*((moment_cd_relationship!B55-moment_cd_relationship!B56)/(moment_cd_relationship!A55-moment_cd_relationship!A56))+moment_cd_relationship!B55)*'LiFFT_v1.4.0'!$J$5","v":-2.8349999999999976E-2},{"$f":"(('LiFFT_v1.4.0'!$H$8-moment_cd_relationship!A55)*((moment_cd_relationship!B55-moment_cd_relationship!B56)/(moment_cd_relationship!A55-moment_cd_relationship!A56))+moment_cd_relationship!B55)*'LiFFT_v1.4.0'!$J$8","v":{"$error":"#VALUE!"}},{"$f":"(('LiFFT_v1.4.0'!$H$11-moment_cd_relationship!A55)*((moment_cd_relationship!B55-moment_cd_relationship!B56)/(moment_cd_relationship!A55-moment_cd_relationship!A56))+moment_cd_relationship!B55)*'LiFFT_v1.4.0'!$J$11","v":{"$error":"#VALUE!"}},{"$f":"(('LiFFT_v1.4.0'!$H$14-moment_cd_relationship!A55)*((moment_cd_relationship!B55-moment_cd_relationship!B56)/(moment_cd_relationship!A55-moment_cd_relationship!A56))+moment_cd_relationship!B55)*'LiFFT_v1.4.0'!$J$14","v":{"$error":"#VALUE!"}},{"$f":"(('LiFFT_v1.4.0'!$H$17-moment_cd_relationship!A55)*((moment_cd_relationship!B55-moment_cd_relationship!B56)/(moment_cd_relationship!A55-moment_cd_relationship!A56))+moment_cd_relationship!B55)*'LiFFT_v1.4.0'!$J$17","v":{"$error":"#VALUE!"}},{"$f":"(('LiFFT_v1.4.0'!$H$20-moment_cd_relationship!A55)*((moment_cd_relationship!B55-moment_cd_relationship!B56)/(moment_cd_relationship!A55-moment_cd_relationship!A56))+moment_cd_relationship!B55)*'LiFFT_v1.4.0'!$J$20","v":{"$error":"#VALUE!"}},{"$f":"(('LiFFT_v1.4.0'!$H$23-moment_cd_relationship!A55)*((moment_cd_relationship!B55-moment_cd_relationship!B56)/(moment_cd_relationship!A55-moment_cd_relationship!A56))+moment_cd_relationship!B55)*'LiFFT_v1.4.0'!$J$23","v":{"$error":"#VALUE!"}},{"$f":"(('LiFFT_v1.4.0'!$H$26-moment_cd_relationship!A55)*((moment_cd_relationship!B55-moment_cd_relationship!B56)/(moment_cd_relationship!A55-moment_cd_relationship!A56))+moment_cd_relationship!B55)*'LiFFT_v1.4.0'!$J$26","v":{"$error":"#VALUE!"}},{"$f":"(('LiFFT_v1.4.0'!$H$29-moment_cd_relationship!A55)*((moment_cd_relationship!B55-moment_cd_relationship!B56)/(moment_cd_relationship!A55-moment_cd_relationship!A56))+moment_cd_relationship!B55)*'LiFFT_v1.4.0'!$J$29","v":{"$error":"#VALUE!"}},{"$f":"(('LiFFT_v1.4.0'!$H$32-moment_cd_relationship!A55)*((moment_cd_relationship!B55-moment_cd_relationship!B56)/(moment_cd_relationship!A55-moment_cd_relationship!A56))+moment_cd_relationship!B55)*'LiFFT_v1.4.0'!$J$32","v":{"$error":"#VALUE!"}}]
[54,2.41E-5,{"$f":"(('LiFFT_v1.4.0'!$H$5-moment_cd_relationship!A56)*((moment_cd_relationship!B56-moment_cd_relationship!B57)/(moment_cd_relationship!A56-moment_cd_relationship!A57))+moment_cd_relationship!B56)*'LiFFT_v1.4.0'!$J$5","v":-3.4049999999999921E-2},{"$f":"(('LiFFT_v1.4.0'!$H$8-moment_cd_relationship!A56)*((moment_cd_relationship!B56-moment_cd_relationship!B57)/(moment_cd_relationship!A56-moment_cd_relationship!A57))+moment_cd_relationship!B56)*'LiFFT_v1.4.0'!$J$8","v":{"$error":"#VALUE!"}},{"$f":"(('LiFFT_v1.4.0'!$H$11-moment_cd_relationship!A56)*((moment_cd_relationship!B56-moment_cd_relationship!B57)/(moment_cd_relationship!A56-moment_cd_relationship!A57))+moment_cd_relationship!B56)*'LiFFT_v1.4.0'!$J$11","v":{"$error":"#VALUE!"}},{"$f":"(('LiFFT_v1.4.0'!$H$14-moment_cd_relationship!A56)*((moment_cd_relationship!B56-moment_cd_relationship!B57)/(moment_cd_relationship!A56-moment_cd_relationship!A57))+moment_cd_relationship!B56)*'LiFFT_v1.4.0'!$J$14","v":{"$error":"#VALUE!"}},{"$f":"(('LiFFT_v1.4.0'!$H$17-moment_cd_relationship!A56)*((moment_cd_relationship!B56-moment_cd_relationship!B57)/(moment_cd_relationship!A56-moment_cd_relationship!A57))+moment_cd_relationship!B56)*'LiFFT_v1.4.0'!$J$17","v":{"$error":"#VALUE!"}},{"$f":"(('LiFFT_v1.4.0'!$H$20-moment_cd_relationship!A56)*((moment_cd_relationship!B56-moment_cd_relationship!B57)/(moment_cd_relationship!A56-moment_cd_relationship!A57))+moment_cd_relationship!B56)*'LiFFT_v1.4.0'!$J$20","v":{"$error":"#VALUE!"}},{"$f":"(('LiFFT_v1.4.0'!$H$23-moment_cd_relationship!A56)*((moment_cd_relationship!B56-moment_cd_relationship!B57)/(moment_cd_relationship!A56-moment_cd_relationship!A57))+moment_cd_relationship!B56)*'LiFFT_v1.4.0'!$J$23","v":{"$error":"#VALUE!"}},{"$f":"(('LiFFT_v1.4.0'!$H$26-moment_cd_relationship!A56)*((moment_cd_relationship!B56-moment_cd_relationship!B57)/(moment_cd_relationship!A56-moment_cd_relationship!A57))+moment_cd_relationship!B56)*'LiFFT_v1.4.0'!$J$26","v":{"$error":"#VALUE!"}},{"$f":"(('LiFFT_v1.4.0'!$H$29-moment_cd_relationship!A56)*((moment_cd_relationship!B56-moment_cd_relationship!B57)/(moment_cd_relationship!A56-moment_cd_relationship!A57))+moment_cd_relationship!B56)*'LiFFT_v1.4.0'!$J$29","v":{"$error":"#VALUE!"}},{"$f":"(('LiFFT_v1.4.0'!$H$32-moment_cd_relationship!A56)*((moment_cd_relationship!B56-moment_cd_relationship!B57)/(moment_cd_relationship!A56-moment_cd_relationship!A57))+moment_cd_relationship!B56)*'LiFFT_v1.4.0'!$J$32","v":{"$error":"#VALUE!"}}]
[55,2.5400000000000001E-5,{"$f":"(('LiFFT_v1.4.0'!$H$5-moment_cd_relationship!A57)*((moment_cd_relationship!B57-moment_cd_relationship!B58)/(moment_cd_relationship!A57-moment_cd_relationship!A58))+moment_cd_relationship!B57)*'LiFFT_v1.4.0'!$J$5","v":-3.990000000000006E-2},{"$f":"(('LiFFT_v1.4.0'!$H$8-moment_cd_relationship!A57)*((moment_cd_relationship!B57-moment_cd_relationship!B58)/(moment_cd_relationship!A57-moment_cd_relationship!A58))+moment_cd_relationship!B57)*'LiFFT_v1.4.0'!$J$8","v":{"$error":"#VALUE!"}},{"$f":"(('LiFFT_v1.4.0'!$H$11-moment_cd_relationship!A57)*((moment_cd_relationship!B57-moment_cd_relationship!B58)/(moment_cd_relationship!A57-moment_cd_relationship!A58))+moment_cd_relationship!B57)*'LiFFT_v1.4.0'!$J$11","v":{"$error":"#VALUE!"}},{"$f":"(('LiFFT_v1.4.0'!$H$14-moment_cd_relationship!A57)*((moment_cd_relationship!B57-moment_cd_relationship!B58)/(moment_cd_relationship!A57-moment_cd_relationship!A58))+moment_cd_relationship!B57)*'LiFFT_v1.4.0'!$J$14","v":{"$error":"#VALUE!"}},{"$f":"(('LiFFT_v1.4.0'!$H$17-moment_cd_relationship!A57)*((moment_cd_relationship!B57-moment_cd_relationship!B58)/(moment_cd_relationship!A57-moment_cd_relationship!A58))+moment_cd_relationship!B57)*'LiFFT_v1.4.0'!$J$17","v":{"$error":"#VALUE!"}},{"$f":"(('LiFFT_v1.4.0'!$H$20-moment_cd_relationship!A57)*((moment_cd_relationship!B57-moment_cd_relationship!B58)/(moment_cd_relationship!A57-moment_cd_relationship!A58))+moment_cd_relationship!B57)*'LiFFT_v1.4.0'!$J$20","v":{"$error":"#VALUE!"}},{"$f":"(('LiFFT_v1.4.0'!$H$23-moment_cd_relationship!A57)*((moment_cd_relationship!B57-moment_cd_relationship!B58)/(moment_cd_relationship!A57-moment_cd_relationship!A58))+moment_cd_relationship!B57)*'LiFFT_v1.4.0'!$J$23","v":{"$error":"#VALUE!"}},{"$f":"(('LiFFT_v1.4.0'!$H$26-moment_cd_relationship!A57)*((moment_cd_relationship!B57-moment_cd_relationship!B58)/(moment_cd_relationship!A57-moment_cd_relationship!A58))+moment_cd_relationship!B57)*'LiFFT_v1.4.0'!$J$26","v":{"$error":"#VALUE!"}},{"$f":"(('LiFFT_v1.4.0'!$H$29-moment_cd_relationship!A57)*((moment_cd_relationship!B57-moment_cd_relationship!B58)/(moment_cd_relationship!A57-moment_cd_relationship!A58))+moment_cd_relationship!B57)*'LiFFT_v1.4.0'!$J$29","v":{"$error":"#VALUE!"}},{"$f":"(('LiFFT_v1.4.0'!$H$32-moment_cd_relationship!A57)*((moment_cd_relationship!B57-moment_cd_relationship!B58)/(moment_cd_relationship!A57-moment_cd_relationship!A58))+moment_cd_relationship!B57)*'LiFFT_v1.4.0'!$J$32","v":{"$error":"#VALUE!"}}]
[56,2.6699999999999998E-5,{"$f":"(('LiFFT_v1.4.0'!$H$5-moment_cd_relationship!A58)*((moment_cd_relationship!B58-moment_cd_relationship!B59)/(moment_cd_relationship!A58-moment_cd_relationship!A59))+moment_cd_relationship!B58)*'LiFFT_v1.4.0'!$J$5","v":-3.9899999999999859E-2},{"$f":"(('LiFFT_v1.4.0'!$H$8-moment_cd_relationship!A58)*((moment_cd_relationship!B58-moment_cd_relationship!B59)/(moment_cd_relationship!A58-moment_cd_relationship!A59))+moment_cd_relationship!B58)*'LiFFT_v1.4.0'!$J$8","v":{"$error":"#VALUE!"}},{"$f":"(('LiFFT_v1.4.0'!$H$11-moment_cd_relationship!A58)*((moment_cd_relationship!B58-moment_cd_relationship!B59)/(moment_cd_relationship!A58-moment_cd_relationship!A59))+moment_cd_relationship!B58)*'LiFFT_v1.4.0'!$J$11","v":{"$error":"#VALUE!"}},{"$f":"(('LiFFT_v1.4.0'!$H$14-moment_cd_relationship!A58)*((moment_cd_relationship!B58-moment_cd_relationship!B59)/(moment_cd_relationship!A58-moment_cd_relationship!A59))+moment_cd_relationship!B58)*'LiFFT_v1.4.0'!$J$14","v":{"$error":"#VALUE!"}},{"$f":"(('LiFFT_v1.4.0'!$H$17-moment_cd_relationship!A58)*((moment_cd_relationship!B58-moment_cd_relationship!B59)/(moment_cd_relationship!A58-moment_cd_relationship!A59))+moment_cd_relationship!B58)*'LiFFT_v1.4.0'!$J$17","v":{"$error":"#VALUE!"}},{"$f":"(('LiFFT_v1.4.0'!$H$20-moment_cd_relationship!A58)*((moment_cd_relationship!B58-moment_cd_relationship!B59)/(moment_cd_relationship!A58-moment_cd_relationship!A59))+moment_cd_relationship!B58)*'LiFFT_v1.4.0'!$J$20","v":{"$error":"#VALUE!"}},{"$f":"(('LiFFT_v1.4.0'!$H$23-moment_cd_relationship!A58)*((moment_cd_relationship!B58-moment_cd_relationship!B59)/(moment_cd_relationship!A58-moment_cd_relationship!A59))+moment_cd_relationship!B58)*'LiFFT_v1.4.0'!$J$23","v":{"$error":"#VALUE!"}},{"$f":"(('LiFFT_v1.4.0'!$H$26-moment_cd_relationship!A58)*((moment_cd_relationship!B58-moment_cd_relationship!B59)/(moment_cd_relationship!A58-moment_cd_relationship!A59))+moment_cd_relationship!B58)*'LiFFT_v1.4.0'!$J$26","v":{"$error":"#VALUE!"}},{"$f":"(('LiFFT_v1.4.0'!$H$29-moment_cd_relationship!A58)*((moment_cd_relationship!B58-moment_cd_relationship!B59)/(moment_cd_relationship!A58-moment_cd_relationship!A59))+moment_cd_relationship!B58)*'LiFFT_v1.4.0'!$J$29","v":{"$error":"#VALUE!"}},{"$f":"(('LiFFT_v1.4.0'!$H$32-moment_cd_relationship!A58)*((moment_cd_relationship!B58-moment_cd_relationship!B59)/(moment_cd_relationship!A58-moment_cd_relationship!A59))+moment_cd_relationship!B58)*'LiFFT_v1.4.0'!$J$32","v":{"$error":"#VALUE!"}}]
[57,2.8099999999999999E-5,{"$f":"(('LiFFT_v1.4.0'!$H$5-moment_cd_relationship!A59)*((moment_cd_relationship!B59-moment_cd_relationship!B60)/(moment_cd_relationship!A59-moment_cd_relationship!A60))+moment_cd_relationship!B59)*'LiFFT_v1.4.0'!$J$5","v":-4.6050000000000015E-2},{"$f":"(('LiFFT_v1.4.0'!$H$8-moment_cd_relationship!A59)*((moment_cd_relationship!B59-moment_cd_relationship!B60)/(moment_cd_relationship!A59-moment_cd_relationship!A60))+moment_cd_relationship!B59)*'LiFFT_v1.4.0'!$J$8","v":{"$error":"#VALUE!"}},{"$f":"(('LiFFT_v1.4.0'!$H$11-moment_cd_relationship!A59)*((moment_cd_relationship!B59-moment_cd_relationship!B60)/(moment_cd_relationship!A59-moment_cd_relationship!A60))+moment_cd_relationship!B59)*'LiFFT_v1.4.0'!$J$11","v":{"$error":"#VALUE!"}},{"$f":"(('LiFFT_v1.4.0'!$H$14-moment_cd_relationship!A59)*((moment_cd_relationship!B59-moment_cd_relationship!B60)/(moment_cd_relationship!A59-moment_cd_relationship!A60))+moment_cd_relationship!B59)*'LiFFT_v1.4.0'!$J$14","v":{"$error":"#VALUE!"}},{"$f":"(('LiFFT_v1.4.0'!$H$17-moment_cd_relationship!A59)*((moment_cd_relationship!B59-moment_cd_relationship!B60)/(moment_cd_relationship!A59-moment_cd_relationship!A60))+moment_cd_relationship!B59)*'LiFFT_v1.4.0'!$J$17","v":{"$error":"#VALUE!"}},{"$f":"(('LiFFT_v1.4.0'!$H$20-moment_cd_relationship!A59)*((moment_cd_relationship!B59-moment_cd_relationship!B60)/(moment_cd_relationship!A59-moment_cd_relationship!A60))+moment_cd_relationship!B59)*'LiFFT_v1.4.0'!$J$20","v":{"$error":"#VALUE!"}},{"$f":"(('LiFFT_v1.4.0'!$H$23-moment_cd_relationship!A59)*((moment_cd_relationship!B59-moment_cd_relationship!B60)/(moment_cd_relationship!A59-moment_cd_relationship!A60))+moment_cd_relationship!B59)*'LiFFT_v1.4.0'!$J$23","v":{"$error":"#VALUE!"}},{"$f":"(('LiFFT_v1.4.0'!$H$26-moment_cd_relationship!A59)*((moment_cd_relationship!B59-moment_cd_relationship!B60)/(moment_cd_relationship!A59-moment_cd_relationship!A60))+moment_cd_relationship!B59)*'LiFFT_v1.4.0'!$J$26","v":{"$error":"#VALUE!"}},{"$f":"(('LiFFT_v1.4.0'!$H$29-moment_cd_relationship!A59)*((moment_cd_relationship!B59-moment_cd_relationship!B60)/(moment_cd_relationship!A59-moment_cd_relationship!A60))+moment_cd_relationship!B59)*'LiFFT_v1.4.0'!$J$29","v":{"$error":"#VALUE!"}},{"$f":"(('LiFFT_v1.4.0'!$H$32-moment_cd_relationship!A59)*((moment_cd_relationship!B59-moment_cd_relationship!B60)/(moment_cd_relationship!A59-moment_cd_relationship!A60))+moment_cd_relationship!B59)*'LiFFT_v1.4.0'!$J$32","v":{"$error":"#VALUE!"}}]
[58,2.9499999999999999E-5,{"$f":"(('LiFFT_v1.4.0'!$H$5-moment_cd_relationship!A60)*((moment_cd_relationship!B60-moment_cd_relationship!B61)/(moment_cd_relationship!A60-moment_cd_relationship!A61))+moment_cd_relationship!B60)*'LiFFT_v1.4.0'!$J$5","v":-4.6050000000000015E-2},{"$f":"(('LiFFT_v1.4.0'!$H$8-moment_cd_relationship!A60)*((moment_cd_relationship!B60-moment_cd_relationship!B61)/(moment_cd_relationship!A60-moment_cd_relationship!A61))+moment_cd_relationship!B60)*'LiFFT_v1.4.0'!$J$8","v":{"$error":"#VALUE!"}},{"$f":"(('LiFFT_v1.4.0'!$H$11-moment_cd_relationship!A60)*((moment_cd_relationship!B60-moment_cd_relationship!B61)/(moment_cd_relationship!A60-moment_cd_relationship!A61))+moment_cd_relationship!B60)*'LiFFT_v1.4.0'!$J$11","v":{"$error":"#VALUE!"}},{"$f":"(('LiFFT_v1.4.0'!$H$14-moment_cd_relationship!A60)*((moment_cd_relationship!B60-moment_cd_relationship!B61)/(moment_cd_relationship!A60-moment_cd_relationship!A61))+moment_cd_relationship!B60)*'LiFFT_v1.4.0'!$J$14","v":{"$error":"#VALUE!"}},{"$f":"(('LiFFT_v1.4.0'!$H$17-moment_cd_relationship!A60)*((moment_cd_relationship!B60-moment_cd_relationship!B61)/(moment_cd_relationship!A60-moment_cd_relationship!A61))+moment_cd_relationship!B60)*'LiFFT_v1.4.0'!$J$17","v":{"$error":"#VALUE!"}},{"$f":"(('LiFFT_v1.4.0'!$H$20-moment_cd_relationship!A60)*((moment_cd_relationship!B60-moment_cd_relationship!B61)/(moment_cd_relationship!A60-moment_cd_relationship!A61))+moment_cd_relationship!B60)*'LiFFT_v1.4.0'!$J$20","v":{"$error":"#VALUE!"}},{"$f":"(('LiFFT_v1.4.0'!$H$23-moment_cd_relationship!A60)*((moment_cd_relationship!B60-moment_cd_relationship!B61)/(moment_cd_relationship!A60-moment_cd_relationship!A61))+moment_cd_relationship!B60)*'LiFFT_v1.4.0'!$J$23","v":{"$error":"#VALUE!"}},{"$f":"(('LiFFT_v1.4.0'!$H$26-moment_cd_relationship!A60)*((moment_cd_relationship!B60-moment_cd_relationship!B61)/(moment_cd_relationship!A60-moment_cd_relationship!A61))+moment_cd_relationship!B60)*'LiFFT_v1.4.0'!$J$26","v":{"$error":"#VALUE!"}},{"$f":"(('LiFFT_v1.4.0'!$H$29-moment_cd_relationship!A60)*((moment_cd_relationship!B60-moment_cd_relationship!B61)/(moment_cd_relationship!A60-moment_cd_relationship!A61))+moment_cd_relationship!B60)*'LiFFT_v1.4.0'!$J$29","v":{"$error":"#VALUE!"}},{"$f":"(('LiFFT_v1.4.0'!$H$32-moment_cd_relationship!A60)*((moment_cd_relationship!B60-moment_cd_relationship!B61)/(moment_cd_relationship!A60-moment_cd_relationship!A61))+moment_cd_relationship!B60)*'LiFFT_v1.4.0'!$J$32","v":{"$error":"#VALUE!"}}]
[59,3.1000000000000001E-5,{"$f":"(('LiFFT_v1.4.0'!$H$5-moment_cd_relationship!A61)*((moment_cd_relationship!B61-moment_cd_relationship!B62)/(moment_cd_relationship!A61-moment_cd_relationship!A62))+moment_cd_relationship!B61)*'LiFFT_v1.4.0'!$J$5","v":-5.2500000000000158E-2},{"$f":"(('LiFFT_v1.4.0'!$H$8-moment_cd_relationship!A61)*((moment_cd_relationship!B61-moment_cd_relationship!B62)/(moment_cd_relationship!A61-moment_cd_relationship!A62))+moment_cd_relationship!B61)*'LiFFT_v1.4.0'!$J$8","v":{"$error":"#VALUE!"}},{"$f":"(('LiFFT_v1.4.0'!$H$11-moment_cd_relationship!A61)*((moment_cd_relationship!B61-moment_cd_relationship!B62)/(moment_cd_relationship!A61-moment_cd_relationship!A62))+moment_cd_relationship!B61)*'LiFFT_v1.4.0'!$J$11","v":{"$error":"#VALUE!"}},{"$f":"(('LiFFT_v1.4.0'!$H$14-moment_cd_relationship!A61)*((moment_cd_relationship!B61-moment_cd_relationship!B62)/(moment_cd_relationship!A61-moment_cd_relationship!A62))+moment_cd_relationship!B61)*'LiFFT_v1.4.0'!$J$14","v":{"$error":"#VALUE!"}},{"$f":"(('LiFFT_v1.4.0'!$H$17-moment_cd_relationship!A61)*((moment_cd_relationship!B61-moment_cd_relationship!B62)/(moment_cd_relationship!A61-moment_cd_relationship!A62))+moment_cd_relationship!B61)*'LiFFT_v1.4.0'!$J$17","v":{"$error":"#VALUE!"}},{"$f":"(('LiFFT_v1.4.0'!$H$20-moment_cd_relationship!A61)*((moment_cd_relationship!B61-moment_cd_relationship!B62)/(moment_cd_relationship!A61-moment_cd_relationship!A62))+moment_cd_relationship!B61)*'LiFFT_v1.4.0'!$J$20","v":{"$error":"#VALUE!"}},{"$f":"(('LiFFT_v1.4.0'!$H$23-moment_cd_relationship!A61)*((moment_cd_relationship!B61-moment_cd_relationship!B62)/(moment_cd_relationship!A61-moment_cd_relationship!A62))+moment_cd_relationship!B61)*'LiFFT_v1.4.0'!$J$23","v":{"$error":"#VALUE!"}},{"$f":"(('LiFFT_v1.4.0'!$H$26-moment_cd_relationship!A61)*((moment_cd_relationship!B61-moment_cd_relationship!B62)/(moment_cd_relationship!A61-moment_cd_relationship!A62))+moment_cd_relationship!B61)*'LiFFT_v1.4.0'!$J$26","v":{"$error":"#VALUE!"}},{"$f":"(('LiFFT_v1.4.0'!$H$29-moment_cd_relationship!A61)*((moment_cd_relationship!B61-moment_cd_relationship!B62)/(moment_cd_relationship!A61-moment_cd_relationship!A62))+moment_cd_relationship!B61)*'LiFFT_v1.4.0'!$J$29","v":{"$error":"#VALUE!"}},{"$f":"(('LiFFT_v1.4.0'!$H$32-moment_cd_relationship!A61)*((moment_cd_relationship!B61-moment_cd_relationship!B62)/(moment_cd_relationship!A61-moment_cd_relationship!A62))+moment_cd_relationship!B61)*'LiFFT_v1.4.0'!$J$32","v":{"$error":"#VALUE!"}}]
[60,3.2700000000000002E-5,{"$f":"(('LiFFT_v1.4.0'!$H$5-moment_cd_relationship!A62)*((moment_cd_relationship!B62-moment_cd_relationship!B63)/(moment_cd_relationship!A62-moment_cd_relationship!A63))+moment_cd_relationship!B62)*'LiFFT_v1.4.0'!$J$5","v":-6.5700000000000036E-2},{"$f":"(('LiFFT_v1.4.0'!$H$8-moment_cd_relationship!A62)*((moment_cd_relationship!B62-moment_cd_relationship!B63)/(moment_cd_relationship!A62-moment_cd_relationship!A63))+moment_cd_relationship!B62)*'LiFFT_v1.4.0'!$J$8","v":{"$error":"#VALUE!"}},{"$f":"(('LiFFT_v1.4.0'!$H$11-moment_cd_relationship!A62)*((moment_cd_relationship!B62-moment_cd_relationship!B63)/(moment_cd_relationship!A62-moment_cd_relationship!A63))+moment_cd_relationship!B62)*'LiFFT_v1.4.0'!$J$11","v":{"$error":"#VALUE!"}},{"$f":"(('LiFFT_v1.4.0'!$H$14-moment_cd_relationship!A62)*((moment_cd_relationship!B62-moment_cd_relationship!B63)/(moment_cd_relationship!A62-moment_cd_relationship!A63))+moment_cd_relationship!B62)*'LiFFT_v1.4.0'!$J$14","v":{"$error":"#VALUE!"}},{"$f":"(('LiFFT_v1.4.0'!$H$17-moment_cd_relationship!A62)*((moment_cd_relationship!B62-moment_cd_relationship!B63)/(moment_cd_relationship!A62-moment_cd_relationship!A63))+moment_cd_relationship!B62)*'LiFFT_v1.4.0'!$J$17","v":{"$error":"#VALUE!"}},{"$f":"(('LiFFT_v1.4.0'!$H$20-moment_cd_relationship!A62)*((moment_cd_relationship!B62-moment_cd_relationship!B63)/(moment_cd_relationship!A62-moment_cd_relationship!A63))+moment_cd_relationship!B62)*'LiFFT_v1.4.0'!$J$20","v":{"$error":"#VALUE!"}},{"$f":"(('LiFFT_v1.4.0'!$H$23-moment_cd_relationship!A62)*((moment_cd_relationship!B62-moment_cd_relationship!B63)/(moment_cd_relationship!A62-moment_cd_relationship!A63))+moment_cd_relationship!B62)*'LiFFT_v1.4.0'!$J$23","v":{"$error":"#VALUE!"}},{"$f":"(('LiFFT_v1.4.0'!$H$26-moment_cd_relationship!A62)*((moment_cd_relationship!B62-moment_cd_relationship!B63)/(moment_cd_relationship!A62-moment_cd_relationship!A63))+moment_cd_relationship!B62)*'LiFFT_v1.4.0'!$J$26","v":{"$error":"#VALUE!"}},{"$f":"(('LiFFT_v1.4.0'!$H$29-moment_cd_relationship!A62)*((moment_cd_relationship!B62-moment_cd_relationship!B63)/(moment_cd_relationship!A62-moment_cd_relationship!A63))+moment_cd_relationship!B62)*'LiFFT_v1.4.0'!$J$29","v":{"$error":"#VALUE!"}},{"$f":"(('LiFFT_v1.4.0'!$H$32-moment_cd_relationship!A62)*((moment_cd_relationship!B62-moment_cd_relationship!B63)/(moment_cd_relationship!A62-moment_cd_relationship!A63))+moment_cd_relationship!B62)*'LiFFT_v1.4.0'!$J$32","v":{"$error":"#VALUE!"}}]
[61,3.43E-5,{"$f":"(('LiFFT_v1.4.0'!$H$5-moment_cd_relationship!A63)*((moment_cd_relationship!B63-moment_cd_relationship!B64)/(moment_cd_relationship!A63-moment_cd_relationship!A64))+moment_cd_relationship!B63)*'LiFFT_v1.4.0'!$J$5","v":-5.8949999999999877E-2},{"$f":"(('LiFFT_v1.4.0'!$H$8-moment_cd_relationship!A63)*((moment_cd_relationship!B63-moment_cd_relationship!B64)/(moment_cd_relationship!A63-moment_cd_relationship!A64))+moment_cd_relationship!B63)*'LiFFT_v1.4.0'!$J$8","v":{"$error":"#VALUE!"}},{"$f":"(('LiFFT_v1.4.0'!$H$11-moment_cd_relationship!A63)*((moment_cd_relationship!B63-moment_cd_relationship!B64)/(moment_cd_relationship!A63-moment_cd_relationship!A64))+moment_cd_relationship!B63)*'LiFFT_v1.4.0'!$J$11","v":{"$error":"#VALUE!"}},{"$f":"(('LiFFT_v1.4.0'!$H$14-moment_cd_relationship!A63)*((moment_cd_relationship!B63-moment_cd_relationship!B64)/(moment_cd_relationship!A63-moment_cd_relationship!A64))+moment_cd_relationship!B63)*'LiFFT_v1.4.0'!$J$14","v":{"$error":"#VALUE!"}},{"$f":"(('LiFFT_v1.4.0'!$H$17-moment_cd_relationship!A63)*((moment_cd_relationship!B63-moment_cd_relationship!B64)/(moment_cd_relationship!A63-moment_cd_relationship!A64))+moment_cd_relationship!B63)*'LiFFT_v1.4.0'!$J$17","v":{"$error":"#VALUE!"}},{"$f":"(('LiFFT_v1.4.0'!$H$20-moment_cd_relationship!A63)*((moment_cd_relationship!B63-moment_cd_relationship!B64)/(moment_cd_relationship!A63-moment_cd_relationship!A64))+moment_cd_relationship!B63)*'LiFFT_v1.4.0'!$J$20","v":{"$error":"#VALUE!"}},{"$f":"(('LiFFT_v1.4.0'!$H$23-moment_cd_relationship!A63)*((moment_cd_relationship!B63-moment_cd_relationship!B64)/(moment_cd_relationship!A63-moment_cd_relationship!A64))+moment_cd_relationship!B63)*'LiFFT_v1.4.0'!$J$23","v":{"$error":"#VALUE!"}},{"$f":"(('LiFFT_v1.4.0'!$H$26-moment_cd_relationship!A63)*((moment_cd_relationship!B63-moment_cd_relationship!B64)/(moment_cd_relationship!A63-moment_cd_relationship!A64))+moment_cd_relationship!B63)*'LiFFT_v1.4.0'!$J$26","v":{"$error":"#VALUE!"}},{"$f":"(('LiFFT_v1.4.0'!$H$29-moment_cd_relationship!A63)*((moment_cd_relationship!B63-moment_cd_relationship!B64)/(moment_cd_relationship!A63-moment_cd_relationship!A64))+moment_cd_relationship!B63)*'LiFFT_v1.4.0'!$J$29","v":{"$error":"#VALUE!"}},{"$f":"(('LiFFT_v1.4.0'!$H$32-moment_cd_relationship!A63)*((moment_cd_relationship!B63-moment_cd_relationship!B64)/(moment_cd_relationship!A63-moment_cd_relationship!A64))+moment_cd_relationship!B63)*'LiFFT_v1.4.0'!$J$32","v":{"$error":"#VALUE!"}}]
[62,3.6100000000000003E-5,{"$f":"(('LiFFT_v1.4.0'!$H$5-moment_cd_relationship!A64)*((moment_cd_relationship!B64-moment_cd_relationship!B65)/(moment_cd_relationship!A64-moment_cd_relationship!A65))+moment_cd_relationship!B64)*'LiFFT_v1.4.0'!$J$5","v":-7.2750000000000217E-2},{"$f":"(('LiFFT_v1.4.0'!$H$8-moment_cd_relationship!A64)*((moment_cd_relationship!B64-moment_cd_relationship!B65)/(moment_cd_relationship!A64-moment_cd_relationship!A65))+moment_cd_relationship!B64)*'LiFFT_v1.4.0'!$J$8","v":{"$error":"#VALUE!"}},{"$f":"(('LiFFT_v1.4.0'!$H$11-moment_cd_relationship!A64)*((moment_cd_relationship!B64-moment_cd_relationship!B65)/(moment_cd_relationship!A64-moment_cd_relationship!A65))+moment_cd_relationship!B64)*'LiFFT_v1.4.0'!$J$11","v":{"$error":"#VALUE!"}},{"$f":"(('LiFFT_v1.4.0'!$H$14-moment_cd_relationship!A64)*((moment_cd_relationship!B64-moment_cd_relationship!B65)/(moment_cd_relationship!A64-moment_cd_relationship!A65))+moment_cd_relationship!B64)*'LiFFT_v1.4.0'!$J$14","v":{"$error":"#VALUE!"}},{"$f":"(('LiFFT_v1.4.0'!$H$17-moment_cd_relationship!A64)*((moment_cd_relationship!B64-moment_cd_relationship!B65)/(moment_cd_relationship!A64-moment_cd_relationship!A65))+moment_cd_relationship!B64)*'LiFFT_v1.4.0'!$J$17","v":{"$error":"#VALUE!"}},{"$f":"(('LiFFT_v1.4.0'!$H$20-moment_cd_relationship!A64)*((moment_cd_relationship!B64-moment_cd_relationship!B65)/(moment_cd_relationship!A64-moment_cd_relationship!A65))+moment_cd_relationship!B64)*'LiFFT_v1.4.0'!$J$20","v":{"$error":"#VALUE!"}},{"$f":"(('LiFFT_v1.4.0'!$H$23-moment_cd_relationship!A64)*((moment_cd_relationship!B64-moment_cd_relationship!B65)/(moment_cd_relationship!A64-moment_cd_relationship!A65))+moment_cd_relationship!B64)*'LiFFT_v1.4.0'!$J$23","v":{"$error":"#VALUE!"}},{"$f":"(('LiFFT_v1.4.0'!$H$26-moment_cd_relationship!A64)*((moment_cd_relationship!B64-moment_cd_relationship!B65)/(moment_cd_relationship!A64-moment_cd_relationship!A65))+moment_cd_relationship!B64)*'LiFFT_v1.4.0'!$J$26","v":{"$error":"#VALUE!"}},{"$f":"(('LiFFT_v1.4.0'!$H$29-moment_cd_relationship!A64)*((moment_cd_relationship!B64-moment_cd_relationship!B65)/(moment_cd_relationship!A64-moment_cd_relationship!A65))+moment_cd_relationship!B64)*'LiFFT_v1.4.0'!$J$29","v":{"$error":"#VALUE!"}},{"$f":"(('LiFFT_v1.4.0'!$H$32-moment_cd_relationship!A64)*((moment_cd_relationship!B64-moment_cd_relationship!B65)/(moment_cd_relationship!A64-moment_cd_relationship!A65))+moment_cd_relationship!B64)*'LiFFT_v1.4.0'!$J$32","v":{"$error":"#VALUE!"}}]
[63,3.8000000000000002E-5,{"$f":"(('LiFFT_v1.4.0'!$H$5-moment_cd_relationship!A65)*((moment_cd_relationship!B65-moment_cd_relationship!B66)/(moment_cd_relationship!A65-moment_cd_relationship!A66))+moment_cd_relationship!B65)*'LiFFT_v1.4.0'!$J$5","v":-7.9799999999999913E-2},{"$f":"(('LiFFT_v1.4.0'!$H$8-moment_cd_relationship!A65)*((moment_cd_relationship!B65-moment_cd_relationship!B66)/(moment_cd_relationship!A65-moment_cd_relationship!A66))+moment_cd_relationship!B65)*'LiFFT_v1.4.0'!$J$8","v":{"$error":"#VALUE!"}},{"$f":"(('LiFFT_v1.4.0'!$H$11-moment_cd_relationship!A65)*((moment_cd_relationship!B65-moment_cd_relationship!B66)/(moment_cd_relationship!A65-moment_cd_relationship!A66))+moment_cd_relationship!B65)*'LiFFT_v1.4.0'!$J$11","v":{"$error":"#VALUE!"}},{"$f":"(('LiFFT_v1.4.0'!$H$14-moment_cd_relationship!A65)*((moment_cd_relationship!B65-moment_cd_relationship!B66)/(moment_cd_relationship!A65-moment_cd_relationship!A66))+moment_cd_relationship!B65)*'LiFFT_v1.4.0'!$J$14","v":{"$error":"#VALUE!"}},{"$f":"(('LiFFT_v1.4.0'!$H$17-moment_cd_relationship!A65)*((moment_cd_relationship!B65-moment_cd_relationship!B66)/(moment_cd_relationship!A65-moment_cd_relationship!A66))+moment_cd_relationship!B65)*'LiFFT_v1.4.0'!$J$17","v":{"$error":"#VALUE!"}},{"$f":"(('LiFFT_v1.4.0'!$H$20-moment_cd_relationship!A65)*((moment_cd_relationship!B65-moment_cd_relationship!B66)/(moment_cd_relationship!A65-moment_cd_relationship!A66))+moment_cd_relationship!B65)*'LiFFT_v1.4.0'!$J$20","v":{"$error":"#VALUE!"}},{"$f":"(('LiFFT_v1.4.0'!$H$23-moment_cd_relationship!A65)*((moment_cd_relationship!B65-moment_cd_relationship!B66)/(moment_cd_relationship!A65-moment_cd_relationship!A66))+moment_cd_relationship!B65)*'LiFFT_v1.4.0'!$J$23","v":{"$error":"#VALUE!"}},{"$f":"(('LiFFT_v1.4.0'!$H$26-moment_cd_relationship!A65)*((moment_cd_relationship!B65-moment_cd_relationship!B66)/(moment_cd_relationship!A65-moment_cd_relationship!A66))+moment_cd_relationship!B65)*'LiFFT_v1.4.0'!$J$26","v":{"$error":"#VALUE!"}},{"$f":"(('LiFFT_v1.4.0'!$H$29-moment_cd_relationship!A65)*((moment_cd_relationship!B65-moment_cd_relationship!B66)/(moment_cd_relationship!A65-moment_cd_relationship!A66))+moment_cd_relationship!B65)*'LiFFT_v1.4.0'!$J$29","v":{"$error":"#VALUE!"}},{"$f":"(('LiFFT_v1.4.0'!$H$32-moment_cd_relationship!A65)*((moment_cd_relationship!B65-moment_cd_relationship!B66)/(moment_cd_relationship!A65-moment_cd_relationship!A66))+moment_cd_relationship!B65)*'LiFFT_v1.4.0'!$J$32","v":{"$error":"#VALUE!"}}]
[64,4.0000000000000003E-5,{"$f":"(('LiFFT_v1.4.0'!$H$5-moment_cd_relationship!A66)*((moment_cd_relationship!B66-moment_cd_relationship!B67)/(moment_cd_relationship!A66-moment_cd_relationship!A67))+moment_cd_relationship!B66)*'LiFFT_v1.4.0'!$J$5","v":-8.7000000000000077E-2},{"$f":"(('LiFFT_v1.4.0'!$H$8-moment_cd_relationship!A66)*((moment_cd_relationship!B66-moment_cd_relationship!B67)/(moment_cd_relationship!A66-moment_cd_relationship!A67))+moment_cd_relationship!B66)*'LiFFT_v1.4.0'!$J$8","v":{"$error":"#VALUE!"}},{"$f":"(('LiFFT_v1.4.0'!$H$11-moment_cd_relationship!A66)*((moment_cd_relationship!B66-moment_cd_relationship!B67)/(moment_cd_relationship!A66-moment_cd_relationship!A67))+moment_cd_relationship!B66)*'LiFFT_v1.4.0'!$J$11","v":{"$error":"#VALUE!"}},{"$f":"(('LiFFT_v1.4.0'!$H$14-moment_cd_relationship!A66)*((moment_cd_relationship!B66-moment_cd_relationship!B67)/(moment_cd_relationship!A66-moment_cd_relationship!A67))+moment_cd_relationship!B66)*'LiFFT_v1.4.0'!$J$14","v":{"$error":"#VALUE!"}},{"$f":"(('LiFFT_v1.4.0'!$H$17-moment_cd_relationship!A66)*((moment_cd_relationship!B66-moment_cd_relationship!B67)/(moment_cd_relationship!A66-moment_cd_relationship!A67))+moment_cd_relationship!B66)*'LiFFT_v1.4.0'!$J$17","v":{"$error":"#VALUE!"}},{"$f":"(('LiFFT_v1.4.0'!$H$20-moment_cd_relationship!A66)*((moment_cd_relationship!B66-moment_cd_relationship!B67)/(moment_cd_relationship!A66-moment_cd_relationship!A67))+moment_cd_relationship!B66)*'LiFFT_v1.4.0'!$J$20","v":{"$error":"#VALUE!"}},{"$f":"(('LiFFT_v1.4.0'!$H$23-moment_cd_relationship!A66)*((moment_cd_relationship!B66-moment_cd_relationship!B67)/(moment_cd_relationship!A66-moment_cd_relationship!A67))+moment_cd_relationship!B66)*'LiFFT_v1.4.0'!$J$23","v":{"$error":"#VALUE!"}},{"$f":"(('LiFFT_v1.4.0'!$H$26-moment_cd_relationship!A66)*((moment_cd_relationship!B66-moment_cd_relationship!B67)/(moment_cd_relationship!A66-moment_cd_relationship!A67))+moment_cd_relationship!B66)*'LiFFT_v1.4.0'!$J$26","v":{"$error":"#VALUE!"}},{"$f":"(('LiFFT_v1.4.0'!$H$29-moment_cd_relationship!A66)*((moment_cd_relationship!B66-moment_cd_relationship!B67)/(moment_cd_relationship!A66-moment_cd_relationship!A67))+moment_cd_relationship!B66)*'LiFFT_v1.4.0'!$J$29","v":{"$error":"#VALUE!"}},{"$f":"(('LiFFT_v1.4.0'!$H$32-moment_cd_relationship!A66)*((moment_cd_relationship!B66-moment_cd_relationship!B67)/(moment_cd_relationship!A66-moment_cd_relationship!A67))+moment_cd_relationship!B66)*'LiFFT_v1.4.0'!$J$32","v":{"$error":"#VALUE!"}}]
[65,4.21E-5,{"$f":"(('LiFFT_v1.4.0'!$H$5-moment_cd_relationship!A67)*((moment_cd_relationship!B67-moment_cd_relationship!B68)/(moment_cd_relationship!A67-moment_cd_relationship!A68))+moment_cd_relationship!B67)*'LiFFT_v1.4.0'!$J$5","v":-9.4349999999999767E-2},{"$f":"(('LiFFT_v1.4.0'!$H$8-moment_cd_relationship!A67)*((moment_cd_relationship!B67-moment_cd_relationship!B68)/(moment_cd_relationship!A67-moment_cd_relationship!A68))+moment_cd_relationship!B67)*'LiFFT_v1.4.0'!$J$8","v":{"$error":"#VALUE!"}},{"$f":"(('LiFFT_v1.4.0'!$H$11-moment_cd_relationship!A67)*((moment_cd_relationship!B67-moment_cd_relationship!B68)/(moment_cd_relationship!A67-moment_cd_relationship!A68))+moment_cd_relationship!B67)*'LiFFT_v1.4.0'!$J$11","v":{"$error":"#VALUE!"}},{"$f":"(('LiFFT_v1.4.0'!$H$14-moment_cd_relationship!A67)*((moment_cd_relationship!B67-moment_cd_relationship!B68)/(moment_cd_relationship!A67-moment_cd_relationship!A68))+moment_cd_relationship!B67)*'LiFFT_v1.4.0'!$J$14","v":{"$error":"#VALUE!"}},{"$f":"(('LiFFT_v1.4.0'!$H$17-moment_cd_relationship!A67)*((moment_cd_relationship!B67-moment_cd_relationship!B68)/(moment_cd_relationship!A67-moment_cd_relationship!A68))+moment_cd_relationship!B67)*'LiFFT_v1.4.0'!$J$17","v":{"$error":"#VALUE!"}},{"$f":"(('LiFFT_v1.4.0'!$H$20-moment_cd_relationship!A67)*((moment_cd_relationship!B67-moment_cd_relationship!B68)/(moment_cd_relationship!A67-moment_cd_relationship!A68))+moment_cd_relationship!B67)*'LiFFT_v1.4.0'!$J$20","v":{"$error":"#VALUE!"}},{"$f":"(('LiFFT_v1.4.0'!$H$23-moment_cd_relationship!A67)*((moment_cd_relationship!B67-moment_cd_relationship!B68)/(moment_cd_relationship!A67-moment_cd_relationship!A68))+moment_cd_relationship!B67)*'LiFFT_v1.4.0'!$J$23","v":{"$error":"#VALUE!"}},{"$f":"(('LiFFT_v1.4.0'!$H$26-moment_cd_relationship!A67)*((moment_cd_relationship!B67-moment_cd_relationship!B68)/(moment_cd_relationship!A67-moment_cd_relationship!A68))+moment_cd_relationship!B67)*'LiFFT_v1.4.0'!$J$26","v":{"$error":"#VALUE!"}},{"$f":"(('LiFFT_v1.4.0'!$H$29-moment_cd_relationship!A67)*((moment_cd_relationship!B67-moment_cd_relationship!B68)/(moment_cd_relationship!A67-moment_cd_relationship!A68))+moment_cd_relationship!B67)*'LiFFT_v1.4.0'!$J$29","v":{"$error":"#VALUE!"}},{"$f":"(('LiFFT_v1.4.0'!$H$32-moment_cd_relationship!A67)*((moment_cd_relationship!B67-moment_cd_relationship!B68)/(moment_cd_relationship!A67-moment_cd_relationship!A68))+moment_cd_relationship!B67)*'LiFFT_v1.4.0'!$J$32","v":{"$error":"#VALUE!"}}]
[66,4.4299999999999999E-5,{"$f":"(('LiFFT_v1.4.0'!$H$5-moment_cd_relationship!A68)*((moment_cd_relationship!B68-moment_cd_relationship!B69)/(moment_cd_relationship!A68-moment_cd_relationship!A69))+moment_cd_relationship!B68)*'LiFFT_v1.4.0'!$J$5","v":-0.10184999999999995},{"$f":"(('LiFFT_v1.4.0'!$H$8-moment_cd_relationship!A68)*((moment_cd_relationship!B68-moment_cd_relationship!B69)/(moment_cd_relationship!A68-moment_cd_relationship!A69))+moment_cd_relationship!B68)*'LiFFT_v1.4.0'!$J$8","v":{"$error":"#VALUE!"}},{"$f":"(('LiFFT_v1.4.0'!$H$11-moment_cd_relationship!A68)*((moment_cd_relationship!B68-moment_cd_relationship!B69)/(moment_cd_relationship!A68-moment_cd_relationship!A69))+moment_cd_relationship!B68)*'LiFFT_v1.4.0'!$J$11","v":{"$error":"#VALUE!"}},{"$f":"(('LiFFT_v1.4.0'!$H$14-moment_cd_relationship!A68)*((moment_cd_relationship!B68-moment_cd_relationship!B69)/(moment_cd_relationship!A68-moment_cd_relationship!A69))+moment_cd_relationship!B68)*'LiFFT_v1.4.0'!$J$14","v":{"$error":"#VALUE!"}},{"$f":"(('LiFFT_v1.4.0'!$H$17-moment_cd_relationship!A68)*((moment_cd_relationship!B68-moment_cd_relationship!B69)/(moment_cd_relationship!A68-moment_cd_relationship!A69))+moment_cd_relationship!B68)*'LiFFT_v1.4.0'!$J$17","v":{"$error":"#VALUE!"}},{"$f":"(('LiFFT_v1.4.0'!$H$20-moment_cd_relationship!A68)*((moment_cd_relationship!B68-moment_cd_relationship!B69)/(moment_cd_relationship!A68-moment_cd_relationship!A69))+moment_cd_relationship!B68)*'LiFFT_v1.4.0'!$J$20","v":{"$error":"#VALUE!"}},{"$f":"(('LiFFT_v1.4.0'!$H$23-moment_cd_relationship!A68)*((moment_cd_relationship!B68-moment_cd_relationship!B69)/(moment_cd_relationship!A68-moment_cd_relationship!A69))+moment_cd_relationship!B68)*'LiFFT_v1.4.0'!$J$23","v":{"$error":"#VALUE!"}},{"$f":"(('LiFFT_v1.4.0'!$H$26-moment_cd_relationship!A68)*((moment_cd_relationship!B68-moment_cd_relationship!B69)/(moment_cd_relationship!A68-moment_cd_relationship!A69))+moment_cd_relationship!B68)*'LiFFT_v1.4.0'!$J$26","v":{"$error":"#VALUE!"}},{"$f":"(('LiFFT_v1.4.0'!$H$29-moment_cd_relationship!A68)*((moment_cd_relationship!B68-moment_cd_relationship!B69)/(moment_cd_relationship!A68-moment_cd_relationship!A69))+moment_cd_relationship!B68)*'LiFFT_v1.4.0'!$J$29","v":{"$error":"#VALUE!"}},{"$f":"(('LiFFT_v1.4.0'!$H$32-moment_cd_relationship!A68)*((moment_cd_relationship!B68-moment_cd_relationship!B69)/(moment_cd_relationship!A68-moment_cd_relationship!A69))+moment_cd_relationship!B68)*'LiFFT_v1.4.0'!$J$32","v":{"$error":"#VALUE!"}}]
[67,4.6600000000000001E-5,{"$f":"(('LiFFT_v1.4.0'!$H$5-moment_cd_relationship!A69)*((moment_cd_relationship!B69-moment_cd_relationship!B70)/(moment_cd_relationship!A69-moment_cd_relationship!A70))+moment_cd_relationship!B69)*'LiFFT_v1.4.0'!$J$5","v":-0.10950000000000014},{"$f":"(('LiFFT_v1.4.0'!$H$8-moment_cd_relationship!A69)*((moment_cd_relationship!B69-moment_cd_relationship!B70)/(moment_cd_relationship!A69-moment_cd_relationship!A70))+moment_cd_relationship!B69)*'LiFFT_v1.4.0'!$J$8","v":{"$error":"#VALUE!"}},{"$f":"(('LiFFT_v1.4.0'!$H$11-moment_cd_relationship!A69)*((moment_cd_relationship!B69-moment_cd_relationship!B70)/(moment_cd_relationship!A69-moment_cd_relationship!A70))+moment_cd_relationship!B69)*'LiFFT_v1.4.0'!$J$11","v":{"$error":"#VALUE!"}},{"$f":"(('LiFFT_v1.4.0'!$H$14-moment_cd_relationship!A69)*((moment_cd_relationship!B69-moment_cd_relationship!B70)/(moment_cd_relationship!A69-moment_cd_relationship!A70))+moment_cd_relationship!B69)*'LiFFT_v1.4.0'!$J$14","v":{"$error":"#VALUE!"}},{"$f":"(('LiFFT_v1.4.0'!$H$17-moment_cd_relationship!A69)*((moment_cd_relationship!B69-moment_cd_relationship!B70)/(moment_cd_relationship!A69-moment_cd_relationship!A70))+moment_cd_relationship!B69)*'LiFFT_v1.4.0'!$J$17","v":{"$error":"#VALUE!"}},{"$f":"(('LiFFT_v1.4.0'!$H$20-moment_cd_relationship!A69)*((moment_cd_relationship!B69-moment_cd_relationship!B70)/(moment_cd_relationship!A69-moment_cd_relationship!A70))+moment_cd_relationship!B69)*'LiFFT_v1.4.0'!$J$20","v":{"$error":"#VALUE!"}},{"$f":"(('LiFFT_v1.4.0'!$H$23-moment_cd_relationship!A69)*((moment_cd_relationship!B69-moment_cd_relationship!B70)/(moment_cd_relationship!A69-moment_cd_relationship!A70))+moment_cd_relationship!B69)*'LiFFT_v1.4.0'!$J$23","v":{"$error":"#VALUE!"}},{"$f":"(('LiFFT_v1.4.0'!$H$26-moment_cd_relationship!A69)*((moment_cd_relationship!B69-moment_cd_relationship!B70)/(moment_cd_relationship!A69-moment_cd_relationship!A70))+moment_cd_relationship!B69)*'LiFFT_v1.4.0'!$J$26","v":{"$error":"#VALUE!"}},{"$f":"(('LiFFT_v1.4.0'!$H$29-moment_cd_relationship!A69)*((moment_cd_relationship!B69-moment_cd_relationship!B70)/(moment_cd_relationship!A69-moment_cd_relationship!A70))+moment_cd_relationship!B69)*'LiFFT_v1.4.0'!$J$29","v":{"$error":"#VALUE!"}},{"$f":"(('LiFFT_v1.4.0'!$H$32-moment_cd_relationship!A69)*((moment_cd_relationship!B69-moment_cd_relationship!B70)/(moment_cd_relationship!A69-moment_cd_relationship!A70))+moment_cd_relationship!B69)*'LiFFT_v1.4.0'!$J$32","v":{"$error":"#VALUE!"}}]
[68,4.8999999999999998E-5,{"$f":"(('LiFFT_v1.4.0'!$H$5-moment_cd_relationship!A70)*((moment_cd_relationship!B70-moment_cd_relationship!B71)/(moment_cd_relationship!A70-moment_cd_relationship!A71))+moment_cd_relationship!B70)*'LiFFT_v1.4.0'!$J$5","v":-0.11729999999999981},{"$f":"(('LiFFT_v1.4.0'!$H$8-moment_cd_relationship!A70)*((moment_cd_relationship!B70-moment_cd_relationship!B71)/(moment_cd_relationship!A70-moment_cd_relationship!A71))+moment_cd_relationship!B70)*'LiFFT_v1.4.0'!$J$8","v":{"$error":"#VALUE!"}},{"$f":"(('LiFFT_v1.4.0'!$H$11-moment_cd_relationship!A70)*((moment_cd_relationship!B70-moment_cd_relationship!B71)/(moment_cd_relationship!A70-moment_cd_relationship!A71))+moment_cd_relationship!B70)*'LiFFT_v1.4.0'!$J$11","v":{"$error":"#VALUE!"}},{"$f":"(('LiFFT_v1.4.0'!$H$14-moment_cd_relationship!A70)*((moment_cd_relationship!B70-moment_cd_relationship!B71)/(moment_cd_relationship!A70-moment_cd_relationship!A71))+moment_cd_relationship!B70)*'LiFFT_v1.4.0'!$J$14","v":{"$error":"#VALUE!"}},{"$f":"(('LiFFT_v1.4.0'!$H$17-moment_cd_relationship!A70)*((moment_cd_relationship!B70-moment_cd_relationship!B71)/(moment_cd_relationship!A70-moment_cd_relationship!A71))+moment_cd_relationship!B70)*'LiFFT_v1.4.0'!$J$17","v":{"$error":"#VALUE!"}},{"$f":"(('LiFFT_v1.4.0'!$H$20-moment_cd_relationship!A70)*((moment_cd_relationship!B70-moment_cd_relationship!B71)/(moment_cd_relationship!A70-moment_cd_relationship!A71))+moment_cd_relationship!B70)*'LiFFT_v1.4.0'!$J$20","v":{"$error":"#VALUE!"}},{"$f":"(('LiFFT_v1.4.0'!$H$23-moment_cd_relationship!A70)*((moment_cd_relationship!B70-moment_cd_relationship!B71)/(moment_cd_relationship!A70-moment_cd_relationship!A71))+moment_cd_relationship!B70)*'LiFFT_v1.4.0'!$J$23","v":{"$error":"#VALUE!"}},{"$f":"(('LiFFT_v1.4.0'!$H$26-moment_cd_relationship!A70)*((moment_cd_relationship!B70-moment_cd_relationship!B71)/(moment_cd_relationship!A70-moment_cd_relationship!A71))+moment_cd_relationship!B70)*'LiFFT_v1.4.0'!$J$26","v":{"$error":"#VALUE!"}},{"$f":"(('LiFFT_v1.4.0'!$H$29-moment_cd_relationship!A70)*((moment_cd_relationship!B70-moment_cd_relationship!B71)/(moment_cd_relationship!A70-moment_cd_relationship!A71))+moment_cd_relationship!B70)*'LiFFT_v1.4.0'!$J$29","v":{"$error":"#VALUE!"}},{"$f":"(('LiFFT_v1.4.0'!$H$32-moment_cd_relationship!A70)*((moment_cd_relationship!B70-moment_cd_relationship!B71)/(moment_cd_relationship!A70-moment_cd_relationship!A71))+moment_cd_relationship!B70)*'LiFFT_v1.4.0'!$J$32","v":{"$error":"#VALUE!"}}]
[69,5.1600000000000001E-5,{"$f":"(('LiFFT_v1.4.0'!$H$5-moment_cd_relationship!A71)*((moment_cd_relationship!B71-moment_cd_relationship!B72)/(moment_cd_relationship!A71-moment_cd_relationship!A72))+moment_cd_relationship!B71)*'LiFFT_v1.4.0'!$J$5","v":-0.13320000000000018},{"$f":"(('LiFFT_v1.4.0'!$H$8-moment_cd_relationship!A71)*((moment_cd_relationship!B71-moment_cd_relationship!B72)/(moment_cd_relationship!A71-moment_cd_relationship!A72))+moment_cd_relationship!B71)*'LiFFT_v1.4.0'!$J$8","v":{"$error":"#VALUE!"}},{"$f":"(('LiFFT_v1.4.0'!$H$11-moment_cd_relationship!A71)*((moment_cd_relationship!B71-moment_cd_relationship!B72)/(moment_cd_relationship!A71-moment_cd_relationship!A72))+moment_cd_relationship!B71)*'LiFFT_v1.4.0'!$J$11","v":{"$error":"#VALUE!"}},{"$f":"(('LiFFT_v1.4.0'!$H$14-moment_cd_relationship!A71)*((moment_cd_relationship!B71-moment_cd_relationship!B72)/(moment_cd_relationship!A71-moment_cd_relationship!A72))+moment_cd_relationship!B71)*'LiFFT_v1.4.0'!$J$14","v":{"$error":"#VALUE!"}},{"$f":"(('LiFFT_v1.4.0'!$H$17-moment_cd_relationship!A71)*((moment_cd_relationship!B71-moment_cd_relationship!B72)/(moment_cd_relationship!A71-moment_cd_relationship!A72))+moment_cd_relationship!B71)*'LiFFT_v1.4.0'!$J$17","v":{"$error":"#VALUE!"}},{"$f":"(('LiFFT_v1.4.0'!$H$20-moment_cd_relationship!A71)*((moment_cd_relationship!B71-moment_cd_relationship!B72)/(moment_cd_relationship!A71-moment_cd_relationship!A72))+moment_cd_relationship!B71)*'LiFFT_v1.4.0'!$J$20","v":{"$error":"#VALUE!"}},{"$f":"(('LiFFT_v1.4.0'!$H$23-moment_cd_relationship!A71)*((moment_cd_relationship!B71-moment_cd_relationship!B72)/(moment_cd_relationship!A71-moment_cd_relationship!A72))+moment_cd_relationship!B71)*'LiFFT_v1.4.0'!$J$23","v":{"$error":"#VALUE!"}},{"$f":"(('LiFFT_v1.4.0'!$H$26-moment_cd_relationship!A71)*((moment_cd_relationship!B71-moment_cd_relationship!B72)/(moment_cd_relationship!A71-moment_cd_relationship!A72))+moment_cd_relationship!B71)*'LiFFT_v1.4.0'!$J$26","v":{"$error":"#VALUE!"}},{"$f":"(('LiFFT_v1.4.0'!$H$29-moment_cd_relationship!A71)*((moment_cd_relationship!B71-moment_cd_relationship!B72)/(moment_cd_relationship!A71-moment_cd_relationship!A72))+moment_cd_relationship!B71)*'LiFFT_v1.4.0'!$J$29","v":{"$error":"#VALUE!"}},{"$f":"(('LiFFT_v1.4.0'!$H$32-moment_cd_relationship!A71)*((moment_cd_relationship!B71-moment_cd_relationship!B72)/(moment_cd_relationship!A71-moment_cd_relationship!A72))+moment_cd_relationship!B71)*'LiFFT_v1.4.0'!$J$32","v":{"$error":"#VALUE!"}}]
[70,5.4200000000000003E-5,{"$f":"(('LiFFT_v1.4.0'!$H$5-moment_cd_relationship!A72)*((moment_cd_relationship!B72-moment_cd_relationship!B73)/(moment_cd_relationship!A72-moment_cd_relationship!A73))+moment_cd_relationship!B72)*'LiFFT_v1.4.0'!$J$5","v":-0.13320000000000015},{"$f":"(('LiFFT_v1.4.0'!$H$8-moment_cd_relationship!A72)*((moment_cd_relationship!B72-moment_cd_relationship!B73)/(moment_cd_relationship!A72-moment_cd_relationship!A73))+moment_cd_relationship!B72)*'LiFFT_v1.4.0'!$J$8","v":{"$error":"#VALUE!"}},{"$f":"(('LiFFT_v1.4.0'!$H$11-moment_cd_relationship!A72)*((moment_cd_relationship!B72-moment_cd_relationship!B73)/(moment_cd_relationship!A72-moment_cd_relationship!A73))+moment_cd_relationship!B72)*'LiFFT_v1.4.0'!$J$11","v":{"$error":"#VALUE!"}},{"$f":"(('LiFFT_v1.4.0'!$H$14-moment_cd_relationship!A72)*((moment_cd_relationship!B72-moment_cd_relationship!B73)/(moment_cd_relationship!A72-moment_cd_relationship!A73))+moment_cd_relationship!B72)*'LiFFT_v1.4.0'!$J$14","v":{"$error":"#VALUE!"}},{"$f":"(('LiFFT_v1.4.0'!$H$17-moment_cd_relationship!A72)*((moment_cd_relationship!B72-moment_cd_relationship!B73)/(moment_cd_relationship!A72-moment_cd_relationship!A73))+moment_cd_relationship!B72)*'LiFFT_v1.4.0'!$J$17","v":{"$error":"#VALUE!"}},{"$f":"(('LiFFT_v1.4.0'!$H$20-moment_cd_relationship!A72)*((moment_cd_relationship!B72-moment_cd_relationship!B73)/(moment_cd_relationship!A72-moment_cd_relationship!A73))+moment_cd_relationship!B72)*'LiFFT_v1.4.0'!$J$20","v":{"$error":"#VALUE!"}},{"$f":"(('LiFFT_v1.4.0'!$H$23-moment_cd_relationship!A72)*((moment_cd_relationship!B72-moment_cd_relationship!B73)/(moment_cd_relationship!A72-moment_cd_relationship!A73))+moment_cd_relationship!B72)*'LiFFT_v1.4.0'!$J$23","v":{"$error":"#VALUE!"}},{"$f":"(('LiFFT_v1.4.0'!$H$26-moment_cd_relationship!A72)*((moment_cd_relationship!B72-moment_cd_relationship!B73)/(moment_cd_relationship!A72-moment_cd_relationship!A73))+moment_cd_relationship!B72)*'LiFFT_v1.4.0'!$J$26","v":{"$error":"#VALUE!"}},{"$f":"(('LiFFT_v1.4.0'!$H$29-moment_cd_relationship!A72)*((moment_cd_relationship!B72-moment_cd_relationship!B73)/(moment_cd_relationship!A72-moment_cd_relationship!A73))+moment_cd_relationship!B72)*'LiFFT_v1.4.0'!$J$29","v":{"$error":"#VALUE!"}},{"$f":"(('LiFFT_v1.4.0'!$H$32-moment_cd_relationship!A72)*((moment_cd_relationship!B72-moment_cd_relationship!B73)/(moment_cd_relationship!A72-moment_cd_relationship!A73))+moment_cd_relationship!B72)*'LiFFT_v1.4.0'!$J$32","v":{"$error":"#VALUE!"}}]
[71,5.7099999999999999E-5,{"$f":"(('LiFFT_v1.4.0'!$H$5-moment_cd_relationship!A73)*((moment_cd_relationship!B73-moment_cd_relationship!B74)/(moment_cd_relationship!A73-moment_cd_relationship!A74))+moment_cd_relationship!B73)*'LiFFT_v1.4.0'!$J$5","v":-0.15794999999999967},{"$f":"(('LiFFT_v1.4.0'!$H$8-moment_cd_relationship!A73)*((moment_cd_relationship!B73-moment_cd_relationship!B74)/(moment_cd_relationship!A73-moment_cd_relationship!A74))+moment_cd_relationship!B73)*'LiFFT_v1.4.0'!$J$8","v":{"$error":"#VALUE!"}},{"$f":"(('LiFFT_v1.4.0'!$H$11-moment_cd_relationship!A73)*((moment_cd_relationship!B73-moment_cd_relationship!B74)/(moment_cd_relationship!A73-moment_cd_relationship!A74))+moment_cd_relationship!B73)*'LiFFT_v1.4.0'!$J$11","v":{"$error":"#VALUE!"}},{"$f":"(('LiFFT_v1.4.0'!$H$14-moment_cd_relationship!A73)*((moment_cd_relationship!B73-moment_cd_relationship!B74)/(moment_cd_relationship!A73-moment_cd_relationship!A74))+moment_cd_relationship!B73)*'LiFFT_v1.4.0'!$J$14","v":{"$error":"#VALUE!"}},{"$f":"(('LiFFT_v1.4.0'!$H$17-moment_cd_relationship!A73)*((moment_cd_relationship!B73-moment_cd_relationship!B74)/(moment_cd_relationship!A73-moment_cd_relationship!A74))+moment_cd_relationship!B73)*'LiFFT_v1.4.0'!$J$17","v":{"$error":"#VALUE!"}},{"$f":"(('LiFFT_v1.4.0'!$H$20-moment_cd_relationship!A73)*((moment_cd_relationship!B73-moment_cd_relationship!B74)/(moment_cd_relationship!A73-moment_cd_relationship!A74))+moment_cd_relationship!B73)*'LiFFT_v1.4.0'!$J$20","v":{"$error":"#VALUE!"}},{"$f":"(('LiFFT_v1.4.0'!$H$23-moment_cd_relationship!A73)*((moment_cd_relationship!B73-moment_cd_relationship!B74)/(moment_cd_relationship!A73-moment_cd_relationship!A74))+moment_cd_relationship!B73)*'LiFFT_v1.4.0'!$J$23","v":{"$error":"#VALUE!"}},{"$f":"(('LiFFT_v1.4.0'!$H$26-moment_cd_relationship!A73)*((moment_cd_relationship!B73-moment_cd_relationship!B74)/(moment_cd_relationship!A73-moment_cd_relationship!A74))+moment_cd_relationship!B73)*'LiFFT_v1.4.0'!$J$26","v":{"$error":"#VALUE!"}},{"$f":"(('LiFFT_v1.4.0'!$H$29-moment_cd_relationship!A73)*((moment_cd_relationship!B73-moment_cd_relationship!B74)/(moment_cd_relationship!A73-moment_cd_relationship!A74))+moment_cd_relationship!B73)*'LiFFT_v1.4.0'!$J$29","v":{"$error":"#VALUE!"}},{"$f":"(('LiFFT_v1.4.0'!$H$32-moment_cd_relationship!A73)*((moment_cd_relationship!B73-moment_cd_relationship!B74)/(moment_cd_relationship!A73-moment_cd_relationship!A74))+moment_cd_relationship!B73)*'LiFFT_v1.4.0'!$J$32","v":{"$error":"#VALUE!"}}]
[72,6.0000000000000002E-5,{"$f":"(('LiFFT_v1.4.0'!$H$5-moment_cd_relationship!A74)*((moment_cd_relationship!B74-moment_cd_relationship!B75)/(moment_cd_relationship!A74-moment_cd_relationship!A75))+moment_cd_relationship!B74)*'LiFFT_v1.4.0'!$J$5","v":-0.15795000000000023},{"$f":"(('LiFFT_v1.4.0'!$H$8-moment_cd_relationship!A74)*((moment_cd_relationship!B74-moment_cd_relationship!B75)/(moment_cd_relationship!A74-moment_cd_relationship!A75))+moment_cd_relationship!B74)*'LiFFT_v1.4.0'!$J$8","v":{"$error":"#VALUE!"}},{"$f":"(('LiFFT_v1.4.0'!$H$11-moment_cd_relationship!A74)*((moment_cd_relationship!B74-moment_cd_relationship!B75)/(moment_cd_relationship!A74-moment_cd_relationship!A75))+moment_cd_relationship!B74)*'LiFFT_v1.4.0'!$J$11","v":{"$error":"#VALUE!"}},{"$f":"(('LiFFT_v1.4.0'!$H$14-moment_cd_relationship!A74)*((moment_cd_relationship!B74-moment_cd_relationship!B75)/(moment_cd_relationship!A74-moment_cd_relationship!A75))+moment_cd_relationship!B74)*'LiFFT_v1.4.0'!$J$14","v":{"$error":"#VALUE!"}},{"$f":"(('LiFFT_v1.4.0'!$H$17-moment_cd_relationship!A74)*((moment_cd_relationship!B74-moment_cd_relationship!B75)/(moment_cd_relationship!A74-moment_cd_relationship!A75))+moment_cd_relationship!B74)*'LiFFT_v1.4.0'!$J$17","v":{"$error":"#VALUE!"}},{"$f":"(('LiFFT_v1.4.0'!$H$20-moment_cd_relationship!A74)*((moment_cd_relationship!B74-moment_cd_relationship!B75)/(moment_cd_relationship!A74-moment_cd_relationship!A75))+moment_cd_relationship!B74)*'LiFFT_v1.4.0'!$J$20","v":{"$error":"#VALUE!"}},{"$f":"(('LiFFT_v1.4.0'!$H$23-moment_cd_relationship!A74)*((moment_cd_relationship!B74-moment_cd_relationship!B75)/(moment_cd_relationship!A74-moment_cd_relationship!A75))+moment_cd_relationship!B74)*'LiFFT_v1.4.0'!$J$23","v":{"$error":"#VALUE!"}},{"$f":"(('LiFFT_v1.4.0'!$H$26-moment_cd_relationship!A74)*((moment_cd_relationship!B74-moment_cd_relationship!B75)/(moment_cd_relationship!A74-moment_cd_relationship!A75))+moment_cd_relationship!B74)*'LiFFT_v1.4.0'!$J$26","v":{"$error":"#VALUE!"}},{"$f":"(('LiFFT_v1.4.0'!$H$29-moment_cd_relationship!A74)*((moment_cd_relationship!B74-moment_cd_relationship!B75)/(moment_cd_relationship!A74-moment_cd_relationship!A75))+moment_cd_relationship!B74)*'LiFFT_v1.4.0'!$J$29","v":{"$error":"#VALUE!"}},{"$f":"(('LiFFT_v1.4.0'!$H$32-moment_cd_relationship!A74)*((moment_cd_relationship!B74-moment_cd_relationship!B75)/(moment_cd_relationship!A74-moment_cd_relationship!A75))+moment_cd_relationship!B74)*'LiFFT_v1.4.0'!$J$32","v":{"$error":"#VALUE!"}}]
[73,6.3200000000000005E-5,{"$f":"(('LiFFT_v1.4.0'!$H$5-moment_cd_relationship!A75)*((moment_cd_relationship!B75-moment_cd_relationship!B76)/(moment_cd_relationship!A75-moment_cd_relationship!A76))+moment_cd_relationship!B75)*'LiFFT_v1.4.0'!$J$5","v":-0.18360000000000026},{"$f":"(('LiFFT_v1.4.0'!$H$8-moment_cd_relationship!A75)*((moment_cd_relationship!B75-moment_cd_relationship!B76)/(moment_cd_relationship!A75-moment_cd_relationship!A76))+moment_cd_relationship!B75)*'LiFFT_v1.4.0'!$J$8","v":{"$error":"#VALUE!"}},{"$f":"(('LiFFT_v1.4.0'!$H$11-moment_cd_relationship!A75)*((moment_cd_relationship!B75-moment_cd_relationship!B76)/(moment_cd_relationship!A75-moment_cd_relationship!A76))+moment_cd_relationship!B75)*'LiFFT_v1.4.0'!$J$11","v":{"$error":"#VALUE!"}},{"$f":"(('LiFFT_v1.4.0'!$H$14-moment_cd_relationship!A75)*((moment_cd_relationship!B75-moment_cd_relationship!B76)/(moment_cd_relationship!A75-moment_cd_relationship!A76))+moment_cd_relationship!B75)*'LiFFT_v1.4.0'!$J$14","v":{"$error":"#VALUE!"}},{"$f":"(('LiFFT_v1.4.0'!$H$17-moment_cd_relationship!A75)*((moment_cd_relationship!B75-moment_cd_relationship!B76)/(moment_cd_relationship!A75-moment_cd_relationship!A76))+moment_cd_relationship!B75)*'LiFFT_v1.4.0'!$J$17","v":{"$error":"#VALUE!"}},{"$f":"(('LiFFT_v1.4.0'!$H$20-moment_cd_relationship!A75)*((moment_cd_relationship!B75-moment_cd_relationship!B76)/(moment_cd_relationship!A75-moment_cd_relationship!A76))+moment_cd_relationship!B75)*'LiFFT_v1.4.0'!$J$20","v":{"$error":"#VALUE!"}},{"$f":"(('LiFFT_v1.4.0'!$H$23-moment_cd_relationship!A75)*((moment_cd_relationship!B75-moment_cd_relationship!B76)/(moment_cd_relationship!A75-moment_cd_relationship!A76))+moment_cd_relationship!B75)*'LiFFT_v1.4.0'!$J$23","v":{"$error":"#VALUE!"}},{"$f":"(('LiFFT_v1.4.0'!$H$26-moment_cd_relationship!A75)*((moment_cd_relationship!B75-moment_cd_relationship!B76)/(moment_cd_relationship!A75-moment_cd_relationship!A76))+moment_cd_relationship!B75)*'LiFFT_v1.4.0'!$J$26","v":{"$error":"#VALUE!"}},{"$f":"(('LiFFT_v1.4.0'!$H$29-moment_cd_relationship!A75)*((moment_cd_relationship!B75-moment_cd_relationship!B76)/(moment_cd_relationship!A75-moment_cd_relationship!A76))+moment_cd_relationship!B75)*'LiFFT_v1.4.0'!$J$29","v":{"$error":"#VALUE!"}},{"$f":"(('LiFFT_v1.4.0'!$H$32-moment_cd_relationship!A75)*((moment_cd_relationship!B75-moment_cd_relationship!B76)/(moment_cd_relationship!A75-moment_cd_relationship!A76))+moment_cd_relationship!B75)*'LiFFT_v1.4.0'!$J$32","v":{"$error":"#VALUE!"}}]
[74,6.6500000000000004E-5,{"$f":"(('LiFFT_v1.4.0'!$H$5-moment_cd_relationship!A76)*((moment_cd_relationship!B76-moment_cd_relationship!B77)/(moment_cd_relationship!A76-moment_cd_relationship!A77))+moment_cd_relationship!B76)*'LiFFT_v1.4.0'!$J$5","v":-0.19229999999999989},{"$f":"(('LiFFT_v1.4.0'!$H$8-moment_cd_relationship!A76)*((moment_cd_relationship!B76-moment_cd_relationship!B77)/(moment_cd_relationship!A76-moment_cd_relationship!A77))+moment_cd_relationship!B76)*'LiFFT_v1.4.0'!$J$8","v":{"$error":"#VALUE!"}},{"$f":"(('LiFFT_v1.4.0'!$H$11-moment_cd_relationship!A76)*((moment_cd_relationship!B76-moment_cd_relationship!B77)/(moment_cd_relationship!A76-moment_cd_relationship!A77))+moment_cd_relationship!B76)*'LiFFT_v1.4.0'!$J$11","v":{"$error":"#VALUE!"}},{"$f":"(('LiFFT_v1.4.0'!$H$14-moment_cd_relationship!A76)*((moment_cd_relationship!B76-moment_cd_relationship!B77)/(moment_cd_relationship!A76-moment_cd_relationship!A77))+moment_cd_relationship!B76)*'LiFFT_v1.4.0'!$J$14","v":{"$error":"#VALUE!"}},{"$f":"(('LiFFT_v1.4.0'!$H$17-moment_cd_relationship!A76)*((moment_cd_relationship!B76-moment_cd_relationship!B77)/(moment_cd_relationship!A76-moment_cd_relationship!A77))+moment_cd_relationship!B76)*'LiFFT_v1.4.0'!$J$17","v":{"$error":"#VALUE!"}},{"$f":"(('LiFFT_v1.4.0'!$H$20-moment_cd_relationship!A76)*((moment_cd_relationship!B76-moment_cd_relationship!B77)/(moment_cd_relationship!A76-moment_cd_relationship!A77))+moment_cd_relationship!B76)*'LiFFT_v1.4.0'!$J$20","v":{"$error":"#VALUE!"}},{"$f":"(('LiFFT_v1.4.0'!$H$23-moment_cd_relationship!A76)*((moment_cd_relationship!B76-moment_cd_relationship!B77)/(moment_cd_relationship!A76-moment_cd_relationship!A77))+moment_cd_relationship!B76)*'LiFFT_v1.4.0'!$J$23","v":{"$error":"#VALUE!"}},{"$f":"(('LiFFT_v1.4.0'!$H$26-moment_cd_relationship!A76)*((moment_cd_relationship!B76-moment_cd_relationship!B77)/(moment_cd_relationship!A76-moment_cd_relationship!A77))+moment_cd_relationship!B76)*'LiFFT_v1.4.0'!$J$26","v":{"$error":"#VALUE!"}},{"$f":"(('LiFFT_v1.4.0'!$H$29-moment_cd_relationship!A76)*((moment_cd_relationship!B76-moment_cd_relationship!B77)/(moment_cd_relationship!A76-moment_cd_relationship!A77))+moment_cd_relationship!B76)*'LiFFT_v1.4.0'!$J$29","v":{"$error":"#VALUE!"}},{"$f":"(('LiFFT_v1.4.0'!$H$32-moment_cd_relationship!A76)*((moment_cd_relationship!B76-moment_cd_relationship!B77)/(moment_cd_relationship!A76-moment_cd_relationship!A77))+moment_cd_relationship!B76)*'LiFFT_v1.4.0'!$J$32","v":{"$error":"#VALUE!"}}]
[75,6.9999999999999994E-5,{"$f":"(('LiFFT_v1.4.0'!$H$5-moment_cd_relationship!A77)*((moment_cd_relationship!B77-moment_cd_relationship!B78)/(moment_cd_relationship!A77-moment_cd_relationship!A78))+moment_cd_relationship!B77)*'LiFFT_v1.4.0'!$J$5","v":-0.20999999999999916},{"$f":"(('LiFFT_v1.4.0'!$H$8-moment_cd_relationship!A77)*((moment_cd_relationship!B77-moment_cd_relationship!B78)/(moment_cd_relationship!A77-moment_cd_relationship!A78))+moment_cd_relationship!B77)*'LiFFT_v1.4.0'!$J$8","v":{"$error":"#VALUE!"}},{"$f":"(('LiFFT_v1.4.0'!$H$11-moment_cd_relationship!A77)*((moment_cd_relationship!B77-moment_cd_relationship!B78)/(moment_cd_relationship!A77-moment_cd_relationship!A78))+moment_cd_relationship!B77)*'LiFFT_v1.4.0'!$J$11","v":{"$error":"#VALUE!"}},{"$f":"(('LiFFT_v1.4.0'!$H$14-moment_cd_relationship!A77)*((moment_cd_relationship!B77-moment_cd_relationship!B78)/(moment_cd_relationship!A77-moment_cd_relationship!A78))+moment_cd_relationship!B77)*'LiFFT_v1.4.0'!$J$14","v":{"$error":"#VALUE!"}},{"$f":"(('LiFFT_v1.4.0'!$H$17-moment_cd_relationship!A77)*((moment_cd_relationship!B77-moment_cd_relationship!B78)/(moment_cd_relationship!A77-moment_cd_relationship!A78))+moment_cd_relationship!B77)*'LiFFT_v1.4.0'!$J$17","v":{"$error":"#VALUE!"}},{"$f":"(('LiFFT_v1.4.0'!$H$20-moment_cd_relationship!A77)*((moment_cd_relationship!B77-moment_cd_relationship!B78)/(moment_cd_relationship!A77-moment_cd_relationship!A78))+moment_cd_relationship!B77)*'LiFFT_v1.4.0'!$J$20","v":{"$error":"#VALUE!"}},{"$f":"(('LiFFT_v1.4.0'!$H$23-moment_cd_relationship!A77)*((moment_cd_relationship!B77-moment_cd_relationship!B78)/(moment_cd_relationship!A77-moment_cd_relationship!A78))+moment_cd_relationship!B77)*'LiFFT_v1.4.0'!$J$23","v":{"$error":"#VALUE!"}},{"$f":"(('LiFFT_v1.4.0'!$H$26-moment_cd_relationship!A77)*((moment_cd_relationship!B77-moment_cd_relationship!B78)/(moment_cd_relationship!A77-moment_cd_relationship!A78))+moment_cd_relationship!B77)*'LiFFT_v1.4.0'!$J$26","v":{"$error":"#VALUE!"}},{"$f":"(('LiFFT_v1.4.0'!$H$29-moment_cd_relationship!A77)*((moment_cd_relationship!B77-moment_cd_relationship!B78)/(moment_cd_relationship!A77-moment_cd_relationship!A78))+moment_cd_relationship!B77)*'LiFFT_v1.4.0'!$J$29","v":{"$error":"#VALUE!"}},{"$f":"(('LiFFT_v1.4.0'!$H$32-moment_cd_relationship!A77)*((moment_cd_relationship!B77-moment_cd_relationship!B78)/(moment_cd_relationship!A77-moment_cd_relationship!A78))+moment_cd_relationship!B77)*'LiFFT_v1.4.0'!$J$32","v":{"$error":"#VALUE!"}}]
[76,7.36E-5,{"$f":"(('LiFFT_v1.4.0'!$H$5-moment_cd_relationship!A78)*((moment_cd_relationship!B78-moment_cd_relationship!B79)/(moment_cd_relationship!A78-moment_cd_relationship!A79))+moment_cd_relationship!B78)*'LiFFT_v1.4.0'!$J$5","v":-0.21900000000000056},{"$f":"(('LiFFT_v1.4.0'!$H$8-moment_cd_relationship!A78)*((moment_cd_relationship!B78-moment_cd_relationship!B79)/(moment_cd_relationship!A78-moment_cd_relationship!A79))+moment_cd_relationship!B78)*'LiFFT_v1.4.0'!$J$8","v":{"$error":"#VALUE!"}},{"$f":"(('LiFFT_v1.4.0'!$H$11-moment_cd_relationship!A78)*((moment_cd_relationship!B78-moment_cd_relationship!B79)/(moment_cd_relationship!A78-moment_cd_relationship!A79))+moment_cd_relationship!B78)*'LiFFT_v1.4.0'!$J$11","v":{"$error":"#VALUE!"}},{"$f":"(('LiFFT_v1.4.0'!$H$14-moment_cd_relationship!A78)*((moment_cd_relationship!B78-moment_cd_relationship!B79)/(moment_cd_relationship!A78-moment_cd_relationship!A79))+moment_cd_relationship!B78)*'LiFFT_v1.4.0'!$J$14","v":{"$error":"#VALUE!"}},{"$f":"(('LiFFT_v1.4.0'!$H$17-moment_cd_relationship!A78)*((moment_cd_relationship!B78-moment_cd_relationship!B79)/(moment_cd_relationship!A78-moment_cd_relationship!A79))+moment_cd_relationship!B78)*'LiFFT_v1.4.0'!$J$17","v":{"$error":"#VALUE!"}},{"$f":"(('LiFFT_v1.4.0'!$H$20-moment_cd_relationship!A78)*((moment_cd_relationship!B78-moment_cd_relationship!B79)/(moment_cd_relationship!A78-moment_cd_relationship!A79))+moment_cd_relationship!B78)*'LiFFT_v1.4.0'!$J$20","v":{"$error":"#VALUE!"}},{"$f":"(('LiFFT_v1.4.0'!$H$23-moment_cd_relationship!A78)*((moment_cd_relationship!B78-moment_cd_relationship!B79)/(moment_cd_relationship!A78-moment_cd_relationship!A79))+moment_cd_relationship!B78)*'LiFFT_v1.4.0'!$J$23","v":{"$error":"#VALUE!"}},{"$f":"(('LiFFT_v1.4.0'!$H$26-moment_cd_relationship!A78)*((moment_cd_relationship!B78-moment_cd_relationship!B79)/(moment_cd_relationship!A78-moment_cd_relationship!A79))+moment_cd_relationship!B78)*'LiFFT_v1.4.0'!$J$26","v":{"$error":"#VALUE!"}},{"$f":"(('LiFFT_v1.4.0'!$H$29-moment_cd_relationship!A78)*((moment_cd_relationship!B78-moment_cd_relationship!B79)/(moment_cd_relationship!A78-moment_cd_relationship!A79))+moment_cd_relationship!B78)*'LiFFT_v1.4.0'!$J$29","v":{"$error":"#VALUE!"}},{"$f":"(('LiFFT_v1.4.0'!$H$32-moment_cd_relationship!A78)*((moment_cd_relationship!B78-moment_cd_relationship!B79)/(moment_cd_relationship!A78-moment_cd_relationship!A79))+moment_cd_relationship!B78)*'LiFFT_v1.4.0'!$J$32","v":{"$error":"#VALUE!"}}]
[77,7.75E-5,{"$f":"(('LiFFT_v1.4.0'!$H$5-moment_cd_relationship!A79)*((moment_cd_relationship!B79-moment_cd_relationship!B80)/(moment_cd_relationship!A79-moment_cd_relationship!A80))+moment_cd_relationship!B79)*'LiFFT_v1.4.0'!$J$5","v":-0.24644999999999997},{"$f":"(('LiFFT_v1.4.0'!$H$8-moment_cd_relationship!A79)*((moment_cd_relationship!B79-moment_cd_relationship!B80)/(moment_cd_relationship!A79-moment_cd_relationship!A80))+moment_cd_relationship!B79)*'LiFFT_v1.4.0'!$J$8","v":{"$error":"#VALUE!"}},{"$f":"(('LiFFT_v1.4.0'!$H$11-moment_cd_relationship!A79)*((moment_cd_relationship!B79-moment_cd_relationship!B80)/(moment_cd_relationship!A79-moment_cd_relationship!A80))+moment_cd_relationship!B79)*'LiFFT_v1.4.0'!$J$11","v":{"$error":"#VALUE!"}},{"$f":"(('LiFFT_v1.4.0'!$H$14-moment_cd_relationship!A79)*((moment_cd_relationship!B79-moment_cd_relationship!B80)/(moment_cd_relationship!A79-moment_cd_relationship!A80))+moment_cd_relationship!B79)*'LiFFT_v1.4.0'!$J$14","v":{"$error":"#VALUE!"}},{"$f":"(('LiFFT_v1.4.0'!$H$17-moment_cd_relationship!A79)*((moment_cd_relationship!B79-moment_cd_relationship!B80)/(moment_cd_relationship!A79-moment_cd_relationship!A80))+moment_cd_relationship!B79)*'LiFFT_v1.4.0'!$J$17","v":{"$error":"#VALUE!"}},{"$f":"(('LiFFT_v1.4.0'!$H$20-moment_cd_relationship!A79)*((moment_cd_relationship!B79-moment_cd_relationship!B80)/(moment_cd_relationship!A79-moment_cd_relationship!A80))+moment_cd_relationship!B79)*'LiFFT_v1.4.0'!$J$20","v":{"$error":"#VALUE!"}},{"$f":"(('LiFFT_v1.4.0'!$H$23-moment_cd_relationship!A79)*((moment_cd_relationship!B79-moment_cd_relationship!B80)/(moment_cd_relationship!A79-moment_cd_relationship!A80))+moment_cd_relationship!B79)*'LiFFT_v1.4.0'!$J$23","v":{"$error":"#VALUE!"}},{"$f":"(('LiFFT_v1.4.0'!$H$26-moment_cd_relationship!A79)*((moment_cd_relationship!B79-moment_cd_relationship!B80)/(moment_cd_relationship!A79-moment_cd_relationship!A80))+moment_cd_relationship!B79)*'LiFFT_v1.4.0'!$J$26","v":{"$error":"#VALUE!"}},{"$f":"(('LiFFT_v1.4.0'!$H$29-moment_cd_relationship!A79)*((moment_cd_relationship!B79-moment_cd_relationship!B80)/(moment_cd_relationship!A79-moment_cd_relationship!A80))+moment_cd_relationship!B79)*'LiFFT_v1.4.0'!$J$29","v":{"$error":"#VALUE!"}},{"$f":"(('LiFFT_v1.4.0'!$H$32-moment_cd_relationship!A79)*((moment_cd_relationship!B79-moment_cd_relationship!B80)/(moment_cd_relationship!A79-moment_cd_relationship!A80))+moment_cd_relationship!B79)*'LiFFT_v1.4.0'!$J$32","v":{"$error":"#VALUE!"}}]
[78,8.1500000000000002E-5,{"$f":"(('LiFFT_v1.4.0'!$H$5-moment_cd_relationship!A80)*((moment_cd_relationship!B80-moment_cd_relationship!B81)/(moment_cd_relationship!A80-moment_cd_relationship!A81))+moment_cd_relationship!B80)*'LiFFT_v1.4.0'!$J$5","v":-0.25575000000000025},{"$f":"(('LiFFT_v1.4.0'!$H$8-moment_cd_relationship!A80)*((moment_cd_relationship!B80-moment_cd_relationship!B81)/(moment_cd_relationship!A80-moment_cd_relationship!A81))+moment_cd_relationship!B80)*'LiFFT_v1.4.0'!$J$8","v":{"$error":"#VALUE!"}},{"$f":"(('LiFFT_v1.4.0'!$H$11-moment_cd_relationship!A80)*((moment_cd_relationship!B80-moment_cd_relationship!B81)/(moment_cd_relationship!A80-moment_cd_relationship!A81))+moment_cd_relationship!B80)*'LiFFT_v1.4.0'!$J$11","v":{"$error":"#VALUE!"}},{"$f":"(('LiFFT_v1.4.0'!$H$14-moment_cd_relationship!A80)*((moment_cd_relationship!B80-moment_cd_relationship!B81)/(moment_cd_relationship!A80-moment_cd_relationship!A81))+moment_cd_relationship!B80)*'LiFFT_v1.4.0'!$J$14","v":{"$error":"#VALUE!"}},{"$f":"(('LiFFT_v1.4.0'!$H$17-moment_cd_relationship!A80)*((moment_cd_relationship!B80-moment_cd_relationship!B81)/(moment_cd_relationship!A80-moment_cd_relationship!A81))+moment_cd_relationship!B80)*'LiFFT_v1.4.0'!$J$17","v":{"$error":"#VALUE!"}},{"$f":"(('LiFFT_v1.4.0'!$H$20-moment_cd_relationship!A80)*((moment_cd_relationship!B80-moment_cd_relationship!B81)/(moment_cd_relationship!A80-moment_cd_relationship!A81))+moment_cd_relationship!B80)*'LiFFT_v1.4.0'!$J$20","v":{"$error":"#VALUE!"}},{"$f":"(('LiFFT_v1.4.0'!$H$23-moment_cd_relationship!A80)*((moment_cd_relationship!B80-moment_cd_relationship!B81)/(moment_cd_relationship!A80-moment_cd_relationship!A81))+moment_cd_relationship!B80)*'LiFFT_v1.4.0'!$J$23","v":{"$error":"#VALUE!"}},{"$f":"(('LiFFT_v1.4.0'!$H$26-moment_cd_relationship!A80)*((moment_cd_relationship!B80-moment_cd_relationship!B81)/(moment_cd_relationship!A80-moment_cd_relationship!A81))+moment_cd_relationship!B80)*'LiFFT_v1.4.0'!$J$26","v":{"$error":"#VALUE!"}},{"$f":"(('LiFFT_v1.4.0'!$H$29-moment_cd_relationship!A80)*((moment_cd_relationship!B80-moment_cd_relationship!B81)/(moment_cd_relationship!A80-moment_cd_relationship!A81))+moment_cd_relationship!B80)*'LiFFT_v1.4.0'!$J$29","v":{"$error":"#VALUE!"}},{"$f":"(('LiFFT_v1.4.0'!$H$32-moment_cd_relationship!A80)*((moment_cd_relationship!B80-moment_cd_relationship!B81)/(moment_cd_relationship!A80-moment_cd_relationship!A81))+moment_cd_relationship!B80)*'LiFFT_v1.4.0'!$J$32","v":{"$error":"#VALUE!"}}]
[79,8.5799999999999998E-5,{"$f":"(('LiFFT_v1.4.0'!$H$5-moment_cd_relationship!A81)*((moment_cd_relationship!B81-moment_cd_relationship!B82)/(moment_cd_relationship!A81-moment_cd_relationship!A82))+moment_cd_relationship!B81)*'LiFFT_v1.4.0'!$J$5","v":-0.28409999999999963},{"$f":"(('LiFFT_v1.4.0'!$H$8-moment_cd_relationship!A81)*((moment_cd_relationship!B81-moment_cd_relationship!B82)/(moment_cd_relationship!A81-moment_cd_relationship!A82))+moment_cd_relationship!B81)*'LiFFT_v1.4.0'!$J$8","v":{"$error":"#VALUE!"}},{"$f":"(('LiFFT_v1.4.0'!$H$11-moment_cd_relationship!A81)*((moment_cd_relationship!B81-moment_cd_relationship!B82)/(moment_cd_relationship!A81-moment_cd_relationship!A82))+moment_cd_relationship!B81)*'LiFFT_v1.4.0'!$J$11","v":{"$error":"#VALUE!"}},{"$f":"(('LiFFT_v1.4.0'!$H$14-moment_cd_relationship!A81)*((moment_cd_relationship!B81-moment_cd_relationship!B82)/(moment_cd_relationship!A81-moment_cd_relationship!A82))+moment_cd_relationship!B81)*'LiFFT_v1.4.0'!$J$14","v":{"$error":"#VALUE!"}},{"$f":"(('LiFFT_v1.4.0'!$H$17-moment_cd_relationship!A81)*((moment_cd_relationship!B81-moment_cd_relationship!B82)/(moment_cd_relationship!A81-moment_cd_relationship!A82))+moment_cd_relationship!B81)*'LiFFT_v1.4.0'!$J$17","v":{"$error":"#VALUE!"}},{"$f":"(('LiFFT_v1.4.0'!$H$20-moment_cd_relationship!A81)*((moment_cd_relationship!B81-moment_cd_relationship!B82)/(moment_cd_relationship!A81-moment_cd_relationship!A82))+moment_cd_relationship!B81)*'LiFFT_v1.4.0'!$J$20","v":{"$error":"#VALUE!"}},{"$f":"(('LiFFT_v1.4.0'!$H$23-moment_cd_relationship!A81)*((moment_cd_relationship!B81-moment_cd_relationship!B82)/(moment_cd_relationship!A81-moment_cd_relationship!A82))+moment_cd_relationship!B81)*'LiFFT_v1.4.0'!$J$23","v":{"$error":"#VALUE!"}},{"$f":"(('LiFFT_v1.4.0'!$H$26-moment_cd_relationship!A81)*((moment_cd_relationship!B81-moment_cd_relationship!B82)/(moment_cd_relationship!A81-moment_cd_relationship!A82))+moment_cd_relationship!B81)*'LiFFT_v1.4.0'!$J$26","v":{"$error":"#VALUE!"}},{"$f":"(('LiFFT_v1.4.0'!$H$29-moment_cd_relationship!A81)*((moment_cd_relationship!B81-moment_cd_relationship!B82)/(moment_cd_relationship!A81-moment_cd_relationship!A82))+moment_cd_relationship!B81)*'LiFFT_v1.4.0'!$J$29","v":{"$error":"#VALUE!"}},{"$f":"(('LiFFT_v1.4.0'!$H$32-moment_cd_relationship!A81)*((moment_cd_relationship!B81-moment_cd_relationship!B82)/(moment_cd_relationship!A81-moment_cd_relationship!A82))+moment_cd_relationship!B81)*'LiFFT_v1.4.0'!$J$32","v":{"$error":"#VALUE!"}}]
[80,9.0299999999999999E-5,{"$f":"(('LiFFT_v1.4.0'!$H$5-moment_cd_relationship!A82)*((moment_cd_relationship!B82-moment_cd_relationship!B83)/(moment_cd_relationship!A82-moment_cd_relationship!A83))+moment_cd_relationship!B82)*'LiFFT_v1.4.0'!$J$5","v":-0.30330000000000007},{"$f":"(('LiFFT_v1.4.0'!$H$8-moment_cd_relationship!A82)*((moment_cd_relationship!B82-moment_cd_relationship!B83)/(moment_cd_relationship!A82-moment_cd_relationship!A83))+moment_cd_relationship!B82)*'LiFFT_v1.4.0'!$J$8","v":{"$error":"#VALUE!"}},{"$f":"(('LiFFT_v1.4.0'!$H$11-moment_cd_relationship!A82)*((moment_cd_relationship!B82-moment_cd_relationship!B83)/(moment_cd_relationship!A82-moment_cd_relationship!A83))+moment_cd_relationship!B82)*'LiFFT_v1.4.0'!$J$11","v":{"$error":"#VALUE!"}},{"$f":"(('LiFFT_v1.4.0'!$H$14-moment_cd_relationship!A82)*((moment_cd_relationship!B82-moment_cd_relationship!B83)/(moment_cd_relationship!A82-moment_cd_relationship!A83))+moment_cd_relationship!B82)*'LiFFT_v1.4.0'!$J$14","v":{"$error":"#VALUE!"}},{"$f":"(('LiFFT_v1.4.0'!$H$17-moment_cd_relationship!A82)*((moment_cd_relationship!B82-moment_cd_relationship!B83)/(moment_cd_relationship!A82-moment_cd_relationship!A83))+moment_cd_relationship!B82)*'LiFFT_v1.4.0'!$J$17","v":{"$error":"#VALUE!"}},{"$f":"(('LiFFT_v1.4.0'!$H$20-moment_cd_relationship!A82)*((moment_cd_relationship!B82-moment_cd_relationship!B83)/(moment_cd_relationship!A82-moment_cd_relationship!A83))+moment_cd_relationship!B82)*'LiFFT_v1.4.0'!$J$20","v":{"$error":"#VALUE!"}},{"$f":"(('LiFFT_v1.4.0'!$H$23-moment_cd_relationship!A82)*((moment_cd_relationship!B82-moment_cd_relationship!B83)/(moment_cd_relationship!A82-moment_cd_relationship!A83))+moment_cd_relationship!B82)*'LiFFT_v1.4.0'!$J$23","v":{"$error":"#VALUE!"}},{"$f":"(('LiFFT_v1.4.0'!$H$26-moment_cd_relationship!A82)*((moment_cd_relationship!B82-moment_cd_relationship!B83)/(moment_cd_relationship!A82-moment_cd_relationship!A83))+moment_cd_relationship!B82)*'LiFFT_v1.4.0'!$J$26","v":{"$error":"#VALUE!"}},{"$f":"(('LiFFT_v1.4.0'!$H$29-moment_cd_relationship!A82)*((moment_cd_relationship!B82-moment_cd_relationship!B83)/(moment_cd_relationship!A82-moment_cd_relationship!A83))+moment_cd_relationship!B82)*'LiFFT_v1.4.0'!$J$29","v":{"$error":"#VALUE!"}},{"$f":"(('LiFFT_v1.4.0'!$H$32-moment_cd_relationship!A82)*((moment_cd_relationship!B82-moment_cd_relationship!B83)/(moment_cd_relationship!A82-moment_cd_relationship!A83))+moment_cd_relationship!B82)*'LiFFT_v1.4.0'!$J$32","v":{"$error":"#VALUE!"}}]
[81,9.5000000000000005E-5,{"$f":"(('LiFFT_v1.4.0'!$H$5-moment_cd_relationship!A83)*((moment_cd_relationship!B83-moment_cd_relationship!B84)/(moment_cd_relationship!A83-moment_cd_relationship!A84))+moment_cd_relationship!B83)*'LiFFT_v1.4.0'!$J$5","v":-0.32280000000000059},{"$f":"(('LiFFT_v1.4.0'!$H$8-moment_cd_relationship!A83)*((moment_cd_relationship!B83-moment_cd_relationship!B84)/(moment_cd_relationship!A83-moment_cd_relationship!A84))+moment_cd_relationship!B83)*'LiFFT_v1.4.0'!$J$8","v":{"$error":"#VALUE!"}},{"$f":"(('LiFFT_v1.4.0'!$H$11-moment_cd_relationship!A83)*((moment_cd_relationship!B83-moment_cd_relationship!B84)/(moment_cd_relationship!A83-moment_cd_relationship!A84))+moment_cd_relationship!B83)*'LiFFT_v1.4.0'!$J$11","v":{"$error":"#VALUE!"}},{"$f":"(('LiFFT_v1.4.0'!$H$14-moment_cd_relationship!A83)*((moment_cd_relationship!B83-moment_cd_relationship!B84)/(moment_cd_relationship!A83-moment_cd_relationship!A84))+moment_cd_relationship!B83)*'LiFFT_v1.4.0'!$J$14","v":{"$error":"#VALUE!"}},{"$f":"(('LiFFT_v1.4.0'!$H$17-moment_cd_relationship!A83)*((moment_cd_relationship!B83-moment_cd_relationship!B84)/(moment_cd_relationship!A83-moment_cd_relationship!A84))+moment_cd_relationship!B83)*'LiFFT_v1.4.0'!$J$17","v":{"$error":"#VALUE!"}},{"$f":"(('LiFFT_v1.4.0'!$H$20-moment_cd_relationship!A83)*((moment_cd_relationship!B83-moment_cd_relationship!B84)/(moment_cd_relationship!A83-moment_cd_relationship!A84))+moment_cd_relationship!B83)*'LiFFT_v1.4.0'!$J$20","v":{"$error":"#VALUE!"}},{"$f":"(('LiFFT_v1.4.0'!$H$23-moment_cd_relationship!A83)*((moment_cd_relationship!B83-moment_cd_relationship!B84)/(moment_cd_relationship!A83-moment_cd_relationship!A84))+moment_cd_relationship!B83)*'LiFFT_v1.4.0'!$J$23","v":{"$error":"#VALUE!"}},{"$f":"(('LiFFT_v1.4.0'!$H$26-moment_cd_relationship!A83)*((moment_cd_relationship!B83-moment_cd_relationship!B84)/(moment_cd_relationship!A83-moment_cd_relationship!A84))+moment_cd_relationship!B83)*'LiFFT_v1.4.0'!$J$26","v":{"$error":"#VALUE!"}},{"$f":"(('LiFFT_v1.4.0'!$H$29-moment_cd_relationship!A83)*((moment_cd_relationship!B83-moment_cd_relationship!B84)/(moment_cd_relationship!A83-moment_cd_relationship!A84))+moment_cd_relationship!B83)*'LiFFT_v1.4.0'!$J$29","v":{"$error":"#VALUE!"}},{"$f":"(('LiFFT_v1.4.0'!$H$32-moment_cd_relationship!A83)*((moment_cd_relationship!B83-moment_cd_relationship!B84)/(moment_cd_relationship!A83-moment_cd_relationship!A84))+moment_cd_relationship!B83)*'LiFFT_v1.4.0'!$J$32","v":{"$error":"#VALUE!"}}]
[82,1E-4,{"$f":"(('LiFFT_v1.4.0'!$H$5-moment_cd_relationship!A84)*((moment_cd_relationship!B84-moment_cd_relationship!B85)/(moment_cd_relationship!A84-moment_cd_relationship!A85))+moment_cd_relationship!B84)*'LiFFT_v1.4.0'!$J$5","v":-0.35249999999999998},{"$f":"(('LiFFT_v1.4.0'!$H$8-moment_cd_relationship!A84)*((moment_cd_relationship!B84-moment_cd_relationship!B85)/(moment_cd_relationship!A84-moment_cd_relationship!A85))+moment_cd_relationship!B84)*'LiFFT_v1.4.0'!$J$8","v":{"$error":"#VALUE!"}},{"$f":"(('LiFFT_v1.4.0'!$H$11-moment_cd_relationship!A84)*((moment_cd_relationship!B84-moment_cd_relationship!B85)/(moment_cd_relationship!A84-moment_cd_relationship!A85))+moment_cd_relationship!B84)*'LiFFT_v1.4.0'!$J$11","v":{"$error":"#VALUE!"}},{"$f":"(('LiFFT_v1.4.0'!$H$14-moment_cd_relationship!A84)*((moment_cd_relationship!B84-moment_cd_relationship!B85)/(moment_cd_relationship!A84-moment_cd_relationship!A85))+moment_cd_relationship!B84)*'LiFFT_v1.4.0'!$J$14","v":{"$error":"#VALUE!"}},{"$f":"(('LiFFT_v1.4.0'!$H$17-moment_cd_relationship!A84)*((moment_cd_relationship!B84-moment_cd_relationship!B85)/(moment_cd_relationship!A84-moment_cd_relationship!A85))+moment_cd_relationship!B84)*'LiFFT_v1.4.0'!$J$17","v":{"$error":"#VALUE!"}},{"$f":"(('LiFFT_v1.4.0'!$H$20-moment_cd_relationship!A84)*((moment_cd_relationship!B84-moment_cd_relationship!B85)/(moment_cd_relationship!A84-moment_cd_relationship!A85))+moment_cd_relationship!B84)*'LiFFT_v1.4.0'!$J$20","v":{"$error":"#VALUE!"}},{"$f":"(('LiFFT_v1.4.0'!$H$23-moment_cd_relationship!A84)*((moment_cd_relationship!B84-moment_cd_relationship!B85)/(moment_cd_relationship!A84-moment_cd_relationship!A85))+moment_cd_relationship!B84)*'LiFFT_v1.4.0'!$J$23","v":{"$error":"#VALUE!"}},{"$f":"(('LiFFT_v1.4.0'!$H$26-moment_cd_relationship!A84)*((moment_cd_relationship!B84-moment_cd_relationship!B85)/(moment_cd_relationship!A84-moment_cd_relationship!A85))+moment_cd_relationship!B84)*'LiFFT_v1.4.0'!$J$26","v":{"$error":"#VALUE!"}},{"$f":"(('LiFFT_v1.4.0'!$H$29-moment_cd_relationship!A84)*((moment_cd_relationship!B84-moment_cd_relationship!B85)/(moment_cd_relationship!A84-moment_cd_relationship!A85))+moment_cd_relationship!B84)*'LiFFT_v1.4.0'!$J$29","v":{"$error":"#VALUE!"}},{"$f":"(('LiFFT_v1.4.0'!$H$32-moment_cd_relationship!A84)*((moment_cd_relationship!B84-moment_cd_relationship!B85)/(moment_cd_relationship!A84-moment_cd_relationship!A85))+moment_cd_relationship!B84)*'LiFFT_v1.4.0'!$J$32","v":{"$error":"#VALUE!"}}]
[83,1.052E-4,{"$f":"(('LiFFT_v1.4.0'!$H$5-moment_cd_relationship!A85)*((moment_cd_relationship!B85-moment_cd_relationship!B86)/(moment_cd_relationship!A85-moment_cd_relationship!A86))+moment_cd_relationship!B85)*'LiFFT_v1.4.0'!$J$5","v":-0.37259999999999904},{"$f":"(('LiFFT_v1.4.0'!$H$8-moment_cd_relationship!A85)*((moment_cd_relationship!B85-moment_cd_relationship!B86)/(moment_cd_relationship!A85-moment_cd_relationship!A86))+moment_cd_relationship!B85)*'LiFFT_v1.4.0'!$J$8","v":{"$error":"#VALUE!"}},{"$f":"(('LiFFT_v1.4.0'!$H$11-moment_cd_relationship!A85)*((moment_cd_relationship!B85-moment_cd_relationship!B86)/(moment_cd_relationship!A85-moment_cd_relationship!A86))+moment_cd_relationship!B85)*'LiFFT_v1.4.0'!$J$11","v":{"$error":"#VALUE!"}},{"$f":"(('LiFFT_v1.4.0'!$H$14-moment_cd_relationship!A85)*((moment_cd_relationship!B85-moment_cd_relationship!B86)/(moment_cd_relationship!A85-moment_cd_relationship!A86))+moment_cd_relationship!B85)*'LiFFT_v1.4.0'!$J$14","v":{"$error":"#VALUE!"}},{"$f":"(('LiFFT_v1.4.0'!$H$17-moment_cd_relationship!A85)*((moment_cd_relationship!B85-moment_cd_relationship!B86)/(moment_cd_relationship!A85-moment_cd_relationship!A86))+moment_cd_relationship!B85)*'LiFFT_v1.4.0'!$J$17","v":{"$error":"#VALUE!"}},{"$f":"(('LiFFT_v1.4.0'!$H$20-moment_cd_relationship!A85)*((moment_cd_relationship!B85-moment_cd_relationship!B86)/(moment_cd_relationship!A85-moment_cd_relationship!A86))+moment_cd_relationship!B85)*'LiFFT_v1.4.0'!$J$20","v":{"$error":"#VALUE!"}},{"$f":"(('LiFFT_v1.4.0'!$H$23-moment_cd_relationship!A85)*((moment_cd_relationship!B85-moment_cd_relationship!B86)/(moment_cd_relationship!A85-moment_cd_relationship!A86))+moment_cd_relationship!B85)*'LiFFT_v1.4.0'!$J$23","v":{"$error":"#VALUE!"}},{"$f":"(('LiFFT_v1.4.0'!$H$26-moment_cd_relationship!A85)*((moment_cd_relationship!B85-moment_cd_relationship!B86)/(moment_cd_relationship!A85-moment_cd_relationship!A86))+moment_cd_relationship!B85)*'LiFFT_v1.4.0'!$J$26","v":{"$error":"#VALUE!"}},{"$f":"(('LiFFT_v1.4.0'!$H$29-moment_cd_relationship!A85)*((moment_cd_relationship!B85-moment_cd_relationship!B86)/(moment_cd_relationship!A85-moment_cd_relationship!A86))+moment_cd_relationship!B85)*'LiFFT_v1.4.0'!$J$29","v":{"$error":"#VALUE!"}},{"$f":"(('LiFFT_v1.4.0'!$H$32-moment_cd_relationship!A85)*((moment_cd_relationship!B85-moment_cd_relationship!B86)/(moment_cd_relationship!A85-moment_cd_relationship!A86))+moment_cd_relationship!B85)*'LiFFT_v1.4.0'!$J$32","v":{"$error":"#VALUE!"}}]
[84,1.1069999999999999E-4,{"$f":"(('LiFFT_v1.4.0'!$H$5-moment_cd_relationship!A86)*((moment_cd_relationship!B86-moment_cd_relationship!B87)/(moment_cd_relationship!A86-moment_cd_relationship!A87))+moment_cd_relationship!B86)*'LiFFT_v1.4.0'!$J$5","v":-0.40319999999999978},{"$f":"(('LiFFT_v1.4.0'!$H$8-moment_cd_relationship!A86)*((moment_cd_relationship!B86-moment_cd_relationship!B87)/(moment_cd_relationship!A86-moment_cd_relationship!A87))+moment_cd_relationship!B86)*'LiFFT_v1.4.0'!$J$8","v":{"$error":"#VALUE!"}},{"$f":"(('LiFFT_v1.4.0'!$H$11-moment_cd_relationship!A86)*((moment_cd_relationship!B86-moment_cd_relationship!B87)/(moment_cd_relationship!A86-moment_cd_relationship!A87))+moment_cd_relationship!B86)*'LiFFT_v1.4.0'!$J$11","v":{"$error":"#VALUE!"}},{"$f":"(('LiFFT_v1.4.0'!$H$14-moment_cd_relationship!A86)*((moment_cd_relationship!B86-moment_cd_relationship!B87)/(moment_cd_relationship!A86-moment_cd_relationship!A87))+moment_cd_relationship!B86)*'LiFFT_v1.4.0'!$J$14","v":{"$error":"#VALUE!"}},{"$f":"(('LiFFT_v1.4.0'!$H$17-moment_cd_relationship!A86)*((moment_cd_relationship!B86-moment_cd_relationship!B87)/(moment_cd_relationship!A86-moment_cd_relationship!A87))+moment_cd_relationship!B86)*'LiFFT_v1.4.0'!$J$17","v":{"$error":"#VALUE!"}},{"$f":"(('LiFFT_v1.4.0'!$H$20-moment_cd_relationship!A86)*((moment_cd_relationship!B86-moment_cd_relationship!B87)/(moment_cd_relationship!A86-moment_cd_relationship!A87))+moment_cd_relationship!B86)*'LiFFT_v1.4.0'!$J$20","v":{"$error":"#VALUE!"}},{"$f":"(('LiFFT_v1.4.0'!$H$23-moment_cd_relationship!A86)*((moment_cd_relationship!B86-moment_cd_relationship!B87)/(moment_cd_relationship!A86-moment_cd_relationship!A87))+moment_cd_relationship!B86)*'LiFFT_v1.4.0'!$J$23","v":{"$error":"#VALUE!"}},{"$f":"(('LiFFT_v1.4.0'!$H$26-moment_cd_relationship!A86)*((moment_cd_relationship!B86-moment_cd_relationship!B87)/(moment_cd_relationship!A86-moment_cd_relationship!A87))+moment_cd_relationship!B86)*'LiFFT_v1.4.0'!$J$26","v":{"$error":"#VALUE!"}},{"$f":"(('LiFFT_v1.4.0'!$H$29-moment_cd_relationship!A86)*((moment_cd_relationship!B86-moment_cd_relationship!B87)/(moment_cd_relationship!A86-moment_cd_relationship!A87))+moment_cd_relationship!B86)*'LiFFT_v1.4.0'!$J$29","v":{"$error":"#VALUE!"}},{"$f":"(('LiFFT_v1.4.0'!$H$32-moment_cd_relationship!A86)*((moment_cd_relationship!B86-moment_cd_relationship!B87)/(moment_cd_relationship!A86-moment_cd_relationship!A87))+moment_cd_relationship!B86)*'LiFFT_v1.4.0'!$J$32","v":{"$error":"#VALUE!"}}]
[85,1.165E-4,{"$f":"(('LiFFT_v1.4.0'!$H$5-moment_cd_relationship!A87)*((moment_cd_relationship!B87-moment_cd_relationship!B88)/(moment_cd_relationship!A87-moment_cd_relationship!A88))+moment_cd_relationship!B87)*'LiFFT_v1.4.0'!$J$5","v":-0.43425000000000064},{"$f":"(('LiFFT_v1.4.0'!$H$8-moment_cd_relationship!A87)*((moment_cd_relationship!B87-moment_cd_relationship!B88)/(moment_cd_relationship!A87-moment_cd_relationship!A88))+moment_cd_relationship!B87)*'LiFFT_v1.4.0'!$J$8","v":{"$error":"#VALUE!"}},{"$f":"(('LiFFT_v1.4.0'!$H$11-moment_cd_relationship!A87)*((moment_cd_relationship!B87-moment_cd_relationship!B88)/(moment_cd_relationship!A87-moment_cd_relationship!A88))+moment_cd_relationship!B87)*'LiFFT_v1.4.0'!$J$11","v":{"$error":"#VALUE!"}},{"$f":"(('LiFFT_v1.4.0'!$H$14-moment_cd_relationship!A87)*((moment_cd_relationship!B87-moment_cd_relationship!B88)/(moment_cd_relationship!A87-moment_cd_relationship!A88))+moment_cd_relationship!B87)*'LiFFT_v1.4.0'!$J$14","v":{"$error":"#VALUE!"}},{"$f":"(('LiFFT_v1.4.0'!$H$17-moment_cd_relationship!A87)*((moment_cd_relationship!B87-moment_cd_relationship!B88)/(moment_cd_relationship!A87-moment_cd_relationship!A88))+moment_cd_relationship!B87)*'LiFFT_v1.4.0'!$J$17","v":{"$error":"#VALUE!"}},{"$f":"(('LiFFT_v1.4.0'!$H$20-moment_cd_relationship!A87)*((moment_cd_relationship!B87-moment_cd_relationship!B88)/(moment_cd_relationship!A87-moment_cd_relationship!A88))+moment_cd_relationship!B87)*'LiFFT_v1.4.0'!$J$20","v":{"$error":"#VALUE!"}},{"$f":"(('LiFFT_v1.4.0'!$H$23-moment_cd_relationship!A87)*((moment_cd_relationship!B87-moment_cd_relationship!B88)/(moment_cd_relationship!A87-moment_cd_relationship!A88))+moment_cd_relationship!B87)*'LiFFT_v1.4.0'!$J$23","v":{"$error":"#VALUE!"}},{"$f":"(('LiFFT_v1.4.0'!$H$26-moment_cd_relationship!A87)*((moment_cd_relationship!B87-moment_cd_relationship!B88)/(moment_cd_relationship!A87-moment_cd_relationship!A88))+moment_cd_relationship!B87)*'LiFFT_v1.4.0'!$J$26","v":{"$error":"#VALUE!"}},{"$f":"(('LiFFT_v1.4.0'!$H$29-moment_cd_relationship!A87)*((moment_cd_relationship!B87-moment_cd_relationship!B88)/(moment_cd_relationship!A87-moment_cd_relationship!A88))+moment_cd_relationship!B87)*'LiFFT_v1.4.0'!$J$29","v":{"$error":"#VALUE!"}},{"$f":"(('LiFFT_v1.4.0'!$H$32-moment_cd_relationship!A87)*((moment_cd_relationship!B87-moment_cd_relationship!B88)/(moment_cd_relationship!A87-moment_cd_relationship!A88))+moment_cd_relationship!B87)*'LiFFT_v1.4.0'!$J$32","v":{"$error":"#VALUE!"}}]
[86,1.227E-4,{"$f":"(('LiFFT_v1.4.0'!$H$5-moment_cd_relationship!A88)*((moment_cd_relationship!B88-moment_cd_relationship!B89)/(moment_cd_relationship!A88-moment_cd_relationship!A89))+moment_cd_relationship!B88)*'LiFFT_v1.4.0'!$J$5","v":-0.47625000000000017},{"$f":"(('LiFFT_v1.4.0'!$H$8-moment_cd_relationship!A88)*((moment_cd_relationship!B88-moment_cd_relationship!B89)/(moment_cd_relationship!A88-moment_cd_relationship!A89))+moment_cd_relationship!B88)*'LiFFT_v1.4.0'!$J$8","v":{"$error":"#VALUE!"}},{"$f":"(('LiFFT_v1.4.0'!$H$11-moment_cd_relationship!A88)*((moment_cd_relationship!B88-moment_cd_relationship!B89)/(moment_cd_relationship!A88-moment_cd_relationship!A89))+moment_cd_relationship!B88)*'LiFFT_v1.4.0'!$J$11","v":{"$error":"#VALUE!"}},{"$f":"(('LiFFT_v1.4.0'!$H$14-moment_cd_relationship!A88)*((moment_cd_relationship!B88-moment_cd_relationship!B89)/(moment_cd_relationship!A88-moment_cd_relationship!A89))+moment_cd_relationship!B88)*'LiFFT_v1.4.0'!$J$14","v":{"$error":"#VALUE!"}},{"$f":"(('LiFFT_v1.4.0'!$H$17-moment_cd_relationship!A88)*((moment_cd_relationship!B88-moment_cd_relationship!B89)/(moment_cd_relationship!A88-moment_cd_relationship!A89))+moment_cd_relationship!B88)*'LiFFT_v1.4.0'!$J$17","v":{"$error":"#VALUE!"}},{"$f":"(('LiFFT_v1.4.0'!$H$20-moment_cd_relationship!A88)*((moment_cd_relationship!B88-moment_cd_relationship!B89)/(moment_cd_relationship!A88-moment_cd_relationship!A89))+moment_cd_relationship!B88)*'LiFFT_v1.4.0'!$J$20","v":{"$error":"#VALUE!"}},{"$f":"(('LiFFT_v1.4.0'!$H$23-moment_cd_relationship!A88)*((moment_cd_relationship!B88-moment_cd_relationship!B89)/(moment_cd_relationship!A88-moment_cd_relationship!A89))+moment_cd_relationship!B88)*'LiFFT_v1.4.0'!$J$23","v":{"$error":"#VALUE!"}},{"$f":"(('LiFFT_v1.4.0'!$H$26-moment_cd_relationship!A88)*((moment_cd_relationship!B88-moment_cd_relationship!B89)/(moment_cd_relationship!A88-moment_cd_relationship!A89))+moment_cd_relationship!B88)*'LiFFT_v1.4.0'!$J$26","v":{"$error":"#VALUE!"}},{"$f":"(('LiFFT_v1.4.0'!$H$29-moment_cd_relationship!A88)*((moment_cd_relationship!B88-moment_cd_relationship!B89)/(moment_cd_relationship!A88-moment_cd_relationship!A89))+moment_cd_relationship!B88)*'LiFFT_v1.4.0'!$J$29","v":{"$error":"#VALUE!"}},{"$f":"(('LiFFT_v1.4.0'!$H$32-moment_cd_relationship!A88)*((moment_cd_relationship!B88-moment_cd_relationship!B89)/(moment_cd_relationship!A88-moment_cd_relationship!A89))+moment_cd_relationship!B88)*'LiFFT_v1.4.0'!$J$32","v":{"$error":"#VALUE!"}}]
[87,1.2909999999999999E-4,{"$f":"(('LiFFT_v1.4.0'!$H$5-moment_cd_relationship!A89)*((moment_cd_relationship!B89-moment_cd_relationship!B90)/(moment_cd_relationship!A89-moment_cd_relationship!A90))+moment_cd_relationship!B89)*'LiFFT_v1.4.0'!$J$5","v":-0.49754999999999927},{"$f":"(('LiFFT_v1.4.0'!$H$8-moment_cd_relationship!A89)*((moment_cd_relationship!B89-moment_cd_relationship!B90)/(moment_cd_relationship!A89-moment_cd_relationship!A90))+moment_cd_relationship!B89)*'LiFFT_v1.4.0'!$J$8","v":{"$error":"#VALUE!"}},{"$f":"(('LiFFT_v1.4.0'!$H$11-moment_cd_relationship!A89)*((moment_cd_relationship!B89-moment_cd_relationship!B90)/(moment_cd_relationship!A89-moment_cd_relationship!A90))+moment_cd_relationship!B89)*'LiFFT_v1.4.0'!$J$11","v":{"$error":"#VALUE!"}},{"$f":"(('LiFFT_v1.4.0'!$H$14-moment_cd_relationship!A89)*((moment_cd_relationship!B89-moment_cd_relationship!B90)/(moment_cd_relationship!A89-moment_cd_relationship!A90))+moment_cd_relationship!B89)*'LiFFT_v1.4.0'!$J$14","v":{"$error":"#VALUE!"}},{"$f":"(('LiFFT_v1.4.0'!$H$17-moment_cd_relationship!A89)*((moment_cd_relationship!B89-moment_cd_relationship!B90)/(moment_cd_relationship!A89-moment_cd_relationship!A90))+moment_cd_relationship!B89)*'LiFFT_v1.4.0'!$J$17","v":{"$error":"#VALUE!"}},{"$f":"(('LiFFT_v1.4.0'!$H$20-moment_cd_relationship!A89)*((moment_cd_relationship!B89-moment_cd_relationship!B90)/(moment_cd_relationship!A89-moment_cd_relationship!A90))+moment_cd_relationship!B89)*'LiFFT_v1.4.0'!$J$20","v":{"$error":"#VALUE!"}},{"$f":"(('LiFFT_v1.4.0'!$H$23-moment_cd_relationship!A89)*((moment_cd_relationship!B89-moment_cd_relationship!B90)/(moment_cd_relationship!A89-moment_cd_relationship!A90))+moment_cd_relationship!B89)*'LiFFT_v1.4.0'!$J$23","v":{"$error":"#VALUE!"}},{"$f":"(('LiFFT_v1.4.0'!$H$26-moment_cd_relationship!A89)*((moment_cd_relationship!B89-moment_cd_relationship!B90)/(moment_cd_relationship!A89-moment_cd_relationship!A90))+moment_cd_relationship!B89)*'LiFFT_v1.4.0'!$J$26","v":{"$error":"#VALUE!"}},{"$f":"(('LiFFT_v1.4.0'!$H$29-moment_cd_relationship!A89)*((moment_cd_relationship!B89-moment_cd_relationship!B90)/(moment_cd_relationship!A89-moment_cd_relationship!A90))+moment_cd_relationship!B89)*'LiFFT_v1.4.0'!$J$29","v":{"$error":"#VALUE!"}},{"$f":"(('LiFFT_v1.4.0'!$H$32-moment_cd_relationship!A89)*((moment_cd_relationship!B89-moment_cd_relationship!B90)/(moment_cd_relationship!A89-moment_cd_relationship!A90))+moment_cd_relationship!B89)*'LiFFT_v1.4.0'!$J$32","v":{"$error":"#VALUE!"}}]
[88,1.359E-4,{"$f":"(('LiFFT_v1.4.0'!$H$5-moment_cd_relationship!A90)*((moment_cd_relationship!B90-moment_cd_relationship!B91)/(moment_cd_relationship!A90-moment_cd_relationship!A91))+moment_cd_relationship!B90)*'LiFFT_v1.4.0'!$J$5","v":-0.54075000000000029},{"$f":"(('LiFFT_v1.4.0'!$H$8-moment_cd_relationship!A90)*((moment_cd_relationship!B90-moment_cd_relationship!B91)/(moment_cd_relationship!A90-moment_cd_relationship!A91))+moment_cd_relationship!B90)*'LiFFT_v1.4.0'!$J$8","v":{"$error":"#VALUE!"}},{"$f":"(('LiFFT_v1.4.0'!$H$11-moment_cd_relationship!A90)*((moment_cd_relationship!B90-moment_cd_relationship!B91)/(moment_cd_relationship!A90-moment_cd_relationship!A91))+moment_cd_relationship!B90)*'LiFFT_v1.4.0'!$J$11","v":{"$error":"#VALUE!"}},{"$f":"(('LiFFT_v1.4.0'!$H$14-moment_cd_relationship!A90)*((moment_cd_relationship!B90-moment_cd_relationship!B91)/(moment_cd_relationship!A90-moment_cd_relationship!A91))+moment_cd_relationship!B90)*'LiFFT_v1.4.0'!$J$14","v":{"$error":"#VALUE!"}},{"$f":"(('LiFFT_v1.4.0'!$H$17-moment_cd_relationship!A90)*((moment_cd_relationship!B90-moment_cd_relationship!B91)/(moment_cd_relationship!A90-moment_cd_relationship!A91))+moment_cd_relationship!B90)*'LiFFT_v1.4.0'!$J$17","v":{"$error":"#VALUE!"}},{"$f":"(('LiFFT_v1.4.0'!$H$20-moment_cd_relationship!A90)*((moment_cd_relationship!B90-moment_cd_relationship!B91)/(moment_cd_relationship!A90-moment_cd_relationship!A91))+moment_cd_relationship!B90)*'LiFFT_v1.4.0'!$J$20","v":{"$error":"#VALUE!"}},{"$f":"(('LiFFT_v1.4.0'!$H$23-moment_cd_relationship!A90)*((moment_cd_relationship!B90-moment_cd_relationship!B91)/(moment_cd_relationship!A90-moment_cd_relationship!A91))+moment_cd_relationship!B90)*'LiFFT_v1.4.0'!$J$23","v":{"$error":"#VALUE!"}},{"$f":"(('LiFFT_v1.4.0'!$H$26-moment_cd_relationship!A90)*((moment_cd_relationship!B90-moment_cd_relationship!B91)/(moment_cd_relationship!A90-moment_cd_relationship!A91))+moment_cd_relationship!B90)*'LiFFT_v1.4.0'!$J$26","v":{"$error":"#VALUE!"}},{"$f":"(('LiFFT_v1.4.0'!$H$29-moment_cd_relationship!A90)*((moment_cd_relationship!B90-moment_cd_relationship!B91)/(moment_cd_relationship!A90-moment_cd_relationship!A91))+moment_cd_relationship!B90)*'LiFFT_v1.4.0'!$J$29","v":{"$error":"#VALUE!"}},{"$f":"(('LiFFT_v1.4.0'!$H$32-moment_cd_relationship!A90)*((moment_cd_relationship!B90-moment_cd_relationship!B91)/(moment_cd_relationship!A90-moment_cd_relationship!A91))+moment_cd_relationship!B90)*'LiFFT_v1.4.0'!$J$32","v":{"$error":"#VALUE!"}}]
[89,1.4300000000000001E-4,{"$f":"(('LiFFT_v1.4.0'!$H$5-moment_cd_relationship!A91)*((moment_cd_relationship!B91-moment_cd_relationship!B92)/(moment_cd_relationship!A91-moment_cd_relationship!A92))+moment_cd_relationship!B91)*'LiFFT_v1.4.0'!$J$5","v":-0.57360000000000111},{"$f":"(('LiFFT_v1.4.0'!$H$8-moment_cd_relationship!A91)*((moment_cd_relationship!B91-moment_cd_relationship!B92)/(moment_cd_relationship!A91-moment_cd_relationship!A92))+moment_cd_relationship!B91)*'LiFFT_v1.4.0'!$J$8","v":{"$error":"#VALUE!"}},{"$f":"(('LiFFT_v1.4.0'!$H$11-moment_cd_relationship!A91)*((moment_cd_relationship!B91-moment_cd_relationship!B92)/(moment_cd_relationship!A91-moment_cd_relationship!A92))+moment_cd_relationship!B91)*'LiFFT_v1.4.0'!$J$11","v":{"$error":"#VALUE!"}},{"$f":"(('LiFFT_v1.4.0'!$H$14-moment_cd_relationship!A91)*((moment_cd_relationship!B91-moment_cd_relationship!B92)/(moment_cd_relationship!A91-moment_cd_relationship!A92))+moment_cd_relationship!B91)*'LiFFT_v1.4.0'!$J$14","v":{"$error":"#VALUE!"}},{"$f":"(('LiFFT_v1.4.0'!$H$17-moment_cd_relationship!A91)*((moment_cd_relationship!B91-moment_cd_relationship!B92)/(moment_cd_relationship!A91-moment_cd_relationship!A92))+moment_cd_relationship!B91)*'LiFFT_v1.4.0'!$J$17","v":{"$error":"#VALUE!"}},{"$f":"(('LiFFT_v1.4.0'!$H$20-moment_cd_relationship!A91)*((moment_cd_relationship!B91-moment_cd_relationship!B92)/(moment_cd_relationship!A91-moment_cd_relationship!A92))+moment_cd_relationship!B91)*'LiFFT_v1.4.0'!$J$20","v":{"$error":"#VALUE!"}},{"$f":"(('LiFFT_v1.4.0'!$H$23-moment_cd_relationship!A91)*((moment_cd_relationship!B91-moment_cd_relationship!B92)/(moment_cd_relationship!A91-moment_cd_relationship!A92))+moment_cd_relationship!B91)*'LiFFT_v1.4.0'!$J$23","v":{"$error":"#VALUE!"}},{"$f":"(('LiFFT_v1.4.0'!$H$26-moment_cd_relationship!A91)*((moment_cd_relationship!B91-moment_cd_relationship!B92)/(moment_cd_relationship!A91-moment_cd_relationship!A92))+moment_cd_relationship!B91)*'LiFFT_v1.4.0'!$J$26","v":{"$error":"#VALUE!"}},{"$f":"(('LiFFT_v1.4.0'!$H$29-moment_cd_relationship!A91)*((moment_cd_relationship!B91-moment_cd_relationship!B92)/(moment_cd_relationship!A91-moment_cd_relationship!A92))+moment_cd_relationship!B91)*'LiFFT_v1.4.0'!$J$29","v":{"$error":"#VALUE!"}},{"$f":"(('LiFFT_v1.4.0'!$H$32-moment_cd_relationship!A91)*((moment_cd_relationship!B91-moment_cd_relationship!B92)/(moment_cd_relationship!A91-moment_cd_relationship!A92))+moment_cd_relationship!B91)*'LiFFT_v1.4.0'!$J$32","v":{"$error":"#VALUE!"}}]
[90,1.505E-4,{"$f":"(('LiFFT_v1.4.0'!$H$5-moment_cd_relationship!A92)*((moment_cd_relationship!B92-moment_cd_relationship!B93)/(moment_cd_relationship!A92-moment_cd_relationship!A93))+moment_cd_relationship!B92)*'LiFFT_v1.4.0'!$J$5","v":-0.61799999999999922},{"$f":"(('LiFFT_v1.4.0'!$H$8-moment_cd_relationship!A92)*((moment_cd_relationship!B92-moment_cd_relationship!B93)/(moment_cd_relationship!A92-moment_cd_relationship!A93))+moment_cd_relationship!B92)*'LiFFT_v1.4.0'!$J$8","v":{"$error":"#VALUE!"}},{"$f":"(('LiFFT_v1.4.0'!$H$11-moment_cd_relationship!A92)*((moment_cd_relationship!B92-moment_cd_relationship!B93)/(moment_cd_relationship!A92-moment_cd_relationship!A93))+moment_cd_relationship!B92)*'LiFFT_v1.4.0'!$J$11","v":{"$error":"#VALUE!"}},{"$f":"(('LiFFT_v1.4.0'!$H$14-moment_cd_relationship!A92)*((moment_cd_relationship!B92-moment_cd_relationship!B93)/(moment_cd_relationship!A92-moment_cd_relationship!A93))+moment_cd_relationship!B92)*'LiFFT_v1.4.0'!$J$14","v":{"$error":"#VALUE!"}},{"$f":"(('LiFFT_v1.4.0'!$H$17-moment_cd_relationship!A92)*((moment_cd_relationship!B92-moment_cd_relationship!B93)/(moment_cd_relationship!A92-moment_cd_relationship!A93))+moment_cd_relationship!B92)*'LiFFT_v1.4.0'!$J$17","v":{"$error":"#VALUE!"}},{"$f":"(('LiFFT_v1.4.0'!$H$20-moment_cd_relationship!A92)*((moment_cd_relationship!B92-moment_cd_relationship!B93)/(moment_cd_relationship!A92-moment_cd_relationship!A93))+moment_cd_relationship!B92)*'LiFFT_v1.4.0'!$J$20","v":{"$error":"#VALUE!"}},{"$f":"(('LiFFT_v1.4.0'!$H$23-moment_cd_relationship!A92)*((moment_cd_relationship!B92-moment_cd_relationship!B93)/(moment_cd_relationship!A92-moment_cd_relationship!A93))+moment_cd_relationship!B92)*'LiFFT_v1.4.0'!$J$23","v":{"$error":"#VALUE!"}},{"$f":"(('LiFFT_v1.4.0'!$H$26-moment_cd_relationship!A92)*((moment_cd_relationship!B92-moment_cd_relationship!B93)/(moment_cd_relationship!A92-moment_cd_relationship!A93))+moment_cd_relationship!B92)*'LiFFT_v1.4.0'!$J$26","v":{"$error":"#VALUE!"}},{"$f":"(('LiFFT_v1.4.0'!$H$29-moment_cd_relationship!A92)*((moment_cd_relationship!B92-moment_cd_relationship!B93)/(moment_cd_relationship!A92-moment_cd_relationship!A93))+moment_cd_relationship!B92)*'LiFFT_v1.4.0'!$J$29","v":{"$error":"#VALUE!"}},{"$f":"(('LiFFT_v1.4.0'!$H$32-moment_cd_relationship!A92)*((moment_cd_relationship!B92-moment_cd_relationship!B93)/(moment_cd_relationship!A92-moment_cd_relationship!A93))+moment_cd_relationship!B92)*'LiFFT_v1.4.0'!$J$32","v":{"$error":"#VALUE!"}}]
[91,1.584E-4,{"$f":"(('LiFFT_v1.4.0'!$H$5-moment_cd_relationship!A93)*((moment_cd_relationship!B93-moment_cd_relationship!B94)/(moment_cd_relationship!A93-moment_cd_relationship!A94))+moment_cd_relationship!B93)*'LiFFT_v1.4.0'!$J$5","v":-0.66300000000000014},{"$f":"(('LiFFT_v1.4.0'!$H$8-moment_cd_relationship!A93)*((moment_cd_relationship!B93-moment_cd_relationship!B94)/(moment_cd_relationship!A93-moment_cd_relationship!A94))+moment_cd_relationship!B93)*'LiFFT_v1.4.0'!$J$8","v":{"$error":"#VALUE!"}},{"$f":"(('LiFFT_v1.4.0'!$H$11-moment_cd_relationship!A93)*((moment_cd_relationship!B93-moment_cd_relationship!B94)/(moment_cd_relationship!A93-moment_cd_relationship!A94))+moment_cd_relationship!B93)*'LiFFT_v1.4.0'!$J$11","v":{"$error":"#VALUE!"}},{"$f":"(('LiFFT_v1.4.0'!$H$14-moment_cd_relationship!A93)*((moment_cd_relationship!B93-moment_cd_relationship!B94)/(moment_cd_relationship!A93-moment_cd_relationship!A94))+moment_cd_relationship!B93)*'LiFFT_v1.4.0'!$J$14","v":{"$error":"#VALUE!"}},{"$f":"(('LiFFT_v1.4.0'!$H$17-moment_cd_relationship!A93)*((moment_cd_relationship!B93-moment_cd_relationship!B94)/(moment_cd_relationship!A93-moment_cd_relationship!A94))+moment_cd_relationship!B93)*'LiFFT_v1.4.0'!$J$17","v":{"$error":"#VALUE!"}},{"$f":"(('LiFFT_v1.4.0'!$H$20-moment_cd_relationship!A93)*((moment_cd_relationship!B93-moment_cd_relationship!B94)/(moment_cd_relationship!A93-moment_cd_relationship!A94))+moment_cd_relationship!B93)*'LiFFT_v1.4.0'!$J$20","v":{"$error":"#VALUE!"}},{"$f":"(('LiFFT_v1.4.0'!$H$23-moment_cd_relationship!A93)*((moment_cd_relationship!B93-moment_cd_relationship!B94)/(moment_cd_relationship!A93-moment_cd_relationship!A94))+moment_cd_relationship!B93)*'LiFFT_v1.4.0'!$J$23","v":{"$error":"#VALUE!"}},{"$f":"(('LiFFT_v1.4.0'!$H$26-moment_cd_relationship!A93)*((moment_cd_relationship!B93-moment_cd_relationship!B94)/(moment_cd_relationship!A93-moment_cd_relationship!A94))+moment_cd_relationship!B93)*'LiFFT_v1.4.0'!$J$26","v":{"$error":"#VALUE!"}},{"$f":"(('LiFFT_v1.4.0'!$H$29-moment_cd_relationship!A93)*((moment_cd_relationship!B93-moment_cd_relationship!B94)/(moment_cd_relationship!A93-moment_cd_relationship!A94))+moment_cd_relationship!B93)*'LiFFT_v1.4.0'!$J$29","v":{"$error":"#VALUE!"}},{"$f":"(('LiFFT_v1.4.0'!$H$32-moment_cd_relationship!A93)*((moment_cd_relationship!B93-moment_cd_relationship!B94)/(moment_cd_relationship!A93-moment_cd_relationship!A94))+moment_cd_relationship!B93)*'LiFFT_v1.4.0'!$J$32","v":{"$error":"#VALUE!"}}]
[92,1.6679999999999999E-4,{"$f":"(('LiFFT_v1.4.0'!$H$5-moment_cd_relationship!A94)*((moment_cd_relationship!B94-moment_cd_relationship!B95)/(moment_cd_relationship!A94-moment_cd_relationship!A95))+moment_cd_relationship!B94)*'LiFFT_v1.4.0'!$J$5","v":-0.71999999999999853},{"$f":"(('LiFFT_v1.4.0'!$H$8-moment_cd_relationship!A94)*((moment_cd_relationship!B94-moment_cd_relationship!B95)/(moment_cd_relationship!A94-moment_cd_relationship!A95))+moment_cd_relationship!B94)*'LiFFT_v1.4.0'!$J$8","v":{"$error":"#VALUE!"}},{"$f":"(('LiFFT_v1.4.0'!$H$11-moment_cd_relationship!A94)*((moment_cd_relationship!B94-moment_cd_relationship!B95)/(moment_cd_relationship!A94-moment_cd_relationship!A95))+moment_cd_relationship!B94)*'LiFFT_v1.4.0'!$J$11","v":{"$error":"#VALUE!"}},{"$f":"(('LiFFT_v1.4.0'!$H$14-moment_cd_relationship!A94)*((moment_cd_relationship!B94-moment_cd_relationship!B95)/(moment_cd_relationship!A94-moment_cd_relationship!A95))+moment_cd_relationship!B94)*'LiFFT_v1.4.0'!$J$14","v":{"$error":"#VALUE!"}},{"$f":"(('LiFFT_v1.4.0'!$H$17-moment_cd_relationship!A94)*((moment_cd_relationship!B94-moment_cd_relationship!B95)/(moment_cd_relationship!A94-moment_cd_relationship!A95))+moment_cd_relationship!B94)*'LiFFT_v1.4.0'!$J$17","v":{"$error":"#VALUE!"}},{"$f":"(('LiFFT_v1.4.0'!$H$20-moment_cd_relationship!A94)*((moment_cd_relationship!B94-moment_cd_relationship!B95)/(moment_cd_relationship!A94-moment_cd_relationship!A95))+moment_cd_relationship!B94)*'LiFFT_v1.4.0'!$J$20","v":{"$error":"#VALUE!"}},{"$f":"(('LiFFT_v1.4.0'!$H$23-moment_cd_relationship!A94)*((moment_cd_relationship!B94-moment_cd_relationship!B95)/(moment_cd_relationship!A94-moment_cd_relationship!A95))+moment_cd_relationship!B94)*'LiFFT_v1.4.0'!$J$23","v":{"$error":"#VALUE!"}},{"$f":"(('LiFFT_v1.4.0'!$H$26-moment_cd_relationship!A94)*((moment_cd_relationship!B94-moment_cd_relationship!B95)/(moment_cd_relationship!A94-moment_cd_relationship!A95))+moment_cd_relationship!B94)*'LiFFT_v1.4.0'!$J$26","v":{"$error":"#VALUE!"}},{"$f":"(('LiFFT_v1.4.0'!$H$29-moment_cd_relationship!A94)*((moment_cd_relationship!B94-moment_cd_relationship!B95)/(moment_cd_relationship!A94-moment_cd_relationship!A95))+moment_cd_relationship!B94)*'LiFFT_v1.4.0'!$J$29","v":{"$error":"#VALUE!"}},{"$f":"(('LiFFT_v1.4.0'!$H$32-moment_cd_relationship!A94)*((moment_cd_relationship!B94-moment_cd_relationship!B95)/(moment_cd_relationship!A94-moment_cd_relationship!A95))+moment_cd_relationship!B94)*'LiFFT_v1.4.0'!$J$32","v":{"$error":"#VALUE!"}}]
[93,1.7550000000000001E-4,{"$f":"(('LiFFT_v1.4.0'!$H$5-moment_cd_relationship!A95)*((moment_cd_relationship!B95-moment_cd_relationship!B96)/(moment_cd_relationship!A95-moment_cd_relationship!A96))+moment_cd_relationship!B95)*'LiFFT_v1.4.0'!$J$5","v":-0.7546500000000026},{"$f":"(('LiFFT_v1.4.0'!$H$8-moment_cd_relationship!A95)*((moment_cd_relationship!B95-moment_cd_relationship!B96)/(moment_cd_relationship!A95-moment_cd_relationship!A96))+moment_cd_relationship!B95)*'LiFFT_v1.4.0'!$J$8","v":{"$error":"#VALUE!"}},{"$f":"(('LiFFT_v1.4.0'!$H$11-moment_cd_relationship!A95)*((moment_cd_relationship!B95-moment_cd_relationship!B96)/(moment_cd_relationship!A95-moment_cd_relationship!A96))+moment_cd_relationship!B95)*'LiFFT_v1.4.0'!$J$11","v":{"$error":"#VALUE!"}},{"$f":"(('LiFFT_v1.4.0'!$H$14-moment_cd_relationship!A95)*((moment_cd_relationship!B95-moment_cd_relationship!B96)/(moment_cd_relationship!A95-moment_cd_relationship!A96))+moment_cd_relationship!B95)*'LiFFT_v1.4.0'!$J$14","v":{"$error":"#VALUE!"}},{"$f":"(('LiFFT_v1.4.0'!$H$17-moment_cd_relationship!A95)*((moment_cd_relationship!B95-moment_cd_relationship!B96)/(moment_cd_relationship!A95-moment_cd_relationship!A96))+moment_cd_relationship!B95)*'LiFFT_v1.4.0'!$J$17","v":{"$error":"#VALUE!"}},{"$f":"(('LiFFT_v1.4.0'!$H$20-moment_cd_relationship!A95)*((moment_cd_relationship!B95-moment_cd_relationship!B96)/(moment_cd_relationship!A95-moment_cd_relationship!A96))+moment_cd_relationship!B95)*'LiFFT_v1.4.0'!$J$20","v":{"$error":"#VALUE!"}},{"$f":"(('LiFFT_v1.4.0'!$H$23-moment_cd_relationship!A95)*((moment_cd_relationship!B95-moment_cd_relationship!B96)/(moment_cd_relationship!A95-moment_cd_relationship!A96))+moment_cd_relationship!B95)*'LiFFT_v1.4.0'!$J$23","v":{"$error":"#VALUE!"}},{"$f":"(('LiFFT_v1.4.0'!$H$26-moment_cd_relationship!A95)*((moment_cd_relationship!B95-moment_cd_relationship!B96)/(moment_cd_relationship!A95-moment_cd_relationship!A96))+moment_cd_relationship!B95)*'LiFFT_v1.4.0'!$J$26","v":{"$error":"#VALUE!"}},{"$f":"(('LiFFT_v1.4.0'!$H$29-moment_cd_relationship!A95)*((moment_cd_relationship!B95-moment_cd_relationship!B96)/(moment_cd_relationship!A95-moment_cd_relationship!A96))+moment_cd_relationship!B95)*'LiFFT_v1.4.0'!$J$29","v":{"$error":"#VALUE!"}},{"$f":"(('LiFFT_v1.4.0'!$H$32-moment_cd_relationship!A95)*((moment_cd_relationship!B95-moment_cd_relationship!B96)/(moment_cd_relationship!A95-moment_cd_relationship!A96))+moment_cd_relationship!B95)*'LiFFT_v1.4.0'!$J$32","v":{"$error":"#VALUE!"}}]
[94,1.8479999999999999E-4,{"$f":"(('LiFFT_v1.4.0'!$H$5-moment_cd_relationship!A96)*((moment_cd_relationship!B96-moment_cd_relationship!B97)/(moment_cd_relationship!A96-moment_cd_relationship!A97))+moment_cd_relationship!B96)*'LiFFT_v1.4.0'!$J$5","v":-0.82484999999999797},{"$f":"(('LiFFT_v1.4.0'!$H$8-moment_cd_relationship!A96)*((moment_cd_relationship!B96-moment_cd_relationship!B97)/(moment_cd_relationship!A96-moment_cd_relationship!A97))+moment_cd_relationship!B96)*'LiFFT_v1.4.0'!$J$8","v":{"$error":"#VALUE!"}},{"$f":"(('LiFFT_v1.4.0'!$H$11-moment_cd_relationship!A96)*((moment_cd_relationship!B96-moment_cd_relationship!B97)/(moment_cd_relationship!A96-moment_cd_relationship!A97))+moment_cd_relationship!B96)*'LiFFT_v1.4.0'!$J$11","v":{"$error":"#VALUE!"}},{"$f":"(('LiFFT_v1.4.0'!$H$14-moment_cd_relationship!A96)*((moment_cd_relationship!B96-moment_cd_relationship!B97)/(moment_cd_relationship!A96-moment_cd_relationship!A97))+moment_cd_relationship!B96)*'LiFFT_v1.4.0'!$J$14","v":{"$error":"#VALUE!"}},{"$f":"(('LiFFT_v1.4.0'!$H$17-moment_cd_relationship!A96)*((moment_cd_relationship!B96-moment_cd_relationship!B97)/(moment_cd_relationship!A96-moment_cd_relationship!A97))+moment_cd_relationship!B96)*'LiFFT_v1.4.0'!$J$17","v":{"$error":"#VALUE!"}},{"$f":"(('LiFFT_v1.4.0'!$H$20-moment_cd_relationship!A96)*((moment_cd_relationship!B96-moment_cd_relationship!B97)/(moment_cd_relationship!A96-moment_cd_relationship!A97))+moment_cd_relationship!B96)*'LiFFT_v1.4.0'!$J$20","v":{"$error":"#VALUE!"}},{"$f":"(('LiFFT_v1.4.0'!$H$23-moment_cd_relationship!A96)*((moment_cd_relationship!B96-moment_cd_relationship!B97)/(moment_cd_relationship!A96-moment_cd_relationship!A97))+moment_cd_relationship!B96)*'LiFFT_v1.4.0'!$J$23","v":{"$error":"#VALUE!"}},{"$f":"(('LiFFT_v1.4.0'!$H$26-moment_cd_relationship!A96)*((moment_cd_relationship!B96-moment_cd_relationship!B97)/(moment_cd_relationship!A96-moment_cd_relationship!A97))+moment_cd_relationship!B96)*'LiFFT_v1.4.0'!$J$26","v":{"$error":"#VALUE!"}},{"$f":"(('LiFFT_v1.4.0'!$H$29-moment_cd_relationship!A96)*((moment_cd_relationship!B96-moment_cd_relationship!B97)/(moment_cd_relationship!A96-moment_cd_relationship!A97))+moment_cd_relationship!B96)*'LiFFT_v1.4.0'!$J$29","v":{"$error":"#VALUE!"}},{"$f":"(('LiFFT_v1.4.0'!$H$32-moment_cd_relationship!A96)*((moment_cd_relationship!B96-moment_cd_relationship!B97)/(moment_cd_relationship!A96-moment_cd_relationship!A97))+moment_cd_relationship!B96)*'LiFFT_v1.4.0'!$J$32","v":{"$error":"#VALUE!"}}]
[95,1.9450000000000001E-4,{"$f":"(('LiFFT_v1.4.0'!$H$5-moment_cd_relationship!A97)*((moment_cd_relationship!B97-moment_cd_relationship!B98)/(moment_cd_relationship!A97-moment_cd_relationship!A98))+moment_cd_relationship!B97)*'LiFFT_v1.4.0'!$J$5","v":-0.8722500000000023},{"$f":"(('LiFFT_v1.4.0'!$H$8-moment_cd_relationship!A97)*((moment_cd_relationship!B97-moment_cd_relationship!B98)/(moment_cd_relationship!A97-moment_cd_relationship!A98))+moment_cd_relationship!B97)*'LiFFT_v1.4.0'!$J$8","v":{"$error":"#VALUE!"}},{"$f":"(('LiFFT_v1.4.0'!$H$11-moment_cd_relationship!A97)*((moment_cd_relationship!B97-moment_cd_relationship!B98)/(moment_cd_relationship!A97-moment_cd_relationship!A98))+moment_cd_relationship!B97)*'LiFFT_v1.4.0'!$J$11","v":{"$error":"#VALUE!"}},{"$f":"(('LiFFT_v1.4.0'!$H$14-moment_cd_relationship!A97)*((moment_cd_relationship!B97-moment_cd_relationship!B98)/(moment_cd_relationship!A97-moment_cd_relationship!A98))+moment_cd_relationship!B97)*'LiFFT_v1.4.0'!$J$14","v":{"$error":"#VALUE!"}},{"$f":"(('LiFFT_v1.4.0'!$H$17-moment_cd_relationship!A97)*((moment_cd_relationship!B97-moment_cd_relationship!B98)/(moment_cd_relationship!A97-moment_cd_relationship!A98))+moment_cd_relationship!B97)*'LiFFT_v1.4.0'!$J$17","v":{"$error":"#VALUE!"}},{"$f":"(('LiFFT_v1.4.0'!$H$20-moment_cd_relationship!A97)*((moment_cd_relationship!B97-moment_cd_relationship!B98)/(moment_cd_relationship!A97-moment_cd_relationship!A98))+moment_cd_relationship!B97)*'LiFFT_v1.4.0'!$J$20","v":{"$error":"#VALUE!"}},{"$f":"(('LiFFT_v1.4.0'!$H$23-moment_cd_relationship!A97)*((moment_cd_relationship!B97-moment_cd_relationship!B98)/(moment_cd_relationship!A97-moment_cd_relationship!A98))+moment_cd_relationship!B97)*'LiFFT_v1.4.0'!$J$23","v":{"$error":"#VALUE!"}},{"$f":"(('LiFFT_v1.4.0'!$H$26-moment_cd_relationship!A97)*((moment_cd_relationship!B97-moment_cd_relationship!B98)/(moment_cd_relationship!A97-moment_cd_relationship!A98))+moment_cd_relationship!B97)*'LiFFT_v1.4.0'!$J$26","v":{"$error":"#VALUE!"}},{"$f":"(('LiFFT_v1.4.0'!$H$29-moment_cd_relationship!A97)*((moment_cd_relationship!B97-moment_cd_relationship!B98)/(moment_cd_relationship!A97-moment_cd_relationship!A98))+moment_cd_relationship!B97)*'LiFFT_v1.4.0'!$J$29","v":{"$error":"#VALUE!"}},{"$f":"(('LiFFT_v1.4.0'!$H$32-moment_cd_relationship!A97)*((moment_cd_relationship!B97-moment_cd_relationship!B98)/(moment_cd_relationship!A97-moment_cd_relationship!A98))+moment_cd_relationship!B97)*'LiFFT_v1.4.0'!$J$32","v":{"$error":"#VALUE!"}}]
[96,2.0469999999999999E-4,{"$f":"(('LiFFT_v1.4.0'!$H$5-moment_cd_relationship!A98)*((moment_cd_relationship!B98-moment_cd_relationship!B99)/(moment_cd_relationship!A98-moment_cd_relationship!A99))+moment_cd_relationship!B98)*'LiFFT_v1.4.0'!$J$5","v":-0.93224999999999725},{"$f":"(('LiFFT_v1.4.0'!$H$8-moment_cd_relationship!A98)*((moment_cd_relationship!B98-moment_cd_relationship!B99)/(moment_cd_relationship!A98-moment_cd_relationship!A99))+moment_cd_relationship!B98)*'LiFFT_v1.4.0'!$J$8","v":{"$error":"#VALUE!"}},{"$f":"(('LiFFT_v1.4.0'!$H$11-moment_cd_relationship!A98)*((moment_cd_relationship!B98-moment_cd_relationship!B99)/(moment_cd_relationship!A98-moment_cd_relationship!A99))+moment_cd_relationship!B98)*'LiFFT_v1.4.0'!$J$11","v":{"$error":"#VALUE!"}},{"$f":"(('LiFFT_v1.4.0'!$H$14-moment_cd_relationship!A98)*((moment_cd_relationship!B98-moment_cd_relationship!B99)/(moment_cd_relationship!A98-moment_cd_relationship!A99))+moment_cd_relationship!B98)*'LiFFT_v1.4.0'!$J$14","v":{"$error":"#VALUE!"}},{"$f":"(('LiFFT_v1.4.0'!$H$17-moment_cd_relationship!A98)*((moment_cd_relationship!B98-moment_cd_relationship!B99)/(moment_cd_relationship!A98-moment_cd_relationship!A99))+moment_cd_relationship!B98)*'LiFFT_v1.4.0'!$J$17","v":{"$error":"#VALUE!"}},{"$f":"(('LiFFT_v1.4.0'!$H$20-moment_cd_relationship!A98)*((moment_cd_relationship!B98-moment_cd_relationship!B99)/(moment_cd_relationship!A98-moment_cd_relationship!A99))+moment_cd_relationship!B98)*'LiFFT_v1.4.0'!$J$20","v":{"$error":"#VALUE!"}},{"$f":"(('LiFFT_v1.4.0'!$H$23-moment_cd_relationship!A98)*((moment_cd_relationship!B98-moment_cd_relationship!B99)/(moment_cd_relationship!A98-moment_cd_relationship!A99))+moment_cd_relationship!B98)*'LiFFT_v1.4.0'!$J$23","v":{"$error":"#VALUE!"}},{"$f":"(('LiFFT_v1.4.0'!$H$26-moment_cd_relationship!A98)*((moment_cd_relationship!B98-moment_cd_relationship!B99)/(moment_cd_relationship!A98-moment_cd_relationship!A99))+moment_cd_relationship!B98)*'LiFFT_v1.4.0'!$J$26","v":{"$error":"#VALUE!"}},{"$f":"(('LiFFT_v1.4.0'!$H$29-moment_cd_relationship!A98)*((moment_cd_relationship!B98-moment_cd_relationship!B99)/(moment_cd_relationship!A98-moment_cd_relationship!A99))+moment_cd_relationship!B98)*'LiFFT_v1.4.0'!$J$29","v":{"$error":"#VALUE!"}},{"$f":"(('LiFFT_v1.4.0'!$H$32-moment_cd_relationship!A98)*((moment_cd_relationship!B98-moment_cd_relationship!B99)/(moment_cd_relationship!A98-moment_cd_relationship!A99))+moment_cd_relationship!B98)*'LiFFT_v1.4.0'!$J$32","v":{"$error":"#VALUE!"}}]
[97,2.1550000000000001E-4,{"$f":"(('LiFFT_v1.4.0'!$H$5-moment_cd_relationship!A99)*((moment_cd_relationship!B99-moment_cd_relationship!B100)/(moment_cd_relationship!A99-moment_cd_relationship!A100))+moment_cd_relationship!B99)*'LiFFT_v1.4.0'!$J$5","v":-1.0051500000000024},{"$f":"(('LiFFT_v1.4.0'!$H$8-moment_cd_relationship!A99)*((moment_cd_relationship!B99-moment_cd_relationship!B100)/(moment_cd_relationship!A99-moment_cd_relationship!A100))+moment_cd_relationship!B99)*'LiFFT_v1.4.0'!$J$8","v":{"$error":"#VALUE!"}},{"$f":"(('LiFFT_v1.4.0'!$H$11-moment_cd_relationship!A99)*((moment_cd_relationship!B99-moment_cd_relationship!B100)/(moment_cd_relationship!A99-moment_cd_relationship!A100))+moment_cd_relationship!B99)*'LiFFT_v1.4.0'!$J$11","v":{"$error":"#VALUE!"}},{"$f":"(('LiFFT_v1.4.0'!$H$14-moment_cd_relationship!A99)*((moment_cd_relationship!B99-moment_cd_relationship!B100)/(moment_cd_relationship!A99-moment_cd_relationship!A100))+moment_cd_relationship!B99)*'LiFFT_v1.4.0'!$J$14","v":{"$error":"#VALUE!"}},{"$f":"(('LiFFT_v1.4.0'!$H$17-moment_cd_relationship!A99)*((moment_cd_relationship!B99-moment_cd_relationship!B100)/(moment_cd_relationship!A99-moment_cd_relationship!A100))+moment_cd_relationship!B99)*'LiFFT_v1.4.0'!$J$17","v":{"$error":"#VALUE!"}},{"$f":"(('LiFFT_v1.4.0'!$H$20-moment_cd_relationship!A99)*((moment_cd_relationship!B99-moment_cd_relationship!B100)/(moment_cd_relationship!A99-moment_cd_relationship!A100))+moment_cd_relationship!B99)*'LiFFT_v1.4.0'!$J$20","v":{"$error":"#VALUE!"}},{"$f":"(('LiFFT_v1.4.0'!$H$23-moment_cd_relationship!A99)*((moment_cd_relationship!B99-moment_cd_relationship!B100)/(moment_cd_relationship!A99-moment_cd_relationship!A100))+moment_cd_relationship!B99)*'LiFFT_v1.4.0'!$J$23","v":{"$error":"#VALUE!"}},{"$f":"(('LiFFT_v1.4.0'!$H$26-moment_cd_relationship!A99)*((moment_cd_relationship!B99-moment_cd_relationship!B100)/(moment_cd_relationship!A99-moment_cd_relationship!A100))+moment_cd_relationship!B99)*'LiFFT_v1.4.0'!$J$26","v":{"$error":"#VALUE!"}},{"$f":"(('LiFFT_v1.4.0'!$H$29-moment_cd_relationship!A99)*((moment_cd_relationship!B99-moment_cd_relationship!B100)/(moment_cd_relationship!A99-moment_cd_relationship!A100))+moment_cd_relationship!B99)*'LiFFT_v1.4.0'!$J$29","v":{"$error":"#VALUE!"}},{"$f":"(('LiFFT_v1.4.0'!$H$32-moment_cd_relationship!A99)*((moment_cd_relationship!B99-moment_cd_relationship!B100)/(moment_cd_relationship!A99-moment_cd_relationship!A100))+moment_cd_relationship!B99)*'LiFFT_v1.4.0'!$J$32","v":{"$error":"#VALUE!"}}]
[98,2.2690000000000001E-4,{"$f":"(('LiFFT_v1.4.0'!$H$5-moment_cd_relationship!A100)*((moment_cd_relationship!B100-moment_cd_relationship!B101)/(moment_cd_relationship!A100-moment_cd_relationship!A101))+moment_cd_relationship!B100)*'LiFFT_v1.4.0'!$J$5","v":-1.0789500000000007},{"$f":"(('LiFFT_v1.4.0'!$H$8-moment_cd_relationship!A100)*((moment_cd_relationship!B100-moment_cd_relationship!B101)/(moment_cd_relationship!A100-moment_cd_relationship!A101))+moment_cd_relationship!B100)*'LiFFT_v1.4.0'!$J$8","v":{"$error":"#VALUE!"}},{"$f":"(('LiFFT_v1.4.0'!$H$11-moment_cd_relationship!A100)*((moment_cd_relationship!B100-moment_cd_relationship!B101)/(moment_cd_relationship!A100-moment_cd_relationship!A101))+moment_cd_relationship!B100)*'LiFFT_v1.4.0'!$J$11","v":{"$error":"#VALUE!"}},{"$f":"(('LiFFT_v1.4.0'!$H$14-moment_cd_relationship!A100)*((moment_cd_relationship!B100-moment_cd_relationship!B101)/(moment_cd_relationship!A100-moment_cd_relationship!A101))+moment_cd_relationship!B100)*'LiFFT_v1.4.0'!$J$14","v":{"$error":"#VALUE!"}},{"$f":"(('LiFFT_v1.4.0'!$H$17-moment_cd_relationship!A100)*((moment_cd_relationship!B100-moment_cd_relationship!B101)/(moment_cd_relationship!A100-moment_cd_relationship!A101))+moment_cd_relationship!B100)*'LiFFT_v1.4.0'!$J$17","v":{"$error":"#VALUE!"}},{"$f":"(('LiFFT_v1.4.0'!$H$20-moment_cd_relationship!A100)*((moment_cd_relationship!B100-moment_cd_relationship!B101)/(moment_cd_relationship!A100-moment_cd_relationship!A101))+moment_cd_relationship!B100)*'LiFFT_v1.4.0'!$J$20","v":{"$error":"#VALUE!"}},{"$f":"(('LiFFT_v1.4.0'!$H$23-moment_cd_relationship!A100)*((moment_cd_relationship!B100-moment_cd_relationship!B101)/(moment_cd_relationship!A100-moment_cd_relationship!A101))+moment_cd_relationship!B100)*'LiFFT_v1.4.0'!$J$23","v":{"$error":"#VALUE!"}},{"$f":"(('LiFFT_v1.4.0'!$H$26-moment_cd_relationship!A100)*((moment_cd_relationship!B100-moment_cd_relationship!B101)/(moment_cd_relationship!A100-moment_cd_relationship!A101))+moment_cd_relationship!B100)*'LiFFT_v1.4.0'!$J$26","v":{"$error":"#VALUE!"}},{"$f":"(('LiFFT_v1.4.0'!$H$29-moment_cd_relationship!A100)*((moment_cd_relationship!B100-moment_cd_relationship!B101)/(moment_cd_relationship!A100-moment_cd_relationship!A101))+moment_cd_relationship!B100)*'LiFFT_v1.4.0'!$J$29","v":{"$error":"#VALUE!"}},{"$f":"(('LiFFT_v1.4.0'!$H$32-moment_cd_relationship!A100)*((moment_cd_relationship!B100-moment_cd_relationship!B101)/(moment_cd_relationship!A100-moment_cd_relationship!A101))+moment_cd_relationship!B100)*'LiFFT_v1.4.0'!$J$32","v":{"$error":"#VALUE!"}}]
[99,2.388E-4,{"$f":"(('LiFFT_v1.4.0'!$H$5-moment_cd_relationship!A101)*((moment_cd_relationship!B101-moment_cd_relationship!B102)/(moment_cd_relationship!A101-moment_cd_relationship!A102))+moment_cd_relationship!B101)*'LiFFT_v1.4.0'!$J$5","v":-1.1411999999999989},{"$f":"(('LiFFT_v1.4.0'!$H$8-moment_cd_relationship!A101)*((moment_cd_relationship!B101-moment_cd_relationship!B102)/(moment_cd_relationship!A101-moment_cd_relationship!A102))+moment_cd_relationship!B101)*'LiFFT_v1.4.0'!$J$8","v":{"$error":"#VALUE!"}},{"$f":"(('LiFFT_v1.4.0'!$H$11-moment_cd_relationship!A101)*((moment_cd_relationship!B101-moment_cd_relationship!B102)/(moment_cd_relationship!A101-moment_cd_relationship!A102))+moment_cd_relationship!B101)*'LiFFT_v1.4.0'!$J$11","v":{"$error":"#VALUE!"}},{"$f":"(('LiFFT_v1.4.0'!$H$14-moment_cd_relationship!A101)*((moment_cd_relationship!B101-moment_cd_relationship!B102)/(moment_cd_relationship!A101-moment_cd_relationship!A102))+moment_cd_relationship!B101)*'LiFFT_v1.4.0'!$J$14","v":{"$error":"#VALUE!"}},{"$f":"(('LiFFT_v1.4.0'!$H$17-moment_cd_relationship!A101)*((moment_cd_relationship!B101-moment_cd_relationship!B102)/(moment_cd_relationship!A101-moment_cd_relationship!A102))+moment_cd_relationship!B101)*'LiFFT_v1.4.0'!$J$17","v":{"$error":"#VALUE!"}},{"$f":"(('LiFFT_v1.4.0'!$H$20-moment_cd_relationship!A101)*((moment_cd_relationship!B101-moment_cd_relationship!B102)/(moment_cd_relationship!A101-moment_cd_relationship!A102))+moment_cd_relationship!B101)*'LiFFT_v1.4.0'!$J$20","v":{"$error":"#VALUE!"}},{"$f":"(('LiFFT_v1.4.0'!$H$23-moment_cd_relationship!A101)*((moment_cd_relationship!B101-moment_cd_relationship!B102)/(moment_cd_relationship!A101-moment_cd_relationship!A102))+moment_cd_relationship!B101)*'LiFFT_v1.4.0'!$J$23","v":{"$error":"#VALUE!"}},{"$f":"(('LiFFT_v1.4.0'!$H$26-moment_cd_relationship!A101)*((moment_cd_relationship!B101-moment_cd_relationship!B102)/(moment_cd_relationship!A101-moment_cd_relationship!A102))+moment_cd_relationship!B101)*'LiFFT_v1.4.0'!$J$26","v":{"$error":"#VALUE!"}},{"$f":"(('LiFFT_v1.4.0'!$H$29-moment_cd_relationship!A101)*((moment_cd_relationship!B101-moment_cd_relationship!B102)/(moment_cd_relationship!A101-moment_cd_relationship!A102))+moment_cd_relationship!B101)*'LiFFT_v1.4.0'!$J$29","v":{"$error":"#VALUE!"}},{"$f":"(('LiFFT_v1.4.0'!$H$32-moment_cd_relationship!A101)*((moment_cd_relationship!B101-moment_cd_relationship!B102)/(moment_cd_relationship!A101-moment_cd_relationship!A102))+moment_cd_relationship!B101)*'LiFFT_v1.4.0'!$J$32","v":{"$error":"#VALUE!"}}]
[100,2.5139999999999999E-4,{"$f":"(('LiFFT_v1.4.0'!$H$5-moment_cd_relationship!A102)*((moment_cd_relationship!B102-moment_cd_relationship!B103)/(moment_cd_relationship!A102-moment_cd_relationship!A103))+moment_cd_relationship!B102)*'LiFFT_v1.4.0'!$J$5","v":-1.2293999999999976},{"$f":"(('LiFFT_v1.4.0'!$H$8-moment_cd_relationship!A102)*((moment_cd_relationship!B102-moment_cd_relationship!B103)/(moment_cd_relationship!A102-moment_cd_relationship!A103))+moment_cd_relationship!B102)*'LiFFT_v1.4.0'!$J$8","v":{"$error":"#VALUE!"}},{"$f":"(('LiFFT_v1.4.0'!$H$11-moment_cd_relationship!A102)*((moment_cd_relationship!B102-moment_cd_relationship!B103)/(moment_cd_relationship!A102-moment_cd_relationship!A103))+moment_cd_relationship!B102)*'LiFFT_v1.4.0'!$J$11","v":{"$error":"#VALUE!"}},{"$f":"(('LiFFT_v1.4.0'!$H$14-moment_cd_relationship!A102)*((moment_cd_relationship!B102-moment_cd_relationship!B103)/(moment_cd_relationship!A102-moment_cd_relationship!A103))+moment_cd_relationship!B102)*'LiFFT_v1.4.0'!$J$14","v":{"$error":"#VALUE!"}},{"$f":"(('LiFFT_v1.4.0'!$H$17-moment_cd_relationship!A102)*((moment_cd_relationship!B102-moment_cd_relationship!B103)/(moment_cd_relationship!A102-moment_cd_relationship!A103))+moment_cd_relationship!B102)*'LiFFT_v1.4.0'!$J$17","v":{"$error":"#VALUE!"}},{"$f":"(('LiFFT_v1.4.0'!$H$20-moment_cd_relationship!A102)*((moment_cd_relationship!B102-moment_cd_relationship!B103)/(moment_cd_relationship!A102-moment_cd_relationship!A103))+moment_cd_relationship!B102)*'LiFFT_v1.4.0'!$J$20","v":{"$error":"#VALUE!"}},{"$f":"(('LiFFT_v1.4.0'!$H$23-moment_cd_relationship!A102)*((moment_cd_relationship!B102-moment_cd_relationship!B103)/(moment_cd_relationship!A102-moment_cd_relationship!A103))+moment_cd_relationship!B102)*'LiFFT_v1.4.0'!$J$23","v":{"$error":"#VALUE!"}},{"$f":"(('LiFFT_v1.4.0'!$H$26-moment_cd_relationship!A102)*((moment_cd_relationship!B102-moment_cd_relationship!B103)/(moment_cd_relationship!A102-moment_cd_relationship!A103))+moment_cd_relationship!B102)*'LiFFT_v1.4.0'!$J$26","v":{"$error":"#VALUE!"}},{"$f":"(('LiFFT_v1.4.0'!$H$29-moment_cd_relationship!A102)*((moment_cd_relationship!B102-moment_cd_relationship!B103)/(moment_cd_relationship!A102-moment_cd_relationship!A103))+moment_cd_relationship!B102)*'LiFFT_v1.4.0'!$J$29","v":{"$error":"#VALUE!"}},{"$f":"(('LiFFT_v1.4.0'!$H$32-moment_cd_relationship!A102)*((moment_cd_relationship!B102-moment_cd_relationship!B103)/(moment_cd_relationship!A102-moment_cd_relationship!A103))+moment_cd_relationship!B102)*'LiFFT_v1.4.0'!$J$32","v":{"$error":"#VALUE!"}}]
[101,2.6469999999999998E-4,{"$f":"(('LiFFT_v1.4.0'!$H$5-moment_cd_relationship!A103)*((moment_cd_relationship!B103-moment_cd_relationship!B104)/(moment_cd_relationship!A103-moment_cd_relationship!A104))+moment_cd_relationship!B103)*'LiFFT_v1.4.0'!$J$5","v":-1.3186499999999999},{"$f":"(('LiFFT_v1.4.0'!$H$8-moment_cd_relationship!A103)*((moment_cd_relationship!B103-moment_cd_relationship!B104)/(moment_cd_relationship!A103-moment_cd_relationship!A104))+moment_cd_relationship!B103)*'LiFFT_v1.4.0'!$J$8","v":{"$error":"#VALUE!"}},{"$f":"(('LiFFT_v1.4.0'!$H$11-moment_cd_relationship!A103)*((moment_cd_relationship!B103-moment_cd_relationship!B104)/(moment_cd_relationship!A103-moment_cd_relationship!A104))+moment_cd_relationship!B103)*'LiFFT_v1.4.0'!$J$11","v":{"$error":"#VALUE!"}},{"$f":"(('LiFFT_v1.4.0'!$H$14-moment_cd_relationship!A103)*((moment_cd_relationship!B103-moment_cd_relationship!B104)/(moment_cd_relationship!A103-moment_cd_relationship!A104))+moment_cd_relationship!B103)*'LiFFT_v1.4.0'!$J$14","v":{"$error":"#VALUE!"}},{"$f":"(('LiFFT_v1.4.0'!$H$17-moment_cd_relationship!A103)*((moment_cd_relationship!B103-moment_cd_relationship!B104)/(moment_cd_relationship!A103-moment_cd_relationship!A104))+moment_cd_relationship!B103)*'LiFFT_v1.4.0'!$J$17","v":{"$error":"#VALUE!"}},{"$f":"(('LiFFT_v1.4.0'!$H$20-moment_cd_relationship!A103)*((moment_cd_relationship!B103-moment_cd_relationship!B104)/(moment_cd_relationship!A103-moment_cd_relationship!A104))+moment_cd_relationship!B103)*'LiFFT_v1.4.0'!$J$20","v":{"$error":"#VALUE!"}},{"$f":"(('LiFFT_v1.4.0'!$H$23-moment_cd_relationship!A103)*((moment_cd_relationship!B103-moment_cd_relationship!B104)/(moment_cd_relationship!A103-moment_cd_relationship!A104))+moment_cd_relationship!B103)*'LiFFT_v1.4.0'!$J$23","v":{"$error":"#VALUE!"}},{"$f":"(('LiFFT_v1.4.0'!$H$26-moment_cd_relationship!A103)*((moment_cd_relationship!B103-moment_cd_relationship!B104)/(moment_cd_relationship!A103-moment_cd_relationship!A104))+moment_cd_relationship!B103)*'LiFFT_v1.4.0'!$J$26","v":{"$error":"#VALUE!"}},{"$f":"(('LiFFT_v1.4.0'!$H$29-moment_cd_relationship!A103)*((moment_cd_relationship!B103-moment_cd_relationship!B104)/(moment_cd_relationship!A103-moment_cd_relationship!A104))+moment_cd_relationship!B103)*'LiFFT_v1.4.0'!$J$29","v":{"$error":"#VALUE!"}},{"$f":"(('LiFFT_v1.4.0'!$H$32-moment_cd_relationship!A103)*((moment_cd_relationship!B103-moment_cd_relationship!B104)/(moment_cd_relationship!A103-moment_cd_relationship!A104))+moment_cd_relationship!B103)*'LiFFT_v1.4.0'!$J$32","v":{"$error":"#VALUE!"}}]
[102,2.787E-4,{"$f":"(('LiFFT_v1.4.0'!$H$5-moment_cd_relationship!A104)*((moment_cd_relationship!B104-moment_cd_relationship!B105)/(moment_cd_relationship!A104-moment_cd_relationship!A105))+moment_cd_relationship!B104)*'LiFFT_v1.4.0'!$J$5","v":-1.4089500000000019},{"$f":"(('LiFFT_v1.4.0'!$H$8-moment_cd_relationship!A104)*((moment_cd_relationship!B104-moment_cd_relationship!B105)/(moment_cd_relationship!A104-moment_cd_relationship!A105))+moment_cd_relationship!B104)*'LiFFT_v1.4.0'!$J$8","v":{"$error":"#VALUE!"}},{"$f":"(('LiFFT_v1.4.0'!$H$11-moment_cd_relationship!A104)*((moment_cd_relationship!B104-moment_cd_relationship!B105)/(moment_cd_relationship!A104-moment_cd_relationship!A105))+moment_cd_relationship!B104)*'LiFFT_v1.4.0'!$J$11","v":{"$error":"#VALUE!"}},{"$f":"(('LiFFT_v1.4.0'!$H$14-moment_cd_relationship!A104)*((moment_cd_relationship!B104-moment_cd_relationship!B105)/(moment_cd_relationship!A104-moment_cd_relationship!A105))+moment_cd_relationship!B104)*'LiFFT_v1.4.0'!$J$14","v":{"$error":"#VALUE!"}},{"$f":"(('LiFFT_v1.4.0'!$H$17-moment_cd_relationship!A104)*((moment_cd_relationship!B104-moment_cd_relationship!B105)/(moment_cd_relationship!A104-moment_cd_relationship!A105))+moment_cd_relationship!B104)*'LiFFT_v1.4.0'!$J$17","v":{"$error":"#VALUE!"}},{"$f":"(('LiFFT_v1.4.0'!$H$20-moment_cd_relationship!A104)*((moment_cd_relationship!B104-moment_cd_relationship!B105)/(moment_cd_relationship!A104-moment_cd_relationship!A105))+moment_cd_relationship!B104)*'LiFFT_v1.4.0'!$J$20","v":{"$error":"#VALUE!"}},{"$f":"(('LiFFT_v1.4.0'!$H$23-moment_cd_relationship!A104)*((moment_cd_relationship!B104-moment_cd_relationship!B105)/(moment_cd_relationship!A104-moment_cd_relationship!A105))+moment_cd_relationship!B104)*'LiFFT_v1.4.0'!$J$23","v":{"$error":"#VALUE!"}},{"$f":"(('LiFFT_v1.4.0'!$H$26-moment_cd_relationship!A104)*((moment_cd_relationship!B104-moment_cd_relationship!B105)/(moment_cd_relationship!A104-moment_cd_relationship!A105))+moment_cd_relationship!B104)*'LiFFT_v1.4.0'!$J$26","v":{"$error":"#VALUE!"}},{"$f":"(('LiFFT_v1.4.0'!$H$29-moment_cd_relationship!A104)*((moment_cd_relationship!B104-moment_cd_relationship!B105)/(moment_cd_relationship!A104-moment_cd_relationship!A105))+moment_cd_relationship!B104)*'LiFFT_v1.4.0'!$J$29","v":{"$error":"#VALUE!"}},{"$f":"(('LiFFT_v1.4.0'!$H$32-moment_cd_relationship!A104)*((moment_cd_relationship!B104-moment_cd_relationship!B105)/(moment_cd_relationship!A104-moment_cd_relationship!A105))+moment_cd_relationship!B104)*'LiFFT_v1.4.0'!$J$32","v":{"$error":"#VALUE!"}}]
[103,2.9339999999999998E-4,{"$f":"(('LiFFT_v1.4.0'!$H$5-moment_cd_relationship!A105)*((moment_cd_relationship!B105-moment_cd_relationship!B106)/(moment_cd_relationship!A105-moment_cd_relationship!A106))+moment_cd_relationship!B105)*'LiFFT_v1.4.0'!$J$5","v":-1.5002999999999973},{"$f":"(('LiFFT_v1.4.0'!$H$8-moment_cd_relationship!A105)*((moment_cd_relationship!B105-moment_cd_relationship!B106)/(moment_cd_relationship!A105-moment_cd_relationship!A106))+moment_cd_relationship!B105)*'LiFFT_v1.4.0'!$J$8","v":{"$error":"#VALUE!"}},{"$f":"(('LiFFT_v1.4.0'!$H$11-moment_cd_relationship!A105)*((moment_cd_relationship!B105-moment_cd_relationship!B106)/(moment_cd_relationship!A105-moment_cd_relationship!A106))+moment_cd_relationship!B105)*'LiFFT_v1.4.0'!$J$11","v":{"$error":"#VALUE!"}},{"$f":"(('LiFFT_v1.4.0'!$H$14-moment_cd_relationship!A105)*((moment_cd_relationship!B105-moment_cd_relationship!B106)/(moment_cd_relationship!A105-moment_cd_relationship!A106))+moment_cd_relationship!B105)*'LiFFT_v1.4.0'!$J$14","v":{"$error":"#VALUE!"}},{"$f":"(('LiFFT_v1.4.0'!$H$17-moment_cd_relationship!A105)*((moment_cd_relationship!B105-moment_cd_relationship!B106)/(moment_cd_relationship!A105-moment_cd_relationship!A106))+moment_cd_relationship!B105)*'LiFFT_v1.4.0'!$J$17","v":{"$error":"#VALUE!"}},{"$f":"(('LiFFT_v1.4.0'!$H$20-moment_cd_relationship!A105)*((moment_cd_relationship!B105-moment_cd_relationship!B106)/(moment_cd_relationship!A105-moment_cd_relationship!A106))+moment_cd_relationship!B105)*'LiFFT_v1.4.0'!$J$20","v":{"$error":"#VALUE!"}},{"$f":"(('LiFFT_v1.4.0'!$H$23-moment_cd_relationship!A105)*((moment_cd_relationship!B105-moment_cd_relationship!B106)/(moment_cd_relationship!A105-moment_cd_relationship!A106))+moment_cd_relationship!B105)*'LiFFT_v1.4.0'!$J$23","v":{"$error":"#VALUE!"}},{"$f":"(('LiFFT_v1.4.0'!$H$26-moment_cd_relationship!A105)*((moment_cd_relationship!B105-moment_cd_relationship!B106)/(moment_cd_relationship!A105-moment_cd_relationship!A106))+moment_cd_relationship!B105)*'LiFFT_v1.4.0'!$J$26","v":{"$error":"#VALUE!"}},{"$f":"(('LiFFT_v1.4.0'!$H$29-moment_cd_relationship!A105)*((moment_cd_relationship!B105-moment_cd_relationship!B106)/(moment_cd_relationship!A105-moment_cd_relationship!A106))+moment_cd_relationship!B105)*'LiFFT_v1.4.0'!$J$29","v":{"$error":"#VALUE!"}},{"$f":"(('LiFFT_v1.4.0'!$H$32-moment_cd_relationship!A105)*((moment_cd_relationship!B105-moment_cd_relationship!B106)/(moment_cd_relationship!A105-moment_cd_relationship!A106))+moment_cd_relationship!B105)*'LiFFT_v1.4.0'!$J$32","v":{"$error":"#VALUE!"}}]
[104,3.0889999999999997E-4,{"$f":"(('LiFFT_v1.4.0'!$H$5-moment_cd_relationship!A106)*((moment_cd_relationship!B106-moment_cd_relationship!B107)/(moment_cd_relationship!A106-moment_cd_relationship!A107))+moment_cd_relationship!B106)*'LiFFT_v1.4.0'!$J$5","v":-1.6058999999999994},{"$f":"(('LiFFT_v1.4.0'!$H$8-moment_cd_relationship!A106)*((moment_cd_relationship!B106-moment_cd_relationship!B107)/(moment_cd_relationship!A106-moment_cd_relationship!A107))+moment_cd_relationship!B106)*'LiFFT_v1.4.0'!$J$8","v":{"$error":"#VALUE!"}},{"$f":"(('LiFFT_v1.4.0'!$H$11-moment_cd_relationship!A106)*((moment_cd_relationship!B106-moment_cd_relationship!B107)/(moment_cd_relationship!A106-moment_cd_relationship!A107))+moment_cd_relationship!B106)*'LiFFT_v1.4.0'!$J$11","v":{"$error":"#VALUE!"}},{"$f":"(('LiFFT_v1.4.0'!$H$14-moment_cd_relationship!A106)*((moment_cd_relationship!B106-moment_cd_relationship!B107)/(moment_cd_relationship!A106-moment_cd_relationship!A107))+moment_cd_relationship!B106)*'LiFFT_v1.4.0'!$J$14","v":{"$error":"#VALUE!"}},{"$f":"(('LiFFT_v1.4.0'!$H$17-moment_cd_relationship!A106)*((moment_cd_relationship!B106-moment_cd_relationship!B107)/(moment_cd_relationship!A106-moment_cd_relationship!A107))+moment_cd_relationship!B106)*'LiFFT_v1.4.0'!$J$17","v":{"$error":"#VALUE!"}},{"$f":"(('LiFFT_v1.4.0'!$H$20-moment_cd_relationship!A106)*((moment_cd_relationship!B106-moment_cd_relationship!B107)/(moment_cd_relationship!A106-moment_cd_relationship!A107))+moment_cd_relationship!B106)*'LiFFT_v1.4.0'!$J$20","v":{"$error":"#VALUE!"}},{"$f":"(('LiFFT_v1.4.0'!$H$23-moment_cd_relationship!A106)*((moment_cd_relationship!B106-moment_cd_relationship!B107)/(moment_cd_relationship!A106-moment_cd_relationship!A107))+moment_cd_relationship!B106)*'LiFFT_v1.4.0'!$J$23","v":{"$error":"#VALUE!"}},{"$f":"(('LiFFT_v1.4.0'!$H$26-moment_cd_relationship!A106)*((moment_cd_relationship!B106-moment_cd_relationship!B107)/(moment_cd_relationship!A106-moment_cd_relationship!A107))+moment_cd_relationship!B106)*'LiFFT_v1.4.0'!$J$26","v":{"$error":"#VALUE!"}},{"$f":"(('LiFFT_v1.4.0'!$H$29-moment_cd_relationship!A106)*((moment_cd_relationship!B106-moment_cd_relationship!B107)/(moment_cd_relationship!A106-moment_cd_relationship!A107))+moment_cd_relationship!B106)*'LiFFT_v1.4.0'!$J$29","v":{"$error":"#VALUE!"}},{"$f":"(('LiFFT_v1.4.0'!$H$32-moment_cd_relationship!A106)*((moment_cd_relationship!B106-moment_cd_relationship!B107)/(moment_cd_relationship!A106-moment_cd_relationship!A107))+moment_cd_relationship!B106)*'LiFFT_v1.4.0'!$J$32","v":{"$error":"#VALUE!"}}]
[105,3.2519999999999999E-4,{"$f":"(('LiFFT_v1.4.0'!$H$5-moment_cd_relationship!A107)*((moment_cd_relationship!B107-moment_cd_relationship!B108)/(moment_cd_relationship!A107-moment_cd_relationship!A108))+moment_cd_relationship!B107)*'LiFFT_v1.4.0'!$J$5","v":-1.7127000000000021},{"$f":"(('LiFFT_v1.4.0'!$H$8-moment_cd_relationship!A107)*((moment_cd_relationship!B107-moment_cd_relationship!B108)/(moment_cd_relationship!A107-moment_cd_relationship!A108))+moment_cd_relationship!B107)*'LiFFT_v1.4.0'!$J$8","v":{"$error":"#VALUE!"}},{"$f":"(('LiFFT_v1.4.0'!$H$11-moment_cd_relationship!A107)*((moment_cd_relationship!B107-moment_cd_relationship!B108)/(moment_cd_relationship!A107-moment_cd_relationship!A108))+moment_cd_relationship!B107)*'LiFFT_v1.4.0'!$J$11","v":{"$error":"#VALUE!"}},{"$f":"(('LiFFT_v1.4.0'!$H$14-moment_cd_relationship!A107)*((moment_cd_relationship!B107-moment_cd_relationship!B108)/(moment_cd_relationship!A107-moment_cd_relationship!A108))+moment_cd_relationship!B107)*'LiFFT_v1.4.0'!$J$14","v":{"$error":"#VALUE!"}},{"$f":"(('LiFFT_v1.4.0'!$H$17-moment_cd_relationship!A107)*((moment_cd_relationship!B107-moment_cd_relationship!B108)/(moment_cd_relationship!A107-moment_cd_relationship!A108))+moment_cd_relationship!B107)*'LiFFT_v1.4.0'!$J$17","v":{"$error":"#VALUE!"}},{"$f":"(('LiFFT_v1.4.0'!$H$20-moment_cd_relationship!A107)*((moment_cd_relationship!B107-moment_cd_relationship!B108)/(moment_cd_relationship!A107-moment_cd_relationship!A108))+moment_cd_relationship!B107)*'LiFFT_v1.4.0'!$J$20","v":{"$error":"#VALUE!"}},{"$f":"(('LiFFT_v1.4.0'!$H$23-moment_cd_relationship!A107)*((moment_cd_relationship!B107-moment_cd_relationship!B108)/(moment_cd_relationship!A107-moment_cd_relationship!A108))+moment_cd_relationship!B107)*'LiFFT_v1.4.0'!$J$23","v":{"$error":"#VALUE!"}},{"$f":"(('LiFFT_v1.4.0'!$H$26-moment_cd_relationship!A107)*((moment_cd_relationship!B107-moment_cd_relationship!B108)/(moment_cd_relationship!A107-moment_cd_relationship!A108))+moment_cd_relationship!B107)*'LiFFT_v1.4.0'!$J$26","v":{"$error":"#VALUE!"}},{"$f":"(('LiFFT_v1.4.0'!$H$29-moment_cd_relationship!A107)*((moment_cd_relationship!B107-moment_cd_relationship!B108)/(moment_cd_relationship!A107-moment_cd_relationship!A108))+moment_cd_relationship!B107)*'LiFFT_v1.4.0'!$J$29","v":{"$error":"#VALUE!"}},{"$f":"(('LiFFT_v1.4.0'!$H$32-moment_cd_relationship!A107)*((moment_cd_relationship!B107-moment_cd_relationship!B108)/(moment_cd_relationship!A107-moment_cd_relationship!A108))+moment_cd_relationship!B107)*'LiFFT_v1.4.0'!$J$32","v":{"$error":"#VALUE!"}}]
[106,3.4230000000000003E-4,{"$f":"(('LiFFT_v1.4.0'!$H$5-moment_cd_relationship!A108)*((moment_cd_relationship!B108-moment_cd_relationship!B109)/(moment_cd_relationship!A108-moment_cd_relationship!A109))+moment_cd_relationship!B108)*'LiFFT_v1.4.0'!$J$5","v":-1.8207000000000046},{"$f":"(('LiFFT_v1.4.0'!$H$8-moment_cd_relationship!A108)*((moment_cd_relationship!B108-moment_cd_relationship!B109)/(moment_cd_relationship!A108-moment_cd_relationship!A109))+moment_cd_relationship!B108)*'LiFFT_v1.4.0'!$J$8","v":{"$error":"#VALUE!"}},{"$f":"(('LiFFT_v1.4.0'!$H$11-moment_cd_relationship!A108)*((moment_cd_relationship!B108-moment_cd_relationship!B109)/(moment_cd_relationship!A108-moment_cd_relationship!A109))+moment_cd_relationship!B108)*'LiFFT_v1.4.0'!$J$11","v":{"$error":"#VALUE!"}},{"$f":"(('LiFFT_v1.4.0'!$H$14-moment_cd_relationship!A108)*((moment_cd_relationship!B108-moment_cd_relationship!B109)/(moment_cd_relationship!A108-moment_cd_relationship!A109))+moment_cd_relationship!B108)*'LiFFT_v1.4.0'!$J$14","v":{"$error":"#VALUE!"}},{"$f":"(('LiFFT_v1.4.0'!$H$17-moment_cd_relationship!A108)*((moment_cd_relationship!B108-moment_cd_relationship!B109)/(moment_cd_relationship!A108-moment_cd_relationship!A109))+moment_cd_relationship!B108)*'LiFFT_v1.4.0'!$J$17","v":{"$error":"#VALUE!"}},{"$f":"(('LiFFT_v1.4.0'!$H$20-moment_cd_relationship!A108)*((moment_cd_relationship!B108-moment_cd_relationship!B109)/(moment_cd_relationship!A108-moment_cd_relationship!A109))+moment_cd_relationship!B108)*'LiFFT_v1.4.0'!$J$20","v":{"$error":"#VALUE!"}},{"$f":"(('LiFFT_v1.4.0'!$H$23-moment_cd_relationship!A108)*((moment_cd_relationship!B108-moment_cd_relationship!B109)/(moment_cd_relationship!A108-moment_cd_relationship!A109))+moment_cd_relationship!B108)*'LiFFT_v1.4.0'!$J$23","v":{"$error":"#VALUE!"}},{"$f":"(('LiFFT_v1.4.0'!$H$26-moment_cd_relationship!A108)*((moment_cd_relationship!B108-moment_cd_relationship!B109)/(moment_cd_relationship!A108-moment_cd_relationship!A109))+moment_cd_relationship!B108)*'LiFFT_v1.4.0'!$J$26","v":{"$error":"#VALUE!"}},{"$f":"(('LiFFT_v1.4.0'!$H$29-moment_cd_relationship!A108)*((moment_cd_relationship!B108-moment_cd_relationship!B109)/(moment_cd_relationship!A108-moment_cd_relationship!A109))+moment_cd_relationship!B108)*'LiFFT_v1.4.0'!$J$29","v":{"$error":"#VALUE!"}},{"$f":"(('LiFFT_v1.4.0'!$H$32-moment_cd_relationship!A108)*((moment_cd_relationship!B108-moment_cd_relationship!B109)/(moment_cd_relationship!A108-moment_cd_relationship!A109))+moment_cd_relationship!B108)*'LiFFT_v1.4.0'!$J$32","v":{"$error":"#VALUE!"}}]
[107,3.6039999999999998E-4,{"$f":"(('LiFFT_v1.4.0'!$H$5-moment_cd_relationship!A109)*((moment_cd_relationship!B109-moment_cd_relationship!B110)/(moment_cd_relationship!A109-moment_cd_relationship!A110))+moment_cd_relationship!B109)*'LiFFT_v1.4.0'!$J$5","v":-1.9571999999999932},{"$f":"(('LiFFT_v1.4.0'!$H$8-moment_cd_relationship!A109)*((moment_cd_relationship!B109-moment_cd_relationship!B110)/(moment_cd_relationship!A109-moment_cd_relationship!A110))+moment_cd_relationship!B109)*'LiFFT_v1.4.0'!$J$8","v":{"$error":"#VALUE!"}},{"$f":"(('LiFFT_v1.4.0'!$H$11-moment_cd_relationship!A109)*((moment_cd_relationship!B109-moment_cd_relationship!B110)/(moment_cd_relationship!A109-moment_cd_relationship!A110))+moment_cd_relationship!B109)*'LiFFT_v1.4.0'!$J$11","v":{"$error":"#VALUE!"}},{"$f":"(('LiFFT_v1.4.0'!$H$14-moment_cd_relationship!A109)*((moment_cd_relationship!B109-moment_cd_relationship!B110)/(moment_cd_relationship!A109-moment_cd_relationship!A110))+moment_cd_relationship!B109)*'LiFFT_v1.4.0'!$J$14","v":{"$error":"#VALUE!"}},{"$f":"(('LiFFT_v1.4.0'!$H$17-moment_cd_relationship!A109)*((moment_cd_relationship!B109-moment_cd_relationship!B110)/(moment_cd_relationship!A109-moment_cd_relationship!A110))+moment_cd_relationship!B109)*'LiFFT_v1.4.0'!$J$17","v":{"$error":"#VALUE!"}},{"$f":"(('LiFFT_v1.4.0'!$H$20-moment_cd_relationship!A109)*((moment_cd_relationship!B109-moment_cd_relationship!B110)/(moment_cd_relationship!A109-moment_cd_relationship!A110))+moment_cd_relationship!B109)*'LiFFT_v1.4.0'!$J$20","v":{"$error":"#VALUE!"}},{"$f":"(('LiFFT_v1.4.0'!$H$23-moment_cd_relationship!A109)*((moment_cd_relationship!B109-moment_cd_relationship!B110)/(moment_cd_relationship!A109-moment_cd_relationship!A110))+moment_cd_relationship!B109)*'LiFFT_v1.4.0'!$J$23","v":{"$error":"#VALUE!"}},{"$f":"(('LiFFT_v1.4.0'!$H$26-moment_cd_relationship!A109)*((moment_cd_relationship!B109-moment_cd_relationship!B110)/(moment_cd_relationship!A109-moment_cd_relationship!A110))+moment_cd_relationship!B109)*'LiFFT_v1.4.0'!$J$26","v":{"$error":"#VALUE!"}},{"$f":"(('LiFFT_v1.4.0'!$H$29-moment_cd_relationship!A109)*((moment_cd_relationship!B109-moment_cd_relationship!B110)/(moment_cd_relationship!A109-moment_cd_relationship!A110))+moment_cd_relationship!B109)*'LiFFT_v1.4.0'!$J$29","v":{"$error":"#VALUE!"}},{"$f":"(('LiFFT_v1.4.0'!$H$32-moment_cd_relationship!A109)*((moment_cd_relationship!B109-moment_cd_relationship!B110)/(moment_cd_relationship!A109-moment_cd_relationship!A110))+moment_cd_relationship!B109)*'LiFFT_v1.4.0'!$J$32","v":{"$error":"#VALUE!"}}]
[108,3.7950000000000001E-4,{"$f":"(('LiFFT_v1.4.0'!$H$5-moment_cd_relationship!A110)*((moment_cd_relationship!B110-moment_cd_relationship!B111)/(moment_cd_relationship!A110-moment_cd_relationship!A111))+moment_cd_relationship!B110)*'LiFFT_v1.4.0'!$J$5","v":-2.0952000000000042},{"$f":"(('LiFFT_v1.4.0'!$H$8-moment_cd_relationship!A110)*((moment_cd_relationship!B110-moment_cd_relationship!B111)/(moment_cd_relationship!A110-moment_cd_relationship!A111))+moment_cd_relationship!B110)*'LiFFT_v1.4.0'!$J$8","v":{"$error":"#VALUE!"}},{"$f":"(('LiFFT_v1.4.0'!$H$11-moment_cd_relationship!A110)*((moment_cd_relationship!B110-moment_cd_relationship!B111)/(moment_cd_relationship!A110-moment_cd_relationship!A111))+moment_cd_relationship!B110)*'LiFFT_v1.4.0'!$J$11","v":{"$error":"#VALUE!"}},{"$f":"(('LiFFT_v1.4.0'!$H$14-moment_cd_relationship!A110)*((moment_cd_relationship!B110-moment_cd_relationship!B111)/(moment_cd_relationship!A110-moment_cd_relationship!A111))+moment_cd_relationship!B110)*'LiFFT_v1.4.0'!$J$14","v":{"$error":"#VALUE!"}},{"$f":"(('LiFFT_v1.4.0'!$H$17-moment_cd_relationship!A110)*((moment_cd_relationship!B110-moment_cd_relationship!B111)/(moment_cd_relationship!A110-moment_cd_relationship!A111))+moment_cd_relationship!B110)*'LiFFT_v1.4.0'!$J$17","v":{"$error":"#VALUE!"}},{"$f":"(('LiFFT_v1.4.0'!$H$20-moment_cd_relationship!A110)*((moment_cd_relationship!B110-moment_cd_relationship!B111)/(moment_cd_relationship!A110-moment_cd_relationship!A111))+moment_cd_relationship!B110)*'LiFFT_v1.4.0'!$J$20","v":{"$error":"#VALUE!"}},{"$f":"(('LiFFT_v1.4.0'!$H$23-moment_cd_relationship!A110)*((moment_cd_relationship!B110-moment_cd_relationship!B111)/(moment_cd_relationship!A110-moment_cd_relationship!A111))+moment_cd_relationship!B110)*'LiFFT_v1.4.0'!$J$23","v":{"$error":"#VALUE!"}},{"$f":"(('LiFFT_v1.4.0'!$H$26-moment_cd_relationship!A110)*((moment_cd_relationship!B110-moment_cd_relationship!B111)/(moment_cd_relationship!A110-moment_cd_relationship!A111))+moment_cd_relationship!B110)*'LiFFT_v1.4.0'!$J$26","v":{"$error":"#VALUE!"}},{"$f":"(('LiFFT_v1.4.0'!$H$29-moment_cd_relationship!A110)*((moment_cd_relationship!B110-moment_cd_relationship!B111)/(moment_cd_relationship!A110-moment_cd_relationship!A111))+moment_cd_relationship!B110)*'LiFFT_v1.4.0'!$J$29","v":{"$error":"#VALUE!"}},{"$f":"(('LiFFT_v1.4.0'!$H$32-moment_cd_relationship!A110)*((moment_cd_relationship!B110-moment_cd_relationship!B111)/(moment_cd_relationship!A110-moment_cd_relationship!A111))+moment_cd_relationship!B110)*'LiFFT_v1.4.0'!$J$32","v":{"$error":"#VALUE!"}}]
[109,3.9960000000000001E-4,{"$f":"(('LiFFT_v1.4.0'!$H$5-moment_cd_relationship!A111)*((moment_cd_relationship!B111-moment_cd_relationship!B112)/(moment_cd_relationship!A111-moment_cd_relationship!A112))+moment_cd_relationship!B111)*'LiFFT_v1.4.0'!$J$5","v":-2.2346999999999997},{"$f":"(('LiFFT_v1.4.0'!$H$8-moment_cd_relationship!A111)*((moment_cd_relationship!B111-moment_cd_relationship!B112)/(moment_cd_relationship!A111-moment_cd_relationship!A112))+moment_cd_relationship!B111)*'LiFFT_v1.4.0'!$J$8","v":{"$error":"#VALUE!"}},{"$f":"(('LiFFT_v1.4.0'!$H$11-moment_cd_relationship!A111)*((moment_cd_relationship!B111-moment_cd_relationship!B112)/(moment_cd_relationship!A111-moment_cd_relationship!A112))+moment_cd_relationship!B111)*'LiFFT_v1.4.0'!$J$11","v":{"$error":"#VALUE!"}},{"$f":"(('LiFFT_v1.4.0'!$H$14-moment_cd_relationship!A111)*((moment_cd_relationship!B111-moment_cd_relationship!B112)/(moment_cd_relationship!A111-moment_cd_relationship!A112))+moment_cd_relationship!B111)*'LiFFT_v1.4.0'!$J$14","v":{"$error":"#VALUE!"}},{"$f":"(('LiFFT_v1.4.0'!$H$17-moment_cd_relationship!A111)*((moment_cd_relationship!B111-moment_cd_relationship!B112)/(moment_cd_relationship!A111-moment_cd_relationship!A112))+moment_cd_relationship!B111)*'LiFFT_v1.4.0'!$J$17","v":{"$error":"#VALUE!"}},{"$f":"(('LiFFT_v1.4.0'!$H$20-moment_cd_relationship!A111)*((moment_cd_relationship!B111-moment_cd_relationship!B112)/(moment_cd_relationship!A111-moment_cd_relationship!A112))+moment_cd_relationship!B111)*'LiFFT_v1.4.0'!$J$20","v":{"$error":"#VALUE!"}},{"$f":"(('LiFFT_v1.4.0'!$H$23-moment_cd_relationship!A111)*((moment_cd_relationship!B111-moment_cd_relationship!B112)/(moment_cd_relationship!A111-moment_cd_relationship!A112))+moment_cd_relationship!B111)*'LiFFT_v1.4.0'!$J$23","v":{"$error":"#VALUE!"}},{"$f":"(('LiFFT_v1.4.0'!$H$26-moment_cd_relationship!A111)*((moment_cd_relationship!B111-moment_cd_relationship!B112)/(moment_cd_relationship!A111-moment_cd_relationship!A112))+moment_cd_relationship!B111)*'LiFFT_v1.4.0'!$J$26","v":{"$error":"#VALUE!"}},{"$f":"(('LiFFT_v1.4.0'!$H$29-moment_cd_relationship!A111)*((moment_cd_relationship!B111-moment_cd_relationship!B112)/(moment_cd_relationship!A111-moment_cd_relationship!A112))+moment_cd_relationship!B111)*'LiFFT_v1.4.0'!$J$29","v":{"$error":"#VALUE!"}},{"$f":"(('LiFFT_v1.4.0'!$H$32-moment_cd_relationship!A111)*((moment_cd_relationship!B111-moment_cd_relationship!B112)/(moment_cd_relationship!A111-moment_cd_relationship!A112))+moment_cd_relationship!B111)*'LiFFT_v1.4.0'!$J$32","v":{"$error":"#VALUE!"}}]
[110,4.2069999999999998E-4,{"$f":"(('LiFFT_v1.4.0'!$H$5-moment_cd_relationship!A112)*((moment_cd_relationship!B112-moment_cd_relationship!B113)/(moment_cd_relationship!A112-moment_cd_relationship!A113))+moment_cd_relationship!B112)*'LiFFT_v1.4.0'!$J$5","v":-2.3756999999999957},{"$f":"(('LiFFT_v1.4.0'!$H$8-moment_cd_relationship!A112)*((moment_cd_relationship!B112-moment_cd_relationship!B113)/(moment_cd_relationship!A112-moment_cd_relationship!A113))+moment_cd_relationship!B112)*'LiFFT_v1.4.0'!$J$8","v":{"$error":"#VALUE!"}},{"$f":"(('LiFFT_v1.4.0'!$H$11-moment_cd_relationship!A112)*((moment_cd_relationship!B112-moment_cd_relationship!B113)/(moment_cd_relationship!A112-moment_cd_relationship!A113))+moment_cd_relationship!B112)*'LiFFT_v1.4.0'!$J$11","v":{"$error":"#VALUE!"}},{"$f":"(('LiFFT_v1.4.0'!$H$14-moment_cd_relationship!A112)*((moment_cd_relationship!B112-moment_cd_relationship!B113)/(moment_cd_relationship!A112-moment_cd_relationship!A113))+moment_cd_relationship!B112)*'LiFFT_v1.4.0'!$J$14","v":{"$error":"#VALUE!"}},{"$f":"(('LiFFT_v1.4.0'!$H$17-moment_cd_relationship!A112)*((moment_cd_relationship!B112-moment_cd_relationship!B113)/(moment_cd_relationship!A112-moment_cd_relationship!A113))+moment_cd_relationship!B112)*'LiFFT_v1.4.0'!$J$17","v":{"$error":"#VALUE!"}},{"$f":"(('LiFFT_v1.4.0'!$H$20-moment_cd_relationship!A112)*((moment_cd_relationship!B112-moment_cd_relationship!B113)/(moment_cd_relationship!A112-moment_cd_relationship!A113))+moment_cd_relationship!B112)*'LiFFT_v1.4.0'!$J$20","v":{"$error":"#VALUE!"}},{"$f":"(('LiFFT_v1.4.0'!$H$23-moment_cd_relationship!A112)*((moment_cd_relationship!B112-moment_cd_relationship!B113)/(moment_cd_relationship!A112-moment_cd_relationship!A113))+moment_cd_relationship!B112)*'LiFFT_v1.4.0'!$J$23","v":{"$error":"#VALUE!"}},{"$f":"(('LiFFT_v1.4.0'!$H$26-moment_cd_relationship!A112)*((moment_cd_relationship!B112-moment_cd_relationship!B113)/(moment_cd_relationship!A112-moment_cd_relationship!A113))+moment_cd_relationship!B112)*'LiFFT_v1.4.0'!$J$26","v":{"$error":"#VALUE!"}},{"$f":"(('LiFFT_v1.4.0'!$H$29-moment_cd_relationship!A112)*((moment_cd_relationship!B112-moment_cd_relationship!B113)/(moment_cd_relationship!A112-moment_cd_relationship!A113))+moment_cd_relationship!B112)*'LiFFT_v1.4.0'!$J$29","v":{"$error":"#VALUE!"}},{"$f":"(('LiFFT_v1.4.0'!$H$32-moment_cd_relationship!A112)*((moment_cd_relationship!B112-moment_cd_relationship!B113)/(moment_cd_relationship!A112-moment_cd_relationship!A113))+moment_cd_relationship!B112)*'LiFFT_v1.4.0'!$J$32","v":{"$error":"#VALUE!"}}]
[111,4.4299999999999998E-4,{"$f":"(('LiFFT_v1.4.0'!$H$5-moment_cd_relationship!A113)*((moment_cd_relationship!B113-moment_cd_relationship!B114)/(moment_cd_relationship!A113-moment_cd_relationship!A114))+moment_cd_relationship!B113)*'LiFFT_v1.4.0'!$J$5","v":-2.5467000000000004},{"$f":"(('LiFFT_v1.4.0'!$H$8-moment_cd_relationship!A113)*((moment_cd_relationship!B113-moment_cd_relationship!B114)/(moment_cd_relationship!A113-moment_cd_relationship!A114))+moment_cd_relationship!B113)*'LiFFT_v1.4.0'!$J$8","v":{"$error":"#VALUE!"}},{"$f":"(('LiFFT_v1.4.0'!$H$11-moment_cd_relationship!A113)*((moment_cd_relationship!B113-moment_cd_relationship!B114)/(moment_cd_relationship!A113-moment_cd_relationship!A114))+moment_cd_relationship!B113)*'LiFFT_v1.4.0'!$J$11","v":{"$error":"#VALUE!"}},{"$f":"(('LiFFT_v1.4.0'!$H$14-moment_cd_relationship!A113)*((moment_cd_relationship!B113-moment_cd_relationship!B114)/(moment_cd_relationship!A113-moment_cd_relationship!A114))+moment_cd_relationship!B113)*'LiFFT_v1.4.0'!$J$14","v":{"$error":"#VALUE!"}},{"$f":"(('LiFFT_v1.4.0'!$H$17-moment_cd_relationship!A113)*((moment_cd_relationship!B113-moment_cd_relationship!B114)/(moment_cd_relationship!A113-moment_cd_relationship!A114))+moment_cd_relationship!B113)*'LiFFT_v1.4.0'!$J$17","v":{"$error":"#VALUE!"}},{"$f":"(('LiFFT_v1.4.0'!$H$20-moment_cd_relationship!A113)*((moment_cd_relationship!B113-moment_cd_relationship!B114)/(moment_cd_relationship!A113-moment_cd_relationship!A114))+moment_cd_relationship!B113)*'LiFFT_v1.4.0'!$J$20","v":{"$error":"#VALUE!"}},{"$f":"(('LiFFT_v1.4.0'!$H$23-moment_cd_relationship!A113)*((moment_cd_relationship!B113-moment_cd_relationship!B114)/(moment_cd_relationship!A113-moment_cd_relationship!A114))+moment_cd_relationship!B113)*'LiFFT_v1.4.0'!$J$23","v":{"$error":"#VALUE!"}},{"$f":"(('LiFFT_v1.4.0'!$H$26-moment_cd_relationship!A113)*((moment_cd_relationship!B113-moment_cd_relationship!B114)/(moment_cd_relationship!A113-moment_cd_relationship!A114))+moment_cd_relationship!B113)*'LiFFT_v1.4.0'!$J$26","v":{"$error":"#VALUE!"}},{"$f":"(('LiFFT_v1.4.0'!$H$29-moment_cd_relationship!A113)*((moment_cd_relationship!B113-moment_cd_relationship!B114)/(moment_cd_relationship!A113-moment_cd_relationship!A114))+moment_cd_relationship!B113)*'LiFFT_v1.4.0'!$J$29","v":{"$error":"#VALUE!"}},{"$f":"(('LiFFT_v1.4.0'!$H$32-moment_cd_relationship!A113)*((moment_cd_relationship!B113-moment_cd_relationship!B114)/(moment_cd_relationship!A113-moment_cd_relationship!A114))+moment_cd_relationship!B113)*'LiFFT_v1.4.0'!$J$32","v":{"$error":"#VALUE!"}}]
[112,4.6640000000000001E-4,{"$f":"(('LiFFT_v1.4.0'!$H$5-moment_cd_relationship!A114)*((moment_cd_relationship!B114-moment_cd_relationship!B115)/(moment_cd_relationship!A114-moment_cd_relationship!A115))+moment_cd_relationship!B114)*'LiFFT_v1.4.0'!$J$5","v":-2.7051000000000038},{"$f":"(('LiFFT_v1.4.0'!$H$8-moment_cd_relationship!A114)*((moment_cd_relationship!B114-moment_cd_relationship!B115)/(moment_cd_relationship!A114-moment_cd_relationship!A115))+moment_cd_relationship!B114)*'LiFFT_v1.4.0'!$J$8","v":{"$error":"#VALUE!"}},{"$f":"(('LiFFT_v1.4.0'!$H$11-moment_cd_relationship!A114)*((moment_cd_relationship!B114-moment_cd_relationship!B115)/(moment_cd_relationship!A114-moment_cd_relationship!A115))+moment_cd_relationship!B114)*'LiFFT_v1.4.0'!$J$11","v":{"$error":"#VALUE!"}},{"$f":"(('LiFFT_v1.4.0'!$H$14-moment_cd_relationship!A114)*((moment_cd_relationship!B114-moment_cd_relationship!B115)/(moment_cd_relationship!A114-moment_cd_relationship!A115))+moment_cd_relationship!B114)*'LiFFT_v1.4.0'!$J$14","v":{"$error":"#VALUE!"}},{"$f":"(('LiFFT_v1.4.0'!$H$17-moment_cd_relationship!A114)*((moment_cd_relationship!B114-moment_cd_relationship!B115)/(moment_cd_relationship!A114-moment_cd_relationship!A115))+moment_cd_relationship!B114)*'LiFFT_v1.4.0'!$J$17","v":{"$error":"#VALUE!"}},{"$f":"(('LiFFT_v1.4.0'!$H$20-moment_cd_relationship!A114)*((moment_cd_relationship!B114-moment_cd_relationship!B115)/(moment_cd_relationship!A114-moment_cd_relationship!A115))+moment_cd_relationship!B114)*'LiFFT_v1.4.0'!$J$20","v":{"$error":"#VALUE!"}},{"$f":"(('LiFFT_v1.4.0'!$H$23-moment_cd_relationship!A114)*((moment_cd_relationship!B114-moment_cd_relationship!B115)/(moment_cd_relationship!A114-moment_cd_relationship!A115))+moment_cd_relationship!B114)*'LiFFT_v1.4.0'!$J$23","v":{"$error":"#VALUE!"}},{"$f":"(('LiFFT_v1.4.0'!$H$26-moment_cd_relationship!A114)*((moment_cd_relationship!B114-moment_cd_relationship!B115)/(moment_cd_relationship!A114-moment_cd_relationship!A115))+moment_cd_relationship!B114)*'LiFFT_v1.4.0'!$J$26","v":{"$error":"#VALUE!"}},{"$f":"(('LiFFT_v1.4.0'!$H$29-moment_cd_relationship!A114)*((moment_cd_relationship!B114-moment_cd_relationship!B115)/(moment_cd_relationship!A114-moment_cd_relationship!A115))+moment_cd_relationship!B114)*'LiFFT_v1.4.0'!$J$29","v":{"$error":"#VALUE!"}},{"$f":"(('LiFFT_v1.4.0'!$H$32-moment_cd_relationship!A114)*((moment_cd_relationship!B114-moment_cd_relationship!B115)/(moment_cd_relationship!A114-moment_cd_relationship!A115))+moment_cd_relationship!B114)*'LiFFT_v1.4.0'!$J$32","v":{"$error":"#VALUE!"}}]
[113,4.9109999999999996E-4,{"$f":"(('LiFFT_v1.4.0'!$H$5-moment_cd_relationship!A115)*((moment_cd_relationship!B115-moment_cd_relationship!B116)/(moment_cd_relationship!A115-moment_cd_relationship!A116))+moment_cd_relationship!B115)*'LiFFT_v1.4.0'!$J$5","v":-2.8942499999999924},{"$f":"(('LiFFT_v1.4.0'!$H$8-moment_cd_relationship!A115)*((moment_cd_relationship!B115-moment_cd_relationship!B116)/(moment_cd_relationship!A115-moment_cd_relationship!A116))+moment_cd_relationship!B115)*'LiFFT_v1.4.0'!$J$8","v":{"$error":"#VALUE!"}},{"$f":"(('LiFFT_v1.4.0'!$H$11-moment_cd_relationship!A115)*((moment_cd_relationship!B115-moment_cd_relationship!B116)/(moment_cd_relationship!A115-moment_cd_relationship!A116))+moment_cd_relationship!B115)*'LiFFT_v1.4.0'!$J$11","v":{"$error":"#VALUE!"}},{"$f":"(('LiFFT_v1.4.0'!$H$14-moment_cd_relationship!A115)*((moment_cd_relationship!B115-moment_cd_relationship!B116)/(moment_cd_relationship!A115-moment_cd_relationship!A116))+moment_cd_relationship!B115)*'LiFFT_v1.4.0'!$J$14","v":{"$error":"#VALUE!"}},{"$f":"(('LiFFT_v1.4.0'!$H$17-moment_cd_relationship!A115)*((moment_cd_relationship!B115-moment_cd_relationship!B116)/(moment_cd_relationship!A115-moment_cd_relationship!A116))+moment_cd_relationship!B115)*'LiFFT_v1.4.0'!$J$17","v":{"$error":"#VALUE!"}},{"$f":"(('LiFFT_v1.4.0'!$H$20-moment_cd_relationship!A115)*((moment_cd_relationship!B115-moment_cd_relationship!B116)/(moment_cd_relationship!A115-moment_cd_relationship!A116))+moment_cd_relationship!B115)*'LiFFT_v1.4.0'!$J$20","v":{"$error":"#VALUE!"}},{"$f":"(('LiFFT_v1.4.0'!$H$23-moment_cd_relationship!A115)*((moment_cd_relationship!B115-moment_cd_relationship!B116)/(moment_cd_relationship!A115-moment_cd_relationship!A116))+moment_cd_relationship!B115)*'LiFFT_v1.4.0'!$J$23","v":{"$error":"#VALUE!"}},{"$f":"(('LiFFT_v1.4.0'!$H$26-moment_cd_relationship!A115)*((moment_cd_relationship!B115-moment_cd_relationship!B116)/(moment_cd_relationship!A115-moment_cd_relationship!A116))+moment_cd_relationship!B115)*'LiFFT_v1.4.0'!$J$26","v":{"$error":"#VALUE!"}},{"$f":"(('LiFFT_v1.4.0'!$H$29-moment_cd_relationship!A115)*((moment_cd_relationship!B115-moment_cd_relationship!B116)/(moment_cd_relationship!A115-moment_cd_relationship!A116))+moment_cd_relationship!B115)*'LiFFT_v1.4.0'!$J$29","v":{"$error":"#VALUE!"}},{"$f":"(('LiFFT_v1.4.0'!$H$32-moment_cd_relationship!A115)*((moment_cd_relationship!B115-moment_cd_relationship!B116)/(moment_cd_relationship!A115-moment_cd_relationship!A116))+moment_cd_relationship!B115)*'LiFFT_v1.4.0'!$J$32","v":{"$error":"#VALUE!"}}]
[114,5.1710000000000005E-4,{"$f":"(('LiFFT_v1.4.0'!$H$5-moment_cd_relationship!A116)*((moment_cd_relationship!B116-moment_cd_relationship!B117)/(moment_cd_relationship!A116-moment_cd_relationship!A117))+moment_cd_relationship!B116)*'LiFFT_v1.4.0'!$J$5","v":-3.0853500000000129},{"$f":"(('LiFFT_v1.4.0'!$H$8-moment_cd_relationship!A116)*((moment_cd_relationship!B116-moment_cd_relationship!B117)/(moment_cd_relationship!A116-moment_cd_relationship!A117))+moment_cd_relationship!B116)*'LiFFT_v1.4.0'!$J$8","v":{"$error":"#VALUE!"}},{"$f":"(('LiFFT_v1.4.0'!$H$11-moment_cd_relationship!A116)*((moment_cd_relationship!B116-moment_cd_relationship!B117)/(moment_cd_relationship!A116-moment_cd_relationship!A117))+moment_cd_relationship!B116)*'LiFFT_v1.4.0'!$J$11","v":{"$error":"#VALUE!"}},{"$f":"(('LiFFT_v1.4.0'!$H$14-moment_cd_relationship!A116)*((moment_cd_relationship!B116-moment_cd_relationship!B117)/(moment_cd_relationship!A116-moment_cd_relationship!A117))+moment_cd_relationship!B116)*'LiFFT_v1.4.0'!$J$14","v":{"$error":"#VALUE!"}},{"$f":"(('LiFFT_v1.4.0'!$H$17-moment_cd_relationship!A116)*((moment_cd_relationship!B116-moment_cd_relationship!B117)/(moment_cd_relationship!A116-moment_cd_relationship!A117))+moment_cd_relationship!B116)*'LiFFT_v1.4.0'!$J$17","v":{"$error":"#VALUE!"}},{"$f":"(('LiFFT_v1.4.0'!$H$20-moment_cd_relationship!A116)*((moment_cd_relationship!B116-moment_cd_relationship!B117)/(moment_cd_relationship!A116-moment_cd_relationship!A117))+moment_cd_relationship!B116)*'LiFFT_v1.4.0'!$J$20","v":{"$error":"#VALUE!"}},{"$f":"(('LiFFT_v1.4.0'!$H$23-moment_cd_relationship!A116)*((moment_cd_relationship!B116-moment_cd_relationship!B117)/(moment_cd_relationship!A116-moment_cd_relationship!A117))+moment_cd_relationship!B116)*'LiFFT_v1.4.0'!$J$23","v":{"$error":"#VALUE!"}},{"$f":"(('LiFFT_v1.4.0'!$H$26-moment_cd_relationship!A116)*((moment_cd_relationship!B116-moment_cd_relationship!B117)/(moment_cd_relationship!A116-moment_cd_relationship!A117))+moment_cd_relationship!B116)*'LiFFT_v1.4.0'!$J$26","v":{"$error":"#VALUE!"}},{"$f":"(('LiFFT_v1.4.0'!$H$29-moment_cd_relationship!A116)*((moment_cd_relationship!B116-moment_cd_relationship!B117)/(moment_cd_relationship!A116-moment_cd_relationship!A117))+moment_cd_relationship!B116)*'LiFFT_v1.4.0'!$J$29","v":{"$error":"#VALUE!"}},{"$f":"(('LiFFT_v1.4.0'!$H$32-moment_cd_relationship!A116)*((moment_cd_relationship!B116-moment_cd_relationship!B117)/(moment_cd_relationship!A116-moment_cd_relationship!A117))+moment_cd_relationship!B116)*'LiFFT_v1.4.0'!$J$32","v":{"$error":"#VALUE!"}}]
[115,5.4449999999999995E-4,{"$f":"(('LiFFT_v1.4.0'!$H$5-moment_cd_relationship!A117)*((moment_cd_relationship!B117-moment_cd_relationship!B118)/(moment_cd_relationship!A117-moment_cd_relationship!A118))+moment_cd_relationship!B117)*'LiFFT_v1.4.0'!$J$5","v":-3.2932499999999862},{"$f":"(('LiFFT_v1.4.0'!$H$8-moment_cd_relationship!A117)*((moment_cd_relationship!B117-moment_cd_relationship!B118)/(moment_cd_relationship!A117-moment_cd_relationship!A118))+moment_cd_relationship!B117)*'LiFFT_v1.4.0'!$J$8","v":{"$error":"#VALUE!"}},{"$f":"(('LiFFT_v1.4.0'!$H$11-moment_cd_relationship!A117)*((moment_cd_relationship!B117-moment_cd_relationship!B118)/(moment_cd_relationship!A117-moment_cd_relationship!A118))+moment_cd_relationship!B117)*'LiFFT_v1.4.0'!$J$11","v":{"$error":"#VALUE!"}},{"$f":"(('LiFFT_v1.4.0'!$H$14-moment_cd_relationship!A117)*((moment_cd_relationship!B117-moment_cd_relationship!B118)/(moment_cd_relationship!A117-moment_cd_relationship!A118))+moment_cd_relationship!B117)*'LiFFT_v1.4.0'!$J$14","v":{"$error":"#VALUE!"}},{"$f":"(('LiFFT_v1.4.0'!$H$17-moment_cd_relationship!A117)*((moment_cd_relationship!B117-moment_cd_relationship!B118)/(moment_cd_relationship!A117-moment_cd_relationship!A118))+moment_cd_relationship!B117)*'LiFFT_v1.4.0'!$J$17","v":{"$error":"#VALUE!"}},{"$f":"(('LiFFT_v1.4.0'!$H$20-moment_cd_relationship!A117)*((moment_cd_relationship!B117-moment_cd_relationship!B118)/(moment_cd_relationship!A117-moment_cd_relationship!A118))+moment_cd_relationship!B117)*'LiFFT_v1.4.0'!$J$20","v":{"$error":"#VALUE!"}},{"$f":"(('LiFFT_v1.4.0'!$H$23-moment_cd_relationship!A117)*((moment_cd_relationship!B117-moment_cd_relationship!B118)/(moment_cd_relationship!A117-moment_cd_relationship!A118))+moment_cd_relationship!B117)*'LiFFT_v1.4.0'!$J$23","v":{"$error":"#VALUE!"}},{"$f":"(('LiFFT_v1.4.0'!$H$26-moment_cd_relationship!A117)*((moment_cd_relationship!B117-moment_cd_relationship!B118)/(moment_cd_relationship!A117-moment_cd_relationship!A118))+moment_cd_relationship!B117)*'LiFFT_v1.4.0'!$J$26","v":{"$error":"#VALUE!"}},{"$f":"(('LiFFT_v1.4.0'!$H$29-moment_cd_relationship!A117)*((moment_cd_relationship!B117-moment_cd_relationship!B118)/(moment_cd_relationship!A117-moment_cd_relationship!A118))+moment_cd_relationship!B117)*'LiFFT_v1.4.0'!$J$29","v":{"$error":"#VALUE!"}},{"$f":"(('LiFFT_v1.4.0'!$H$32-moment_cd_relationship!A117)*((moment_cd_relationship!B117-moment_cd_relationship!B118)/(moment_cd_relationship!A117-moment_cd_relationship!A118))+moment_cd_relationship!B117)*'LiFFT_v1.4.0'!$J$32","v":{"$error":"#VALUE!"}}]
[116,5.7339999999999995E-4,{"$f":"(('LiFFT_v1.4.0'!$H$5-moment_cd_relationship!A118)*((moment_cd_relationship!B118-moment_cd_relationship!B119)/(moment_cd_relationship!A118-moment_cd_relationship!A119))+moment_cd_relationship!B118)*'LiFFT_v1.4.0'!$J$5","v":-3.5182500000000001},{"$f":"(('LiFFT_v1.4.0'!$H$8-moment_cd_relationship!A118)*((moment_cd_relationship!B118-moment_cd_relationship!B119)/(moment_cd_relationship!A118-moment_cd_relationship!A119))+moment_cd_relationship!B118)*'LiFFT_v1.4.0'!$J$8","v":{"$error":"#VALUE!"}},{"$f":"(('LiFFT_v1.4.0'!$H$11-moment_cd_relationship!A118)*((moment_cd_relationship!B118-moment_cd_relationship!B119)/(moment_cd_relationship!A118-moment_cd_relationship!A119))+moment_cd_relationship!B118)*'LiFFT_v1.4.0'!$J$11","v":{"$error":"#VALUE!"}},{"$f":"(('LiFFT_v1.4.0'!$H$14-moment_cd_relationship!A118)*((moment_cd_relationship!B118-moment_cd_relationship!B119)/(moment_cd_relationship!A118-moment_cd_relationship!A119))+moment_cd_relationship!B118)*'LiFFT_v1.4.0'!$J$14","v":{"$error":"#VALUE!"}},{"$f":"(('LiFFT_v1.4.0'!$H$17-moment_cd_relationship!A118)*((moment_cd_relationship!B118-moment_cd_relationship!B119)/(moment_cd_relationship!A118-moment_cd_relationship!A119))+moment_cd_relationship!B118)*'LiFFT_v1.4.0'!$J$17","v":{"$error":"#VALUE!"}},{"$f":"(('LiFFT_v1.4.0'!$H$20-moment_cd_relationship!A118)*((moment_cd_relationship!B118-moment_cd_relationship!B119)/(moment_cd_relationship!A118-moment_cd_relationship!A119))+moment_cd_relationship!B118)*'LiFFT_v1.4.0'!$J$20","v":{"$error":"#VALUE!"}},{"$f":"(('LiFFT_v1.4.0'!$H$23-moment_cd_relationship!A118)*((moment_cd_relationship!B118-moment_cd_relationship!B119)/(moment_cd_relationship!A118-moment_cd_relationship!A119))+moment_cd_relationship!B118)*'LiFFT_v1.4.0'!$J$23","v":{"$error":"#VALUE!"}},{"$f":"(('LiFFT_v1.4.0'!$H$26-moment_cd_relationship!A118)*((moment_cd_relationship!B118-moment_cd_relationship!B119)/(moment_cd_relationship!A118-moment_cd_relationship!A119))+moment_cd_relationship!B118)*'LiFFT_v1.4.0'!$J$26","v":{"$error":"#VALUE!"}},{"$f":"(('LiFFT_v1.4.0'!$H$29-moment_cd_relationship!A118)*((moment_cd_relationship!B118-moment_cd_relationship!B119)/(moment_cd_relationship!A118-moment_cd_relationship!A119))+moment_cd_relationship!B118)*'LiFFT_v1.4.0'!$J$29","v":{"$error":"#VALUE!"}},{"$f":"(('LiFFT_v1.4.0'!$H$32-moment_cd_relationship!A118)*((moment_cd_relationship!B118-moment_cd_relationship!B119)/(moment_cd_relationship!A118-moment_cd_relationship!A119))+moment_cd_relationship!B118)*'LiFFT_v1.4.0'!$J$32","v":{"$error":"#VALUE!"}}]
[117,6.0369999999999998E-4,{"$f":"(('LiFFT_v1.4.0'!$H$5-moment_cd_relationship!A119)*((moment_cd_relationship!B119-moment_cd_relationship!B120)/(moment_cd_relationship!A119-moment_cd_relationship!A120))+moment_cd_relationship!B119)*'LiFFT_v1.4.0'!$J$5","v":-3.7303500000000049},{"$f":"(('LiFFT_v1.4.0'!$H$8-moment_cd_relationship!A119)*((moment_cd_relationship!B119-moment_cd_relationship!B120)/(moment_cd_relationship!A119-moment_cd_relationship!A120))+moment_cd_relationship!B119)*'LiFFT_v1.4.0'!$J$8","v":{"$error":"#VALUE!"}},{"$f":"(('LiFFT_v1.4.0'!$H$11-moment_cd_relationship!A119)*((moment_cd_relationship!B119-moment_cd_relationship!B120)/(moment_cd_relationship!A119-moment_cd_relationship!A120))+moment_cd_relationship!B119)*'LiFFT_v1.4.0'!$J$11","v":{"$error":"#VALUE!"}},{"$f":"(('LiFFT_v1.4.0'!$H$14-moment_cd_relationship!A119)*((moment_cd_relationship!B119-moment_cd_relationship!B120)/(moment_cd_relationship!A119-moment_cd_relationship!A120))+moment_cd_relationship!B119)*'LiFFT_v1.4.0'!$J$14","v":{"$error":"#VALUE!"}},{"$f":"(('LiFFT_v1.4.0'!$H$17-moment_cd_relationship!A119)*((moment_cd_relationship!B119-moment_cd_relationship!B120)/(moment_cd_relationship!A119-moment_cd_relationship!A120))+moment_cd_relationship!B119)*'LiFFT_v1.4.0'!$J$17","v":{"$error":"#VALUE!"}},{"$f":"(('LiFFT_v1.4.0'!$H$20-moment_cd_relationship!A119)*((moment_cd_relationship!B119-moment_cd_relationship!B120)/(moment_cd_relationship!A119-moment_cd_relationship!A120))+moment_cd_relationship!B119)*'LiFFT_v1.4.0'!$J$20","v":{"$error":"#VALUE!"}},{"$f":"(('LiFFT_v1.4.0'!$H$23-moment_cd_relationship!A119)*((moment_cd_relationship!B119-moment_cd_relationship!B120)/(moment_cd_relationship!A119-moment_cd_relationship!A120))+moment_cd_relationship!B119)*'LiFFT_v1.4.0'!$J$23","v":{"$error":"#VALUE!"}},{"$f":"(('LiFFT_v1.4.0'!$H$26-moment_cd_relationship!A119)*((moment_cd_relationship!B119-moment_cd_relationship!B120)/(moment_cd_relationship!A119-moment_cd_relationship!A120))+moment_cd_relationship!B119)*'LiFFT_v1.4.0'!$J$26","v":{"$error":"#VALUE!"}},{"$f":"(('LiFFT_v1.4.0'!$H$29-moment_cd_relationship!A119)*((moment_cd_relationship!B119-moment_cd_relationship!B120)/(moment_cd_relationship!A119-moment_cd_relationship!A120))+moment_cd_relationship!B119)*'LiFFT_v1.4.0'!$J$29","v":{"$error":"#VALUE!"}},{"$f":"(('LiFFT_v1.4.0'!$H$32-moment_cd_relationship!A119)*((moment_cd_relationship!B119-moment_cd_relationship!B120)/(moment_cd_relationship!A119-moment_cd_relationship!A120))+moment_cd_relationship!B119)*'LiFFT_v1.4.0'!$J$32","v":{"$error":"#VALUE!"}}]
[118,6.3579999999999995E-4,{"$f":"(('LiFFT_v1.4.0'!$H$5-moment_cd_relationship!A120)*((moment_cd_relationship!B120-moment_cd_relationship!B121)/(moment_cd_relationship!A120-moment_cd_relationship!A121))+moment_cd_relationship!B120)*'LiFFT_v1.4.0'!$J$5","v":-4.0057499999999946},{"$f":"(('LiFFT_v1.4.0'!$H$8-moment_cd_relationship!A120)*((moment_cd_relationship!B120-moment_cd_relationship!B121)/(moment_cd_relationship!A120-moment_cd_relationship!A121))+moment_cd_relationship!B120)*'LiFFT_v1.4.0'!$J$8","v":{"$error":"#VALUE!"}},{"$f":"(('LiFFT_v1.4.0'!$H$11-moment_cd_relationship!A120)*((moment_cd_relationship!B120-moment_cd_relationship!B121)/(moment_cd_relationship!A120-moment_cd_relationship!A121))+moment_cd_relationship!B120)*'LiFFT_v1.4.0'!$J$11","v":{"$error":"#VALUE!"}},{"$f":"(('LiFFT_v1.4.0'!$H$14-moment_cd_relationship!A120)*((moment_cd_relationship!B120-moment_cd_relationship!B121)/(moment_cd_relationship!A120-moment_cd_relationship!A121))+moment_cd_relationship!B120)*'LiFFT_v1.4.0'!$J$14","v":{"$error":"#VALUE!"}},{"$f":"(('LiFFT_v1.4.0'!$H$17-moment_cd_relationship!A120)*((moment_cd_relationship!B120-moment_cd_relationship!B121)/(moment_cd_relationship!A120-moment_cd_relationship!A121))+moment_cd_relationship!B120)*'LiFFT_v1.4.0'!$J$17","v":{"$error":"#VALUE!"}},{"$f":"(('LiFFT_v1.4.0'!$H$20-moment_cd_relationship!A120)*((moment_cd_relationship!B120-moment_cd_relationship!B121)/(moment_cd_relationship!A120-moment_cd_relationship!A121))+moment_cd_relationship!B120)*'LiFFT_v1.4.0'!$J$20","v":{"$error":"#VALUE!"}},{"$f":"(('LiFFT_v1.4.0'!$H$23-moment_cd_relationship!A120)*((moment_cd_relationship!B120-moment_cd_relationship!B121)/(moment_cd_relationship!A120-moment_cd_relationship!A121))+moment_cd_relationship!B120)*'LiFFT_v1.4.0'!$J$23","v":{"$error":"#VALUE!"}},{"$f":"(('LiFFT_v1.4.0'!$H$26-moment_cd_relationship!A120)*((moment_cd_relationship!B120-moment_cd_relationship!B121)/(moment_cd_relationship!A120-moment_cd_relationship!A121))+moment_cd_relationship!B120)*'LiFFT_v1.4.0'!$J$26","v":{"$error":"#VALUE!"}},{"$f":"(('LiFFT_v1.4.0'!$H$29-moment_cd_relationship!A120)*((moment_cd_relationship!B120-moment_cd_relationship!B121)/(moment_cd_relationship!A120-moment_cd_relationship!A121))+moment_cd_relationship!B120)*'LiFFT_v1.4.0'!$J$29","v":{"$error":"#VALUE!"}},{"$f":"(('LiFFT_v1.4.0'!$H$32-moment_cd_relationship!A120)*((moment_cd_relationship!B120-moment_cd_relationship!B121)/(moment_cd_relationship!A120-moment_cd_relationship!A121))+moment_cd_relationship!B120)*'LiFFT_v1.4.0'!$J$32","v":{"$error":"#VALUE!"}}]
[119,6.6949999999999996E-4,{"$f":"(('LiFFT_v1.4.0'!$H$5-moment_cd_relationship!A121)*((moment_cd_relationship!B121-moment_cd_relationship!B122)/(moment_cd_relationship!A121-moment_cd_relationship!A122))+moment_cd_relationship!B121)*'LiFFT_v1.4.0'!$J$5","v":-4.2529500000000011},{"$f":"(('LiFFT_v1.4.0'!$H$8-moment_cd_relationship!A121)*((moment_cd_relationship!B121-moment_cd_relationship!B122)/(moment_cd_relationship!A121-moment_cd_relationship!A122))+moment_cd_relationship!B121)*'LiFFT_v1.4.0'!$J$8","v":{"$error":"#VALUE!"}},{"$f":"(('LiFFT_v1.4.0'!$H$11-moment_cd_relationship!A121)*((moment_cd_relationship!B121-moment_cd_relationship!B122)/(moment_cd_relationship!A121-moment_cd_relationship!A122))+moment_cd_relationship!B121)*'LiFFT_v1.4.0'!$J$11","v":{"$error":"#VALUE!"}},{"$f":"(('LiFFT_v1.4.0'!$H$14-moment_cd_relationship!A121)*((moment_cd_relationship!B121-moment_cd_relationship!B122)/(moment_cd_relationship!A121-moment_cd_relationship!A122))+moment_cd_relationship!B121)*'LiFFT_v1.4.0'!$J$14","v":{"$error":"#VALUE!"}},{"$f":"(('LiFFT_v1.4.0'!$H$17-moment_cd_relationship!A121)*((moment_cd_relationship!B121-moment_cd_relationship!B122)/(moment_cd_relationship!A121-moment_cd_relationship!A122))+moment_cd_relationship!B121)*'LiFFT_v1.4.0'!$J$17","v":{"$error":"#VALUE!"}},{"$f":"(('LiFFT_v1.4.0'!$H$20-moment_cd_relationship!A121)*((moment_cd_relationship!B121-moment_cd_relationship!B122)/(moment_cd_relationship!A121-moment_cd_relationship!A122))+moment_cd_relationship!B121)*'LiFFT_v1.4.0'!$J$20","v":{"$error":"#VALUE!"}},{"$f":"(('LiFFT_v1.4.0'!$H$23-moment_cd_relationship!A121)*((moment_cd_relationship!B121-moment_cd_relationship!B122)/(moment_cd_relationship!A121-moment_cd_relationship!A122))+moment_cd_relationship!B121)*'LiFFT_v1.4.0'!$J$23","v":{"$error":"#VALUE!"}},{"$f":"(('LiFFT_v1.4.0'!$H$26-moment_cd_relationship!A121)*((moment_cd_relationship!B121-moment_cd_relationship!B122)/(moment_cd_relationship!A121-moment_cd_relationship!A122))+moment_cd_relationship!B121)*'LiFFT_v1.4.0'!$J$26","v":{"$error":"#VALUE!"}},{"$f":"(('LiFFT_v1.4.0'!$H$29-moment_cd_relationship!A121)*((moment_cd_relationship!B121-moment_cd_relationship!B122)/(moment_cd_relationship!A121-moment_cd_relationship!A122))+moment_cd_relationship!B121)*'LiFFT_v1.4.0'!$J$29","v":{"$error":"#VALUE!"}},{"$f":"(('LiFFT_v1.4.0'!$H$32-moment_cd_relationship!A121)*((moment_cd_relationship!B121-moment_cd_relationship!B122)/(moment_cd_relationship!A121-moment_cd_relationship!A122))+moment_cd_relationship!B121)*'LiFFT_v1.4.0'!$J$32","v":{"$error":"#VALUE!"}}]
[120,7.0500000000000001E-4,{"$f":"(('LiFFT_v1.4.0'!$H$5-moment_cd_relationship!A122)*((moment_cd_relationship!B122-moment_cd_relationship!B123)/(moment_cd_relationship!A122-moment_cd_relationship!A123))+moment_cd_relationship!B122)*'LiFFT_v1.4.0'!$J$5","v":-4.5337500000000075},{"$f":"(('LiFFT_v1.4.0'!$H$8-moment_cd_relationship!A122)*((moment_cd_relationship!B122-moment_cd_relationship!B123)/(moment_cd_relationship!A122-moment_cd_relationship!A123))+moment_cd_relationship!B122)*'LiFFT_v1.4.0'!$J$8","v":{"$error":"#VALUE!"}},{"$f":"(('LiFFT_v1.4.0'!$H$11-moment_cd_relationship!A122)*((moment_cd_relationship!B122-moment_cd_relationship!B123)/(moment_cd_relationship!A122-moment_cd_relationship!A123))+moment_cd_relationship!B122)*'LiFFT_v1.4.0'!$J$11","v":{"$error":"#VALUE!"}},{"$f":"(('LiFFT_v1.4.0'!$H$14-moment_cd_relationship!A122)*((moment_cd_relationship!B122-moment_cd_relationship!B123)/(moment_cd_relationship!A122-moment_cd_relationship!A123))+moment_cd_relationship!B122)*'LiFFT_v1.4.0'!$J$14","v":{"$error":"#VALUE!"}},{"$f":"(('LiFFT_v1.4.0'!$H$17-moment_cd_relationship!A122)*((moment_cd_relationship!B122-moment_cd_relationship!B123)/(moment_cd_relationship!A122-moment_cd_relationship!A123))+moment_cd_relationship!B122)*'LiFFT_v1.4.0'!$J$17","v":{"$error":"#VALUE!"}},{"$f":"(('LiFFT_v1.4.0'!$H$20-moment_cd_relationship!A122)*((moment_cd_relationship!B122-moment_cd_relationship!B123)/(moment_cd_relationship!A122-moment_cd_relationship!A123))+moment_cd_relationship!B122)*'LiFFT_v1.4.0'!$J$20","v":{"$error":"#VALUE!"}},{"$f":"(('LiFFT_v1.4.0'!$H$23-moment_cd_relationship!A122)*((moment_cd_relationship!B122-moment_cd_relationship!B123)/(moment_cd_relationship!A122-moment_cd_relationship!A123))+moment_cd_relationship!B122)*'LiFFT_v1.4.0'!$J$23","v":{"$error":"#VALUE!"}},{"$f":"(('LiFFT_v1.4.0'!$H$26-moment_cd_relationship!A122)*((moment_cd_relationship!B122-moment_cd_relationship!B123)/(moment_cd_relationship!A122-moment_cd_relationship!A123))+moment_cd_relationship!B122)*'LiFFT_v1.4.0'!$J$26","v":{"$error":"#VALUE!"}},{"$f":"(('LiFFT_v1.4.0'!$H$29-moment_cd_relationship!A122)*((moment_cd_relationship!B122-moment_cd_relationship!B123)/(moment_cd_relationship!A122-moment_cd_relationship!A123))+moment_cd_relationship!B122)*'LiFFT_v1.4.0'!$J$29","v":{"$error":"#VALUE!"}},{"$f":"(('LiFFT_v1.4.0'!$H$32-moment_cd_relationship!A122)*((moment_cd_relationship!B122-moment_cd_relationship!B123)/(moment_cd_relationship!A122-moment_cd_relationship!A123))+moment_cd_relationship!B122)*'LiFFT_v1.4.0'!$J$32","v":{"$error":"#VALUE!"}}]
[121,7.4240000000000005E-4,{"$f":"(('LiFFT_v1.4.0'!$H$5-moment_cd_relationship!A123)*((moment_cd_relationship!B123-moment_cd_relationship!B124)/(moment_cd_relationship!A123-moment_cd_relationship!A124))+moment_cd_relationship!B123)*'LiFFT_v1.4.0'!$J$5","v":-4.8330000000000064},{"$f":"(('LiFFT_v1.4.0'!$H$8-moment_cd_relationship!A123)*((moment_cd_relationship!B123-moment_cd_relationship!B124)/(moment_cd_relationship!A123-moment_cd_relationship!A124))+moment_cd_relationship!B123)*'LiFFT_v1.4.0'!$J$8","v":{"$error":"#VALUE!"}},{"$f":"(('LiFFT_v1.4.0'!$H$11-moment_cd_relationship!A123)*((moment_cd_relationship!B123-moment_cd_relationship!B124)/(moment_cd_relationship!A123-moment_cd_relationship!A124))+moment_cd_relationship!B123)*'LiFFT_v1.4.0'!$J$11","v":{"$error":"#VALUE!"}},{"$f":"(('LiFFT_v1.4.0'!$H$14-moment_cd_relationship!A123)*((moment_cd_relationship!B123-moment_cd_relationship!B124)/(moment_cd_relationship!A123-moment_cd_relationship!A124))+moment_cd_relationship!B123)*'LiFFT_v1.4.0'!$J$14","v":{"$error":"#VALUE!"}},{"$f":"(('LiFFT_v1.4.0'!$H$17-moment_cd_relationship!A123)*((moment_cd_relationship!B123-moment_cd_relationship!B124)/(moment_cd_relationship!A123-moment_cd_relationship!A124))+moment_cd_relationship!B123)*'LiFFT_v1.4.0'!$J$17","v":{"$error":"#VALUE!"}},{"$f":"(('LiFFT_v1.4.0'!$H$20-moment_cd_relationship!A123)*((moment_cd_relationship!B123-moment_cd_relationship!B124)/(moment_cd_relationship!A123-moment_cd_relationship!A124))+moment_cd_relationship!B123)*'LiFFT_v1.4.0'!$J$20","v":{"$error":"#VALUE!"}},{"$f":"(('LiFFT_v1.4.0'!$H$23-moment_cd_relationship!A123)*((moment_cd_relationship!B123-moment_cd_relationship!B124)/(moment_cd_relationship!A123-moment_cd_relationship!A124))+moment_cd_relationship!B123)*'LiFFT_v1.4.0'!$J$23","v":{"$error":"#VALUE!"}},{"$f":"(('LiFFT_v1.4.0'!$H$26-moment_cd_relationship!A123)*((moment_cd_relationship!B123-moment_cd_relationship!B124)/(moment_cd_relationship!A123-moment_cd_relationship!A124))+moment_cd_relationship!B123)*'LiFFT_v1.4.0'!$J$26","v":{"$error":"#VALUE!"}},{"$f":"(('LiFFT_v1.4.0'!$H$29-moment_cd_relationship!A123)*((moment_cd_relationship!B123-moment_cd_relationship!B124)/(moment_cd_relationship!A123-moment_cd_relationship!A124))+moment_cd_relationship!B123)*'LiFFT_v1.4.0'!$J$29","v":{"$error":"#VALUE!"}},{"$f":"(('LiFFT_v1.4.0'!$H$32-moment_cd_relationship!A123)*((moment_cd_relationship!B123-moment_cd_relationship!B124)/(moment_cd_relationship!A123-moment_cd_relationship!A124))+moment_cd_relationship!B123)*'LiFFT_v1.4.0'!$J$32","v":{"$error":"#VALUE!"}}]
[122,7.8180000000000003E-4,{"$f":"(('LiFFT_v1.4.0'!$H$5-moment_cd_relationship!A124)*((moment_cd_relationship!B124-moment_cd_relationship!B125)/(moment_cd_relationship!A124-moment_cd_relationship!A125))+moment_cd_relationship!B124)*'LiFFT_v1.4.0'!$J$5","v":-5.150999999999998},{"$f":"(('LiFFT_v1.4.0'!$H$8-moment_cd_relationship!A124)*((moment_cd_relationship!B124-moment_cd_relationship!B125)/(moment_cd_relationship!A124-moment_cd_relationship!A125))+moment_cd_relationship!B124)*'LiFFT_v1.4.0'!$J$8","v":{"$error":"#VALUE!"}},{"$f":"(('LiFFT_v1.4.0'!$H$11-moment_cd_relationship!A124)*((moment_cd_relationship!B124-moment_cd_relationship!B125)/(moment_cd_relationship!A124-moment_cd_relationship!A125))+moment_cd_relationship!B124)*'LiFFT_v1.4.0'!$J$11","v":{"$error":"#VALUE!"}},{"$f":"(('LiFFT_v1.4.0'!$H$14-moment_cd_relationship!A124)*((moment_cd_relationship!B124-moment_cd_relationship!B125)/(moment_cd_relationship!A124-moment_cd_relationship!A125))+moment_cd_relationship!B124)*'LiFFT_v1.4.0'!$J$14","v":{"$error":"#VALUE!"}},{"$f":"(('LiFFT_v1.4.0'!$H$17-moment_cd_relationship!A124)*((moment_cd_relationship!B124-moment_cd_relationship!B125)/(moment_cd_relationship!A124-moment_cd_relationship!A125))+moment_cd_relationship!B124)*'LiFFT_v1.4.0'!$J$17","v":{"$error":"#VALUE!"}},{"$f":"(('LiFFT_v1.4.0'!$H$20-moment_cd_relationship!A124)*((moment_cd_relationship!B124-moment_cd_relationship!B125)/(moment_cd_relationship!A124-moment_cd_relationship!A125))+moment_cd_relationship!B124)*'LiFFT_v1.4.0'!$J$20","v":{"$error":"#VALUE!"}},{"$f":"(('LiFFT_v1.4.0'!$H$23-moment_cd_relationship!A124)*((moment_cd_relationship!B124-moment_cd_relationship!B125)/(moment_cd_relationship!A124-moment_cd_relationship!A125))+moment_cd_relationship!B124)*'LiFFT_v1.4.0'!$J$23","v":{"$error":"#VALUE!"}},{"$f":"(('LiFFT_v1.4.0'!$H$26-moment_cd_relationship!A124)*((moment_cd_relationship!B124-moment_cd_relationship!B125)/(moment_cd_relationship!A124-moment_cd_relationship!A125))+moment_cd_relationship!B124)*'LiFFT_v1.4.0'!$J$26","v":{"$error":"#VALUE!"}},{"$f":"(('LiFFT_v1.4.0'!$H$29-moment_cd_relationship!A124)*((moment_cd_relationship!B124-moment_cd_relationship!B125)/(moment_cd_relationship!A124-moment_cd_relationship!A125))+moment_cd_relationship!B124)*'LiFFT_v1.4.0'!$J$29","v":{"$error":"#VALUE!"}},{"$f":"(('LiFFT_v1.4.0'!$H$32-moment_cd_relationship!A124)*((moment_cd_relationship!B124-moment_cd_relationship!B125)/(moment_cd_relationship!A124-moment_cd_relationship!A125))+moment_cd_relationship!B124)*'LiFFT_v1.4.0'!$J$32","v":{"$error":"#VALUE!"}}]
[123,8.2339999999999996E-4,{"$f":"(('LiFFT_v1.4.0'!$H$5-moment_cd_relationship!A125)*((moment_cd_relationship!B125-moment_cd_relationship!B126)/(moment_cd_relationship!A125-moment_cd_relationship!A126))+moment_cd_relationship!B125)*'LiFFT_v1.4.0'!$J$5","v":-5.5040999999999878},{"$f":"(('LiFFT_v1.4.0'!$H$8-moment_cd_relationship!A125)*((moment_cd_relationship!B125-moment_cd_relationship!B126)/(moment_cd_relationship!A125-moment_cd_relationship!A126))+moment_cd_relationship!B125)*'LiFFT_v1.4.0'!$J$8","v":{"$error":"#VALUE!"}},{"$f":"(('LiFFT_v1.4.0'!$H$11-moment_cd_relationship!A125)*((moment_cd_relationship!B125-moment_cd_relationship!B126)/(moment_cd_relationship!A125-moment_cd_relationship!A126))+moment_cd_relationship!B125)*'LiFFT_v1.4.0'!$J$11","v":{"$error":"#VALUE!"}},{"$f":"(('LiFFT_v1.4.0'!$H$14-moment_cd_relationship!A125)*((moment_cd_relationship!B125-moment_cd_relationship!B126)/(moment_cd_relationship!A125-moment_cd_relationship!A126))+moment_cd_relationship!B125)*'LiFFT_v1.4.0'!$J$14","v":{"$error":"#VALUE!"}},{"$f":"(('LiFFT_v1.4.0'!$H$17-moment_cd_relationship!A125)*((moment_cd_relationship!B125-moment_cd_relationship!B126)/(moment_cd_relationship!A125-moment_cd_relationship!A126))+moment_cd_relationship!B125)*'LiFFT_v1.4.0'!$J$17","v":{"$error":"#VALUE!"}},{"$f":"(('LiFFT_v1.4.0'!$H$20-moment_cd_relationship!A125)*((moment_cd_relationship!B125-moment_cd_relationship!B126)/(moment_cd_relationship!A125-moment_cd_relationship!A126))+moment_cd_relationship!B125)*'LiFFT_v1.4.0'!$J$20","v":{"$error":"#VALUE!"}},{"$f":"(('LiFFT_v1.4.0'!$H$23-moment_cd_relationship!A125)*((moment_cd_relationship!B125-moment_cd_relationship!B126)/(moment_cd_relationship!A125-moment_cd_relationship!A126))+moment_cd_relationship!B125)*'LiFFT_v1.4.0'!$J$23","v":{"$error":"#VALUE!"}},{"$f":"(('LiFFT_v1.4.0'!$H$26-moment_cd_relationship!A125)*((moment_cd_relationship!B125-moment_cd_relationship!B126)/(moment_cd_relationship!A125-moment_cd_relationship!A126))+moment_cd_relationship!B125)*'LiFFT_v1.4.0'!$J$26","v":{"$error":"#VALUE!"}},{"$f":"(('LiFFT_v1.4.0'!$H$29-moment_cd_relationship!A125)*((moment_cd_relationship!B125-moment_cd_relationship!B126)/(moment_cd_relationship!A125-moment_cd_relationship!A126))+moment_cd_relationship!B125)*'LiFFT_v1.4.0'!$J$29","v":{"$error":"#VALUE!"}},{"$f":"(('LiFFT_v1.4.0'!$H$32-moment_cd_relationship!A125)*((moment_cd_relationship!B125-moment_cd_relationship!B126)/(moment_cd_relationship!A125-moment_cd_relationship!A126))+moment_cd_relationship!B125)*'LiFFT_v1.4.0'!$J$32","v":{"$error":"#VALUE!"}}]
[124,8.6709999999999999E-4,{"$f":"(('LiFFT_v1.4.0'!$H$5-moment_cd_relationship!A126)*((moment_cd_relationship!B126-moment_cd_relationship!B127)/(moment_cd_relationship!A126-moment_cd_relationship!A127))+moment_cd_relationship!B126)*'LiFFT_v1.4.0'!$J$5","v":-5.8443000000000049},{"$f":"(('LiFFT_v1.4.0'!$H$8-moment_cd_relationship!A126)*((moment_cd_relationship!B126-moment_cd_relationship!B127)/(moment_cd_relationship!A126-moment_cd_relationship!A127))+moment_cd_relationship!B126)*'LiFFT_v1.4.0'!$J$8","v":{"$error":"#VALUE!"}},{"$f":"(('LiFFT_v1.4.0'!$H$11-moment_cd_relationship!A126)*((moment_cd_relationship!B126-moment_cd_relationship!B127)/(moment_cd_relationship!A126-moment_cd_relationship!A127))+moment_cd_relationship!B126)*'LiFFT_v1.4.0'!$J$11","v":{"$error":"#VALUE!"}},{"$f":"(('LiFFT_v1.4.0'!$H$14-moment_cd_relationship!A126)*((moment_cd_relationship!B126-moment_cd_relationship!B127)/(moment_cd_relationship!A126-moment_cd_relationship!A127))+moment_cd_relationship!B126)*'LiFFT_v1.4.0'!$J$14","v":{"$error":"#VALUE!"}},{"$f":"(('LiFFT_v1.4.0'!$H$17-moment_cd_relationship!A126)*((moment_cd_relationship!B126-moment_cd_relationship!B127)/(moment_cd_relationship!A126-moment_cd_relationship!A127))+moment_cd_relationship!B126)*'LiFFT_v1.4.0'!$J$17","v":{"$error":"#VALUE!"}},{"$f":"(('LiFFT_v1.4.0'!$H$20-moment_cd_relationship!A126)*((moment_cd_relationship!B126-moment_cd_relationship!B127)/(moment_cd_relationship!A126-moment_cd_relationship!A127))+moment_cd_relationship!B126)*'LiFFT_v1.4.0'!$J$20","v":{"$error":"#VALUE!"}},{"$f":"(('LiFFT_v1.4.0'!$H$23-moment_cd_relationship!A126)*((moment_cd_relationship!B126-moment_cd_relationship!B127)/(moment_cd_relationship!A126-moment_cd_relationship!A127))+moment_cd_relationship!B126)*'LiFFT_v1.4.0'!$J$23","v":{"$error":"#VALUE!"}},{"$f":"(('LiFFT_v1.4.0'!$H$26-moment_cd_relationship!A126)*((moment_cd_relationship!B126-moment_cd_relationship!B127)/(moment_cd_relationship!A126-moment_cd_relationship!A127))+moment_cd_relationship!B126)*'LiFFT_v1.4.0'!$J$26","v":{"$error":"#VALUE!"}},{"$f":"(('LiFFT_v1.4.0'!$H$29-moment_cd_relationship!A126)*((moment_cd_relationship!B126-moment_cd_relationship!B127)/(moment_cd_relationship!A126-moment_cd_relationship!A127))+moment_cd_relationship!B126)*'LiFFT_v1.4.0'!$J$29","v":{"$error":"#VALUE!"}},{"$f":"(('LiFFT_v1.4.0'!$H$32-moment_cd_relationship!A126)*((moment_cd_relationship!B126-moment_cd_relationship!B127)/(moment_cd_relationship!A126-moment_cd_relationship!A127))+moment_cd_relationship!B126)*'LiFFT_v1.4.0'!$J$32","v":{"$error":"#VALUE!"}}]
[125,9.1319999999999997E-4,{"$f":"(('LiFFT_v1.4.0'!$H$5-moment_cd_relationship!A127)*((moment_cd_relationship!B127-moment_cd_relationship!B128)/(moment_cd_relationship!A127-moment_cd_relationship!A128))+moment_cd_relationship!B127)*'LiFFT_v1.4.0'!$J$5","v":-6.2366999999999972},{"$f":"(('LiFFT_v1.4.0'!$H$8-moment_cd_relationship!A127)*((moment_cd_relationship!B127-moment_cd_relationship!B128)/(moment_cd_relationship!A127-moment_cd_relationship!A128))+moment_cd_relationship!B127)*'LiFFT_v1.4.0'!$J$8","v":{"$error":"#VALUE!"}},{"$f":"(('LiFFT_v1.4.0'!$H$11-moment_cd_relationship!A127)*((moment_cd_relationship!B127-moment_cd_relationship!B128)/(moment_cd_relationship!A127-moment_cd_relationship!A128))+moment_cd_relationship!B127)*'LiFFT_v1.4.0'!$J$11","v":{"$error":"#VALUE!"}},{"$f":"(('LiFFT_v1.4.0'!$H$14-moment_cd_relationship!A127)*((moment_cd_relationship!B127-moment_cd_relationship!B128)/(moment_cd_relationship!A127-moment_cd_relationship!A128))+moment_cd_relationship!B127)*'LiFFT_v1.4.0'!$J$14","v":{"$error":"#VALUE!"}},{"$f":"(('LiFFT_v1.4.0'!$H$17-moment_cd_relationship!A127)*((moment_cd_relationship!B127-moment_cd_relationship!B128)/(moment_cd_relationship!A127-moment_cd_relationship!A128))+moment_cd_relationship!B127)*'LiFFT_v1.4.0'!$J$17","v":{"$error":"#VALUE!"}},{"$f":"(('LiFFT_v1.4.0'!$H$20-moment_cd_relationship!A127)*((moment_cd_relationship!B127-moment_cd_relationship!B128)/(moment_cd_relationship!A127-moment_cd_relationship!A128))+moment_cd_relationship!B127)*'LiFFT_v1.4.0'!$J$20","v":{"$error":"#VALUE!"}},{"$f":"(('LiFFT_v1.4.0'!$H$23-moment_cd_relationship!A127)*((moment_cd_relationship!B127-moment_cd_relationship!B128)/(moment_cd_relationship!A127-moment_cd_relationship!A128))+moment_cd_relationship!B127)*'LiFFT_v1.4.0'!$J$23","v":{"$error":"#VALUE!"}},{"$f":"(('LiFFT_v1.4.0'!$H$26-moment_cd_relationship!A127)*((moment_cd_relationship!B127-moment_cd_relationship!B128)/(moment_cd_relationship!A127-moment_cd_relationship!A128))+moment_cd_relationship!B127)*'LiFFT_v1.4.0'!$J$26","v":{"$error":"#VALUE!"}},{"$f":"(('LiFFT_v1.4.0'!$H$29-moment_cd_relationship!A127)*((moment_cd_relationship!B127-moment_cd_relationship!B128)/(moment_cd_relationship!A127-moment_cd_relationship!A128))+moment_cd_relationship!B127)*'LiFFT_v1.4.0'!$J$29","v":{"$error":"#VALUE!"}},{"$f":"(('LiFFT_v1.4.0'!$H$32-moment_cd_relationship!A127)*((moment_cd_relationship!B127-moment_cd_relationship!B128)/(moment_cd_relationship!A127-moment_cd_relationship!A128))+moment_cd_relationship!B127)*'LiFFT_v1.4.0'!$J$32","v":{"$error":"#VALUE!"}}]
[126,9.6170000000000001E-4,{"$f":"(('LiFFT_v1.4.0'!$H$5-moment_cd_relationship!A128)*((moment_cd_relationship!B128-moment_cd_relationship!B129)/(moment_cd_relationship!A128-moment_cd_relationship!A129))+moment_cd_relationship!B128)*'LiFFT_v1.4.0'!$J$5","v":-6.6327000000000069},{"$f":"(('LiFFT_v1.4.0'!$H$8-moment_cd_relationship!A128)*((moment_cd_relationship!B128-moment_cd_relationship!B129)/(moment_cd_relationship!A128-moment_cd_relationship!A129))+moment_cd_relationship!B128)*'LiFFT_v1.4.0'!$J$8","v":{"$error":"#VALUE!"}},{"$f":"(('LiFFT_v1.4.0'!$H$11-moment_cd_relationship!A128)*((moment_cd_relationship!B128-moment_cd_relationship!B129)/(moment_cd_relationship!A128-moment_cd_relationship!A129))+moment_cd_relationship!B128)*'LiFFT_v1.4.0'!$J$11","v":{"$error":"#VALUE!"}},{"$f":"(('LiFFT_v1.4.0'!$H$14-moment_cd_relationship!A128)*((moment_cd_relationship!B128-moment_cd_relationship!B129)/(moment_cd_relationship!A128-moment_cd_relationship!A129))+moment_cd_relationship!B128)*'LiFFT_v1.4.0'!$J$14","v":{"$error":"#VALUE!"}},{"$f":"(('LiFFT_v1.4.0'!$H$17-moment_cd_relationship!A128)*((moment_cd_relationship!B128-moment_cd_relationship!B129)/(moment_cd_relationship!A128-moment_cd_relationship!A129))+moment_cd_relationship!B128)*'LiFFT_v1.4.0'!$J$17","v":{"$error":"#VALUE!"}},{"$f":"(('LiFFT_v1.4.0'!$H$20-moment_cd_relationship!A128)*((moment_cd_relationship!B128-moment_cd_relationship!B129)/(moment_cd_relationship!A128-moment_cd_relationship!A129))+moment_cd_relationship!B128)*'LiFFT_v1.4.0'!$J$20","v":{"$error":"#VALUE!"}},{"$f":"(('LiFFT_v1.4.0'!$H$23-moment_cd_relationship!A128)*((moment_cd_relationship!B128-moment_cd_relationship!B129)/(moment_cd_relationship!A128-moment_cd_relationship!A129))+moment_cd_relationship!B128)*'LiFFT_v1.4.0'!$J$23","v":{"$error":"#VALUE!"}},{"$f":"(('LiFFT_v1.4.0'!$H$26-moment_cd_relationship!A128)*((moment_cd_relationship!B128-moment_cd_relationship!B129)/(moment_cd_relationship!A128-moment_cd_relationship!A129))+moment_cd_relationship!B128)*'LiFFT_v1.4.0'!$J$26","v":{"$error":"#VALUE!"}},{"$f":"(('LiFFT_v1.4.0'!$H$29-moment_cd_relationship!A128)*((moment_cd_relationship!B128-moment_cd_relationship!B129)/(moment_cd_relationship!A128-moment_cd_relationship!A129))+moment_cd_relationship!B128)*'LiFFT_v1.4.0'!$J$29","v":{"$error":"#VALUE!"}},{"$f":"(('LiFFT_v1.4.0'!$H$32-moment_cd_relationship!A128)*((moment_cd_relationship!B128-moment_cd_relationship!B129)/(moment_cd_relationship!A128-moment_cd_relationship!A129))+moment_cd_relationship!B128)*'LiFFT_v1.4.0'!$J$32","v":{"$error":"#VALUE!"}}]
[127,1.0127999999999999E-3,{"$f":"(('LiFFT_v1.4.0'!$H$5-moment_cd_relationship!A129)*((moment_cd_relationship!B129-moment_cd_relationship!B130)/(moment_cd_relationship!A129-moment_cd_relationship!A130))+moment_cd_relationship!B129)*'LiFFT_v1.4.0'!$J$5","v":-7.0655999999999803},{"$f":"(('LiFFT_v1.4.0'!$H$8-moment_cd_relationship!A129)*((moment_cd_relationship!B129-moment_cd_relationship!B130)/(moment_cd_relationship!A129-moment_cd_relationship!A130))+moment_cd_relationship!B129)*'LiFFT_v1.4.0'!$J$8","v":{"$error":"#VALUE!"}},{"$f":"(('LiFFT_v1.4.0'!$H$11-moment_cd_relationship!A129)*((moment_cd_relationship!B129-moment_cd_relationship!B130)/(moment_cd_relationship!A129-moment_cd_relationship!A130))+moment_cd_relationship!B129)*'LiFFT_v1.4.0'!$J$11","v":{"$error":"#VALUE!"}},{"$f":"(('LiFFT_v1.4.0'!$H$14-moment_cd_relationship!A129)*((moment_cd_relationship!B129-moment_cd_relationship!B130)/(moment_cd_relationship!A129-moment_cd_relationship!A130))+moment_cd_relationship!B129)*'LiFFT_v1.4.0'!$J$14","v":{"$error":"#VALUE!"}},{"$f":"(('LiFFT_v1.4.0'!$H$17-moment_cd_relationship!A129)*((moment_cd_relationship!B129-moment_cd_relationship!B130)/(moment_cd_relationship!A129-moment_cd_relationship!A130))+moment_cd_relationship!B129)*'LiFFT_v1.4.0'!$J$17","v":{"$error":"#VALUE!"}},{"$f":"(('LiFFT_v1.4.0'!$H$20-moment_cd_relationship!A129)*((moment_cd_relationship!B129-moment_cd_relationship!B130)/(moment_cd_relationship!A129-moment_cd_relationship!A130))+moment_cd_relationship!B129)*'LiFFT_v1.4.0'!$J$20","v":{"$error":"#VALUE!"}},{"$f":"(('LiFFT_v1.4.0'!$H$23-moment_cd_relationship!A129)*((moment_cd_relationship!B129-moment_cd_relationship!B130)/(moment_cd_relationship!A129-moment_cd_relationship!A130))+moment_cd_relationship!B129)*'LiFFT_v1.4.0'!$J$23","v":{"$error":"#VALUE!"}},{"$f":"(('LiFFT_v1.4.0'!$H$26-moment_cd_relationship!A129)*((moment_cd_relationship!B129-moment_cd_relationship!B130)/(moment_cd_relationship!A129-moment_cd_relationship!A130))+moment_cd_relationship!B129)*'LiFFT_v1.4.0'!$J$26","v":{"$error":"#VALUE!"}},{"$f":"(('LiFFT_v1.4.0'!$H$29-moment_cd_relationship!A129)*((moment_cd_relationship!B129-moment_cd_relationship!B130)/(moment_cd_relationship!A129-moment_cd_relationship!A130))+moment_cd_relationship!B129)*'LiFFT_v1.4.0'!$J$29","v":{"$error":"#VALUE!"}},{"$f":"(('LiFFT_v1.4.0'!$H$32-moment_cd_relationship!A129)*((moment_cd_relationship!B129-moment_cd_relationship!B130)/(moment_cd_relationship!A129-moment_cd_relationship!A130))+moment_cd_relationship!B129)*'LiFFT_v1.4.0'!$J$32","v":{"$error":"#VALUE!"}}]
[128,1.0667000000000001E-3,{"$f":"(('LiFFT_v1.4.0'!$H$5-moment_cd_relationship!A130)*((moment_cd_relationship!B130-moment_cd_relationship!B131)/(moment_cd_relationship!A130-moment_cd_relationship!A131))+moment_cd_relationship!B130)*'LiFFT_v1.4.0'!$J$5","v":-7.5360000000000298},{"$f":"(('LiFFT_v1.4.0'!$H$8-moment_cd_relationship!A130)*((moment_cd_relationship!B130-moment_cd_relationship!B131)/(moment_cd_relationship!A130-moment_cd_relationship!A131))+moment_cd_relationship!B130)*'LiFFT_v1.4.0'!$J$8","v":{"$error":"#VALUE!"}},{"$f":"(('LiFFT_v1.4.0'!$H$11-moment_cd_relationship!A130)*((moment_cd_relationship!B130-moment_cd_relationship!B131)/(moment_cd_relationship!A130-moment_cd_relationship!A131))+moment_cd_relationship!B130)*'LiFFT_v1.4.0'!$J$11","v":{"$error":"#VALUE!"}},{"$f":"(('LiFFT_v1.4.0'!$H$14-moment_cd_relationship!A130)*((moment_cd_relationship!B130-moment_cd_relationship!B131)/(moment_cd_relationship!A130-moment_cd_relationship!A131))+moment_cd_relationship!B130)*'LiFFT_v1.4.0'!$J$14","v":{"$error":"#VALUE!"}},{"$f":"(('LiFFT_v1.4.0'!$H$17-moment_cd_relationship!A130)*((moment_cd_relationship!B130-moment_cd_relationship!B131)/(moment_cd_relationship!A130-moment_cd_relationship!A131))+moment_cd_relationship!B130)*'LiFFT_v1.4.0'!$J$17","v":{"$error":"#VALUE!"}},{"$f":"(('LiFFT_v1.4.0'!$H$20-moment_cd_relationship!A130)*((moment_cd_relationship!B130-moment_cd_relationship!B131)/(moment_cd_relationship!A130-moment_cd_relationship!A131))+moment_cd_relationship!B130)*'LiFFT_v1.4.0'!$J$20","v":{"$error":"#VALUE!"}},{"$f":"(('LiFFT_v1.4.0'!$H$23-moment_cd_relationship!A130)*((moment_cd_relationship!B130-moment_cd_relationship!B131)/(moment_cd_relationship!A130-moment_cd_relationship!A131))+moment_cd_relationship!B130)*'LiFFT_v1.4.0'!$J$23","v":{"$error":"#VALUE!"}},{"$f":"(('LiFFT_v1.4.0'!$H$26-moment_cd_relationship!A130)*((moment_cd_relationship!B130-moment_cd_relationship!B131)/(moment_cd_relationship!A130-moment_cd_relationship!A131))+moment_cd_relationship!B130)*'LiFFT_v1.4.0'!$J$26","v":{"$error":"#VALUE!"}},{"$f":"(('LiFFT_v1.4.0'!$H$29-moment_cd_relationship!A130)*((moment_cd_relationship!B130-moment_cd_relationship!B131)/(moment_cd_relationship!A130-moment_cd_relationship!A131))+moment_cd_relationship!B130)*'LiFFT_v1.4.0'!$J$29","v":{"$error":"#VALUE!"}},{"$f":"(('LiFFT_v1.4.0'!$H$32-moment_cd_relationship!A130)*((moment_cd_relationship!B130-moment_cd_relationship!B131)/(moment_cd_relationship!A130-moment_cd_relationship!A131))+moment_cd_relationship!B130)*'LiFFT_v1.4.0'!$J$32","v":{"$error":"#VALUE!"}}]
[129,1.1234999999999999E-3,{"$f":"(('LiFFT_v1.4.0'!$H$5-moment_cd_relationship!A131)*((moment_cd_relationship!B131-moment_cd_relationship!B132)/(moment_cd_relationship!A131-moment_cd_relationship!A132))+moment_cd_relationship!B131)*'LiFFT_v1.4.0'!$J$5","v":-8.0275499999999766},{"$f":"(('LiFFT_v1.4.0'!$H$8-moment_cd_relationship!A131)*((moment_cd_relationship!B131-moment_cd_relationship!B132)/(moment_cd_relationship!A131-moment_cd_relationship!A132))+moment_cd_relationship!B131)*'LiFFT_v1.4.0'!$J$8","v":{"$error":"#VALUE!"}},{"$f":"(('LiFFT_v1.4.0'!$H$11-moment_cd_relationship!A131)*((moment_cd_relationship!B131-moment_cd_relationship!B132)/(moment_cd_relationship!A131-moment_cd_relationship!A132))+moment_cd_relationship!B131)*'LiFFT_v1.4.0'!$J$11","v":{"$error":"#VALUE!"}},{"$f":"(('LiFFT_v1.4.0'!$H$14-moment_cd_relationship!A131)*((moment_cd_relationship!B131-moment_cd_relationship!B132)/(moment_cd_relationship!A131-moment_cd_relationship!A132))+moment_cd_relationship!B131)*'LiFFT_v1.4.0'!$J$14","v":{"$error":"#VALUE!"}},{"$f":"(('LiFFT_v1.4.0'!$H$17-moment_cd_relationship!A131)*((moment_cd_relationship!B131-moment_cd_relationship!B132)/(moment_cd_relationship!A131-moment_cd_relationship!A132))+moment_cd_relationship!B131)*'LiFFT_v1.4.0'!$J$17","v":{"$error":"#VALUE!"}},{"$f":"(('LiFFT_v1.4.0'!$H$20-moment_cd_relationship!A131)*((moment_cd_relationship!B131-moment_cd_relationship!B132)/(moment_cd_relationship!A131-moment_cd_relationship!A132))+moment_cd_relationship!B131)*'LiFFT_v1.4.0'!$J$20","v":{"$error":"#VALUE!"}},{"$f":"(('LiFFT_v1.4.0'!$H$23-moment_cd_relationship!A131)*((moment_cd_relationship!B131-moment_cd_relationship!B132)/(moment_cd_relationship!A131-moment_cd_relationship!A132))+moment_cd_relationship!B131)*'LiFFT_v1.4.0'!$J$23","v":{"$error":"#VALUE!"}},{"$f":"(('LiFFT_v1.4.0'!$H$26-moment_cd_relationship!A131)*((moment_cd_relationship!B131-moment_cd_relationship!B132)/(moment_cd_relationship!A131-moment_cd_relationship!A132))+moment_cd_relationship!B131)*'LiFFT_v1.4.0'!$J$26","v":{"$error":"#VALUE!"}},{"$f":"(('LiFFT_v1.4.0'!$H$29-moment_cd_relationship!A131)*((moment_cd_relationship!B131-moment_cd_relationship!B132)/(moment_cd_relationship!A131-moment_cd_relationship!A132))+moment_cd_relationship!B131)*'LiFFT_v1.4.0'!$J$29","v":{"$error":"#VALUE!"}},{"$f":"(('LiFFT_v1.4.0'!$H$32-moment_cd_relationship!A131)*((moment_cd_relationship!B131-moment_cd_relationship!B132)/(moment_cd_relationship!A131-moment_cd_relationship!A132))+moment_cd_relationship!B131)*'LiFFT_v1.4.0'!$J$32","v":{"$error":"#VALUE!"}}]
[130,1.1831999999999999E-3,{"$f":"(('LiFFT_v1.4.0'!$H$5-moment_cd_relationship!A132)*((moment_cd_relationship!B132-moment_cd_relationship!B133)/(moment_cd_relationship!A132-moment_cd_relationship!A133))+moment_cd_relationship!B132)*'LiFFT_v1.4.0'!$J$5","v":-8.5234499999999986},{"$f":"(('LiFFT_v1.4.0'!$H$8-moment_cd_relationship!A132)*((moment_cd_relationship!B132-moment_cd_relationship!B133)/(moment_cd_relationship!A132-moment_cd_relationship!A133))+moment_cd_relationship!B132)*'LiFFT_v1.4.0'!$J$8","v":{"$error":"#VALUE!"}},{"$f":"(('LiFFT_v1.4.0'!$H$11-moment_cd_relationship!A132)*((moment_cd_relationship!B132-moment_cd_relationship!B133)/(moment_cd_relationship!A132-moment_cd_relationship!A133))+moment_cd_relationship!B132)*'LiFFT_v1.4.0'!$J$11","v":{"$error":"#VALUE!"}},{"$f":"(('LiFFT_v1.4.0'!$H$14-moment_cd_relationship!A132)*((moment_cd_relationship!B132-moment_cd_relationship!B133)/(moment_cd_relationship!A132-moment_cd_relationship!A133))+moment_cd_relationship!B132)*'LiFFT_v1.4.0'!$J$14","v":{"$error":"#VALUE!"}},{"$f":"(('LiFFT_v1.4.0'!$H$17-moment_cd_relationship!A132)*((moment_cd_relationship!B132-moment_cd_relationship!B133)/(moment_cd_relationship!A132-moment_cd_relationship!A133))+moment_cd_relationship!B132)*'LiFFT_v1.4.0'!$J$17","v":{"$error":"#VALUE!"}},{"$f":"(('LiFFT_v1.4.0'!$H$20-moment_cd_relationship!A132)*((moment_cd_relationship!B132-moment_cd_relationship!B133)/(moment_cd_relationship!A132-moment_cd_relationship!A133))+moment_cd_relationship!B132)*'LiFFT_v1.4.0'!$J$20","v":{"$error":"#VALUE!"}},{"$f":"(('LiFFT_v1.4.0'!$H$23-moment_cd_relationship!A132)*((moment_cd_relationship!B132-moment_cd_relationship!B133)/(moment_cd_relationship!A132-moment_cd_relationship!A133))+moment_cd_relationship!B132)*'LiFFT_v1.4.0'!$J$23","v":{"$error":"#VALUE!"}},{"$f":"(('LiFFT_v1.4.0'!$H$26-moment_cd_relationship!A132)*((moment_cd_relationship!B132-moment_cd_relationship!B133)/(moment_cd_relationship!A132-moment_cd_relationship!A133))+moment_cd_relationship!B132)*'LiFFT_v1.4.0'!$J$26","v":{"$error":"#VALUE!"}},{"$f":"(('LiFFT_v1.4.0'!$H$29-moment_cd_relationship!A132)*((moment_cd_relationship!B132-moment_cd_relationship!B133)/(moment_cd_relationship!A132-moment_cd_relationship!A133))+moment_cd_relationship!B132)*'LiFFT_v1.4.0'!$J$29","v":{"$error":"#VALUE!"}},{"$f":"(('LiFFT_v1.4.0'!$H$32-moment_cd_relationship!A132)*((moment_cd_relationship!B132-moment_cd_relationship!B133)/(moment_cd_relationship!A132-moment_cd_relationship!A133))+moment_cd_relationship!B132)*'LiFFT_v1.4.0'!$J$32","v":{"$error":"#VALUE!"}}]
[131,1.2462E-3,{"$f":"(('LiFFT_v1.4.0'!$H$5-moment_cd_relationship!A133)*((moment_cd_relationship!B133-moment_cd_relationship!B134)/(moment_cd_relationship!A133-moment_cd_relationship!A134))+moment_cd_relationship!B133)*'LiFFT_v1.4.0'!$J$5","v":-9.0927000000000202},{"$f":"(('LiFFT_v1.4.0'!$H$8-moment_cd_relationship!A133)*((moment_cd_relationship!B133-moment_cd_relationship!B134)/(moment_cd_relationship!A133-moment_cd_relationship!A134))+moment_cd_relationship!B133)*'LiFFT_v1.4.0'!$J$8","v":{"$error":"#VALUE!"}},{"$f":"(('LiFFT_v1.4.0'!$H$11-moment_cd_relationship!A133)*((moment_cd_relationship!B133-moment_cd_relationship!B134)/(moment_cd_relationship!A133-moment_cd_relationship!A134))+moment_cd_relationship!B133)*'LiFFT_v1.4.0'!$J$11","v":{"$error":"#VALUE!"}},{"$f":"(('LiFFT_v1.4.0'!$H$14-moment_cd_relationship!A133)*((moment_cd_relationship!B133-moment_cd_relationship!B134)/(moment_cd_relationship!A133-moment_cd_relationship!A134))+moment_cd_relationship!B133)*'LiFFT_v1.4.0'!$J$14","v":{"$error":"#VALUE!"}},{"$f":"(('LiFFT_v1.4.0'!$H$17-moment_cd_relationship!A133)*((moment_cd_relationship!B133-moment_cd_relationship!B134)/(moment_cd_relationship!A133-moment_cd_relationship!A134))+moment_cd_relationship!B133)*'LiFFT_v1.4.0'!$J$17","v":{"$error":"#VALUE!"}},{"$f":"(('LiFFT_v1.4.0'!$H$20-moment_cd_relationship!A133)*((moment_cd_relationship!B133-moment_cd_relationship!B134)/(moment_cd_relationship!A133-moment_cd_relationship!A134))+moment_cd_relationship!B133)*'LiFFT_v1.4.0'!$J$20","v":{"$error":"#VALUE!"}},{"$f":"(('LiFFT_v1.4.0'!$H$23-moment_cd_relationship!A133)*((moment_cd_relationship!B133-moment_cd_relationship!B134)/(moment_cd_relationship!A133-moment_cd_relationship!A134))+moment_cd_relationship!B133)*'LiFFT_v1.4.0'!$J$23","v":{"$error":"#VALUE!"}},{"$f":"(('LiFFT_v1.4.0'!$H$26-moment_cd_relationship!A133)*((moment_cd_relationship!B133-moment_cd_relationship!B134)/(moment_cd_relationship!A133-moment_cd_relationship!A134))+moment_cd_relationship!B133)*'LiFFT_v1.4.0'!$J$26","v":{"$error":"#VALUE!"}},{"$f":"(('LiFFT_v1.4.0'!$H$29-moment_cd_relationship!A133)*((moment_cd_relationship!B133-moment_cd_relationship!B134)/(moment_cd_relationship!A133-moment_cd_relationship!A134))+moment_cd_relationship!B133)*'LiFFT_v1.4.0'!$J$29","v":{"$error":"#VALUE!"}},{"$f":"(('LiFFT_v1.4.0'!$H$32-moment_cd_relationship!A133)*((moment_cd_relationship!B133-moment_cd_relationship!B134)/(moment_cd_relationship!A133-moment_cd_relationship!A134))+moment_cd_relationship!B133)*'LiFFT_v1.4.0'!$J$32","v":{"$error":"#VALUE!"}}]
[132,1.3125999999999999E-3,{"$f":"(('LiFFT_v1.4.0'!$H$5-moment_cd_relationship!A134)*((moment_cd_relationship!B134-moment_cd_relationship!B135)/(moment_cd_relationship!A134-moment_cd_relationship!A135))+moment_cd_relationship!B134)*'LiFFT_v1.4.0'!$J$5","v":-9.684299999999979},{"$f":"(('LiFFT_v1.4.0'!$H$8-moment_cd_relationship!A134)*((moment_cd_relationship!B134-moment_cd_relationship!B135)/(moment_cd_relationship!A134-moment_cd_relationship!A135))+moment_cd_relationship!B134)*'LiFFT_v1.4.0'!$J$8","v":{"$error":"#VALUE!"}},{"$f":"(('LiFFT_v1.4.0'!$H$11-moment_cd_relationship!A134)*((moment_cd_relationship!B134-moment_cd_relationship!B135)/(moment_cd_relationship!A134-moment_cd_relationship!A135))+moment_cd_relationship!B134)*'LiFFT_v1.4.0'!$J$11","v":{"$error":"#VALUE!"}},{"$f":"(('LiFFT_v1.4.0'!$H$14-moment_cd_relationship!A134)*((moment_cd_relationship!B134-moment_cd_relationship!B135)/(moment_cd_relationship!A134-moment_cd_relationship!A135))+moment_cd_relationship!B134)*'LiFFT_v1.4.0'!$J$14","v":{"$error":"#VALUE!"}},{"$f":"(('LiFFT_v1.4.0'!$H$17-moment_cd_relationship!A134)*((moment_cd_relationship!B134-moment_cd_relationship!B135)/(moment_cd_relationship!A134-moment_cd_relationship!A135))+moment_cd_relationship!B134)*'LiFFT_v1.4.0'!$J$17","v":{"$error":"#VALUE!"}},{"$f":"(('LiFFT_v1.4.0'!$H$20-moment_cd_relationship!A134)*((moment_cd_relationship!B134-moment_cd_relationship!B135)/(moment_cd_relationship!A134-moment_cd_relationship!A135))+moment_cd_relationship!B134)*'LiFFT_v1.4.0'!$J$20","v":{"$error":"#VALUE!"}},{"$f":"(('LiFFT_v1.4.0'!$H$23-moment_cd_relationship!A134)*((moment_cd_relationship!B134-moment_cd_relationship!B135)/(moment_cd_relationship!A134-moment_cd_relationship!A135))+moment_cd_relationship!B134)*'LiFFT_v1.4.0'!$J$23","v":{"$error":"#VALUE!"}},{"$f":"(('LiFFT_v1.4.0'!$H$26-moment_cd_relationship!A134)*((moment_cd_relationship!B134-moment_cd_relationship!B135)/(moment_cd_relationship!A134-moment_cd_relationship!A135))+moment_cd_relationship!B134)*'LiFFT_v1.4.0'!$J$26","v":{"$error":"#VALUE!"}},{"$f":"(('LiFFT_v1.4.0'!$H$29-moment_cd_relationship!A134)*((moment_cd_relationship!B134-moment_cd_relationship!B135)/(moment_cd_relationship!A134-moment_cd_relationship!A135))+moment_cd_relationship!B134)*'LiFFT_v1.4.0'!$J$29","v":{"$error":"#VALUE!"}},{"$f":"(('LiFFT_v1.4.0'!$H$32-moment_cd_relationship!A134)*((moment_cd_relationship!B134-moment_cd_relationship!B135)/(moment_cd_relationship!A134-moment_cd_relationship!A135))+moment_cd_relationship!B134)*'LiFFT_v1.4.0'!$J$32","v":{"$error":"#VALUE!"}}]
[133,1.3825E-3,{"$f":"(('LiFFT_v1.4.0'!$H$5-moment_cd_relationship!A135)*((moment_cd_relationship!B135-moment_cd_relationship!B136)/(moment_cd_relationship!A135-moment_cd_relationship!A136))+moment_cd_relationship!B135)*'LiFFT_v1.4.0'!$J$5","v":-10.298550000000024},{"$f":"(('LiFFT_v1.4.0'!$H$8-moment_cd_relationship!A135)*((moment_cd_relationship!B135-moment_cd_relationship!B136)/(moment_cd_relationship!A135-moment_cd_relationship!A136))+moment_cd_relationship!B135)*'LiFFT_v1.4.0'!$J$8","v":{"$error":"#VALUE!"}},{"$f":"(('LiFFT_v1.4.0'!$H$11-moment_cd_relationship!A135)*((moment_cd_relationship!B135-moment_cd_relationship!B136)/(moment_cd_relationship!A135-moment_cd_relationship!A136))+moment_cd_relationship!B135)*'LiFFT_v1.4.0'!$J$11","v":{"$error":"#VALUE!"}},{"$f":"(('LiFFT_v1.4.0'!$H$14-moment_cd_relationship!A135)*((moment_cd_relationship!B135-moment_cd_relationship!B136)/(moment_cd_relationship!A135-moment_cd_relationship!A136))+moment_cd_relationship!B135)*'LiFFT_v1.4.0'!$J$14","v":{"$error":"#VALUE!"}},{"$f":"(('LiFFT_v1.4.0'!$H$17-moment_cd_relationship!A135)*((moment_cd_relationship!B135-moment_cd_relationship!B136)/(moment_cd_relationship!A135-moment_cd_relationship!A136))+moment_cd_relationship!B135)*'LiFFT_v1.4.0'!$J$17","v":{"$error":"#VALUE!"}},{"$f":"(('LiFFT_v1.4.0'!$H$20-moment_cd_relationship!A135)*((moment_cd_relationship!B135-moment_cd_relationship!B136)/(moment_cd_relationship!A135-moment_cd_relationship!A136))+moment_cd_relationship!B135)*'LiFFT_v1.4.0'!$J$20","v":{"$error":"#VALUE!"}},{"$f":"(('LiFFT_v1.4.0'!$H$23-moment_cd_relationship!A135)*((moment_cd_relationship!B135-moment_cd_relationship!B136)/(moment_cd_relationship!A135-moment_cd_relationship!A136))+moment_cd_relationship!B135)*'LiFFT_v1.4.0'!$J$23","v":{"$error":"#VALUE!"}},{"$f":"(('LiFFT_v1.4.0'!$H$26-moment_cd_relationship!A135)*((moment_cd_relationship!B135-moment_cd_relationship!B136)/(moment_cd_relationship!A135-moment_cd_relationship!A136))+moment_cd_relationship!B135)*'LiFFT_v1.4.0'!$J$26","v":{"$error":"#VALUE!"}},{"$f":"(('LiFFT_v1.4.0'!$H$29-moment_cd_relationship!A135)*((moment_cd_relationship!B135-moment_cd_relationship!B136)/(moment_cd_relationship!A135-moment_cd_relationship!A136))+moment_cd_relationship!B135)*'LiFFT_v1.4.0'!$J$29","v":{"$error":"#VALUE!"}},{"$f":"(('LiFFT_v1.4.0'!$H$32-moment_cd_relationship!A135)*((moment_cd_relationship!B135-moment_cd_relationship!B136)/(moment_cd_relationship!A135-moment_cd_relationship!A136))+moment_cd_relationship!B135)*'LiFFT_v1.4.0'!$J$32","v":{"$error":"#VALUE!"}}]
[134,1.4561000000000001E-3,{"$f":"(('LiFFT_v1.4.0'!$H$5-moment_cd_relationship!A136)*((moment_cd_relationship!B136-moment_cd_relationship!B137)/(moment_cd_relationship!A136-moment_cd_relationship!A137))+moment_cd_relationship!B136)*'LiFFT_v1.4.0'!$J$5","v":-10.953450000000009},{"$f":"(('LiFFT_v1.4.0'!$H$8-moment_cd_relationship!A136)*((moment_cd_relationship!B136-moment_cd_relationship!B137)/(moment_cd_relationship!A136-moment_cd_relationship!A137))+moment_cd_relationship!B136)*'LiFFT_v1.4.0'!$J$8","v":{"$error":"#VALUE!"}},{"$f":"(('LiFFT_v1.4.0'!$H$11-moment_cd_relationship!A136)*((moment_cd_relationship!B136-moment_cd_relationship!B137)/(moment_cd_relationship!A136-moment_cd_relationship!A137))+moment_cd_relationship!B136)*'LiFFT_v1.4.0'!$J$11","v":{"$error":"#VALUE!"}},{"$f":"(('LiFFT_v1.4.0'!$H$14-moment_cd_relationship!A136)*((moment_cd_relationship!B136-moment_cd_relationship!B137)/(moment_cd_relationship!A136-moment_cd_relationship!A137))+moment_cd_relationship!B136)*'LiFFT_v1.4.0'!$J$14","v":{"$error":"#VALUE!"}},{"$f":"(('LiFFT_v1.4.0'!$H$17-moment_cd_relationship!A136)*((moment_cd_relationship!B136-moment_cd_relationship!B137)/(moment_cd_relationship!A136-moment_cd_relationship!A137))+moment_cd_relationship!B136)*'LiFFT_v1.4.0'!$J$17","v":{"$error":"#VALUE!"}},{"$f":"(('LiFFT_v1.4.0'!$H$20-moment_cd_relationship!A136)*((moment_cd_relationship!B136-moment_cd_relationship!B137)/(moment_cd_relationship!A136-moment_cd_relationship!A137))+moment_cd_relationship!B136)*'LiFFT_v1.4.0'!$J$20","v":{"$error":"#VALUE!"}},{"$f":"(('LiFFT_v1.4.0'!$H$23-moment_cd_relationship!A136)*((moment_cd_relationship!B136-moment_cd_relationship!B137)/(moment_cd_relationship!A136-moment_cd_relationship!A137))+moment_cd_relationship!B136)*'LiFFT_v1.4.0'!$J$23","v":{"$error":"#VALUE!"}},{"$f":"(('LiFFT_v1.4.0'!$H$26-moment_cd_relationship!A136)*((moment_cd_relationship!B136-moment_cd_relationship!B137)/(moment_cd_relationship!A136-moment_cd_relationship!A137))+moment_cd_relationship!B136)*'LiFFT_v1.4.0'!$J$26","v":{"$error":"#VALUE!"}},{"$f":"(('LiFFT_v1.4.0'!$H$29-moment_cd_relationship!A136)*((moment_cd_relationship!B136-moment_cd_relationship!B137)/(moment_cd_relationship!A136-moment_cd_relationship!A137))+moment_cd_relationship!B136)*'LiFFT_v1.4.0'!$J$29","v":{"$error":"#VALUE!"}},{"$f":"(('LiFFT_v1.4.0'!$H$32-moment_cd_relationship!A136)*((moment_cd_relationship!B136-moment_cd_relationship!B137)/(moment_cd_relationship!A136-moment_cd_relationship!A137))+moment_cd_relationship!B136)*'LiFFT_v1.4.0'!$J$32","v":{"$error":"#VALUE!"}}]
[135,1.5337E-3,{"$f":"(('LiFFT_v1.4.0'!$H$5-moment_cd_relationship!A137)*((moment_cd_relationship!B137-moment_cd_relationship!B138)/(moment_cd_relationship!A137-moment_cd_relationship!A138))+moment_cd_relationship!B137)*'LiFFT_v1.4.0'!$J$5","v":-11.667449999999986},{"$f":"(('LiFFT_v1.4.0'!$H$8-moment_cd_relationship!A137)*((moment_cd_relationship!B137-moment_cd_relationship!B138)/(moment_cd_relationship!A137-moment_cd_relationship!A138))+moment_cd_relationship!B137)*'LiFFT_v1.4.0'!$J$8","v":{"$error":"#VALUE!"}},{"$f":"(('LiFFT_v1.4.0'!$H$11-moment_cd_relationship!A137)*((moment_cd_relationship!B137-moment_cd_relationship!B138)/(moment_cd_relationship!A137-moment_cd_relationship!A138))+moment_cd_relationship!B137)*'LiFFT_v1.4.0'!$J$11","v":{"$error":"#VALUE!"}},{"$f":"(('LiFFT_v1.4.0'!$H$14-moment_cd_relationship!A137)*((moment_cd_relationship!B137-moment_cd_relationship!B138)/(moment_cd_relationship!A137-moment_cd_relationship!A138))+moment_cd_relationship!B137)*'LiFFT_v1.4.0'!$J$14","v":{"$error":"#VALUE!"}},{"$f":"(('LiFFT_v1.4.0'!$H$17-moment_cd_relationship!A137)*((moment_cd_relationship!B137-moment_cd_relationship!B138)/(moment_cd_relationship!A137-moment_cd_relationship!A138))+moment_cd_relationship!B137)*'LiFFT_v1.4.0'!$J$17","v":{"$error":"#VALUE!"}},{"$f":"(('LiFFT_v1.4.0'!$H$20-moment_cd_relationship!A137)*((moment_cd_relationship!B137-moment_cd_relationship!B138)/(moment_cd_relationship!A137-moment_cd_relationship!A138))+moment_cd_relationship!B137)*'LiFFT_v1.4.0'!$J$20","v":{"$error":"#VALUE!"}},{"$f":"(('LiFFT_v1.4.0'!$H$23-moment_cd_relationship!A137)*((moment_cd_relationship!B137-moment_cd_relationship!B138)/(moment_cd_relationship!A137-moment_cd_relationship!A138))+moment_cd_relationship!B137)*'LiFFT_v1.4.0'!$J$23","v":{"$error":"#VALUE!"}},{"$f":"(('LiFFT_v1.4.0'!$H$26-moment_cd_relationship!A137)*((moment_cd_relationship!B137-moment_cd_relationship!B138)/(moment_cd_relationship!A137-moment_cd_relationship!A138))+moment_cd_relationship!B137)*'LiFFT_v1.4.0'!$J$26","v":{"$error":"#VALUE!"}},{"$f":"(('LiFFT_v1.4.0'!$H$29-moment_cd_relationship!A137)*((moment_cd_relationship!B137-moment_cd_relationship!B138)/(moment_cd_relationship!A137-moment_cd_relationship!A138))+moment_cd_relationship!B137)*'LiFFT_v1.4.0'!$J$29","v":{"$error":"#VALUE!"}},{"$f":"(('LiFFT_v1.4.0'!$H$32-moment_cd_relationship!A137)*((moment_cd_relationship!B137-moment_cd_relationship!B138)/(moment_cd_relationship!A137-moment_cd_relationship!A138))+moment_cd_relationship!B137)*'LiFFT_v1.4.0'!$J$32","v":{"$error":"#VALUE!"}}]
[136,1.6155E-3,{"$f":"(('LiFFT_v1.4.0'!$H$5-moment_cd_relationship!A138)*((moment_cd_relationship!B138-moment_cd_relationship!B139)/(moment_cd_relationship!A138-moment_cd_relationship!A139))+moment_cd_relationship!B138)*'LiFFT_v1.4.0'!$J$5","v":-12.423449999999987},{"$f":"(('LiFFT_v1.4.0'!$H$8-moment_cd_relationship!A138)*((moment_cd_relationship!B138-moment_cd_relationship!B139)/(moment_cd_relationship!A138-moment_cd_relationship!A139))+moment_cd_relationship!B138)*'LiFFT_v1.4.0'!$J$8","v":{"$error":"#VALUE!"}},{"$f":"(('LiFFT_v1.4.0'!$H$11-moment_cd_relationship!A138)*((moment_cd_relationship!B138-moment_cd_relationship!B139)/(moment_cd_relationship!A138-moment_cd_relationship!A139))+moment_cd_relationship!B138)*'LiFFT_v1.4.0'!$J$11","v":{"$error":"#VALUE!"}},{"$f":"(('LiFFT_v1.4.0'!$H$14-moment_cd_relationship!A138)*((moment_cd_relationship!B138-moment_cd_relationship!B139)/(moment_cd_relationship!A138-moment_cd_relationship!A139))+moment_cd_relationship!B138)*'LiFFT_v1.4.0'!$J$14","v":{"$error":"#VALUE!"}},{"$f":"(('LiFFT_v1.4.0'!$H$17-moment_cd_relationship!A138)*((moment_cd_relationship!B138-moment_cd_relationship!B139)/(moment_cd_relationship!A138-moment_cd_relationship!A139))+moment_cd_relationship!B138)*'LiFFT_v1.4.0'!$J$17","v":{"$error":"#VALUE!"}},{"$f":"(('LiFFT_v1.4.0'!$H$20-moment_cd_relationship!A138)*((moment_cd_relationship!B138-moment_cd_relationship!B139)/(moment_cd_relationship!A138-moment_cd_relationship!A139))+moment_cd_relationship!B138)*'LiFFT_v1.4.0'!$J$20","v":{"$error":"#VALUE!"}},{"$f":"(('LiFFT_v1.4.0'!$H$23-moment_cd_relationship!A138)*((moment_cd_relationship!B138-moment_cd_relationship!B139)/(moment_cd_relationship!A138-moment_cd_relationship!A139))+moment_cd_relationship!B138)*'LiFFT_v1.4.0'!$J$23","v":{"$error":"#VALUE!"}},{"$f":"(('LiFFT_v1.4.0'!$H$26-moment_cd_relationship!A138)*((moment_cd_relationship!B138-moment_cd_relationship!B139)/(moment_cd_relationship!A138-moment_cd_relationship!A139))+moment_cd_relationship!B138)*'LiFFT_v1.4.0'!$J$26","v":{"$error":"#VALUE!"}},{"$f":"(('LiFFT_v1.4.0'!$H$29-moment_cd_relationship!A138)*((moment_cd_relationship!B138-moment_cd_relationship!B139)/(moment_cd_relationship!A138-moment_cd_relationship!A139))+moment_cd_relationship!B138)*'LiFFT_v1.4.0'!$J$29","v":{"$error":"#VALUE!"}},{"$f":"(('LiFFT_v1.4.0'!$H$32-moment_cd_relationship!A138)*((moment_cd_relationship!B138-moment_cd_relationship!B139)/(moment_cd_relationship!A138-moment_cd_relationship!A139))+moment_cd_relationship!B138)*'LiFFT_v1.4.0'!$J$32","v":{"$error":"#VALUE!"}}]
[137,1.7015999999999999E-3,{"$f":"(('LiFFT_v1.4.0'!$H$5-moment_cd_relationship!A139)*((moment_cd_relationship!B139-moment_cd_relationship!B140)/(moment_cd_relationship!A139-moment_cd_relationship!A140))+moment_cd_relationship!B139)*'LiFFT_v1.4.0'!$J$5","v":-13.203899999999996},{"$f":"(('LiFFT_v1.4.0'!$H$8-moment_cd_relationship!A139)*((moment_cd_relationship!B139-moment_cd_relationship!B140)/(moment_cd_relationship!A139-moment_cd_relationship!A140))+moment_cd_relationship!B139)*'LiFFT_v1.4.0'!$J$8","v":{"$error":"#VALUE!"}},{"$f":"(('LiFFT_v1.4.0'!$H$11-moment_cd_relationship!A139)*((moment_cd_relationship!B139-moment_cd_relationship!B140)/(moment_cd_relationship!A139-moment_cd_relationship!A140))+moment_cd_relationship!B139)*'LiFFT_v1.4.0'!$J$11","v":{"$error":"#VALUE!"}},{"$f":"(('LiFFT_v1.4.0'!$H$14-moment_cd_relationship!A139)*((moment_cd_relationship!B139-moment_cd_relationship!B140)/(moment_cd_relationship!A139-moment_cd_relationship!A140))+moment_cd_relationship!B139)*'LiFFT_v1.4.0'!$J$14","v":{"$error":"#VALUE!"}},{"$f":"(('LiFFT_v1.4.0'!$H$17-moment_cd_relationship!A139)*((moment_cd_relationship!B139-moment_cd_relationship!B140)/(moment_cd_relationship!A139-moment_cd_relationship!A140))+moment_cd_relationship!B139)*'LiFFT_v1.4.0'!$J$17","v":{"$error":"#VALUE!"}},{"$f":"(('LiFFT_v1.4.0'!$H$20-moment_cd_relationship!A139)*((moment_cd_relationship!B139-moment_cd_relationship!B140)/(moment_cd_relationship!A139-moment_cd_relationship!A140))+moment_cd_relationship!B139)*'LiFFT_v1.4.0'!$J$20","v":{"$error":"#VALUE!"}},{"$f":"(('LiFFT_v1.4.0'!$H$23-moment_cd_relationship!A139)*((moment_cd_relationship!B139-moment_cd_relationship!B140)/(moment_cd_relationship!A139-moment_cd_relationship!A140))+moment_cd_relationship!B139)*'LiFFT_v1.4.0'!$J$23","v":{"$error":"#VALUE!"}},{"$f":"(('LiFFT_v1.4.0'!$H$26-moment_cd_relationship!A139)*((moment_cd_relationship!B139-moment_cd_relationship!B140)/(moment_cd_relationship!A139-moment_cd_relationship!A140))+moment_cd_relationship!B139)*'LiFFT_v1.4.0'!$J$26","v":{"$error":"#VALUE!"}},{"$f":"(('LiFFT_v1.4.0'!$H$29-moment_cd_relationship!A139)*((moment_cd_relationship!B139-moment_cd_relationship!B140)/(moment_cd_relationship!A139-moment_cd_relationship!A140))+moment_cd_relationship!B139)*'LiFFT_v1.4.0'!$J$29","v":{"$error":"#VALUE!"}},{"$f":"(('LiFFT_v1.4.0'!$H$32-moment_cd_relationship!A139)*((moment_cd_relationship!B139-moment_cd_relationship!B140)/(moment_cd_relationship!A139-moment_cd_relationship!A140))+moment_cd_relationship!B139)*'LiFFT_v1.4.0'!$J$32","v":{"$error":"#VALUE!"}}]
[138,1.7924E-3,{"$f":"(('LiFFT_v1.4.0'!$H$5-moment_cd_relationship!A140)*((moment_cd_relationship!B140-moment_cd_relationship!B141)/(moment_cd_relationship!A140-moment_cd_relationship!A141))+moment_cd_relationship!B140)*'LiFFT_v1.4.0'!$J$5","v":-14.064000000000009},{"$f":"(('LiFFT_v1.4.0'!$H$8-moment_cd_relationship!A140)*((moment_cd_relationship!B140-moment_cd_relationship!B141)/(moment_cd_relationship!A140-moment_cd_relationship!A141))+moment_cd_relationship!B140)*'LiFFT_v1.4.0'!$J$8","v":{"$error":"#VALUE!"}},{"$f":"(('LiFFT_v1.4.0'!$H$11-moment_cd_relationship!A140)*((moment_cd_relationship!B140-moment_cd_relationship!B141)/(moment_cd_relationship!A140-moment_cd_relationship!A141))+moment_cd_relationship!B140)*'LiFFT_v1.4.0'!$J$11","v":{"$error":"#VALUE!"}},{"$f":"(('LiFFT_v1.4.0'!$H$14-moment_cd_relationship!A140)*((moment_cd_relationship!B140-moment_cd_relationship!B141)/(moment_cd_relationship!A140-moment_cd_relationship!A141))+moment_cd_relationship!B140)*'LiFFT_v1.4.0'!$J$14","v":{"$error":"#VALUE!"}},{"$f":"(('LiFFT_v1.4.0'!$H$17-moment_cd_relationship!A140)*((moment_cd_relationship!B140-moment_cd_relationship!B141)/(moment_cd_relationship!A140-moment_cd_relationship!A141))+moment_cd_relationship!B140)*'LiFFT_v1.4.0'!$J$17","v":{"$error":"#VALUE!"}},{"$f":"(('LiFFT_v1.4.0'!$H$20-moment_cd_relationship!A140)*((moment_cd_relationship!B140-moment_cd_relationship!B141)/(moment_cd_relationship!A140-moment_cd_relationship!A141))+moment_cd_relationship!B140)*'LiFFT_v1.4.0'!$J$20","v":{"$error":"#VALUE!"}},{"$f":"(('LiFFT_v1.4.0'!$H$23-moment_cd_relationship!A140)*((moment_cd_relationship!B140-moment_cd_relationship!B141)/(moment_cd_relationship!A140-moment_cd_relationship!A141))+moment_cd_relationship!B140)*'LiFFT_v1.4.0'!$J$23","v":{"$error":"#VALUE!"}},{"$f":"(('LiFFT_v1.4.0'!$H$26-moment_cd_relationship!A140)*((moment_cd_relationship!B140-moment_cd_relationship!B141)/(moment_cd_relationship!A140-moment_cd_relationship!A141))+moment_cd_relationship!B140)*'LiFFT_v1.4.0'!$J$26","v":{"$error":"#VALUE!"}},{"$f":"(('LiFFT_v1.4.0'!$H$29-moment_cd_relationship!A140)*((moment_cd_relationship!B140-moment_cd_relationship!B141)/(moment_cd_relationship!A140-moment_cd_relationship!A141))+moment_cd_relationship!B140)*'LiFFT_v1.4.0'!$J$29","v":{"$error":"#VALUE!"}},{"$f":"(('LiFFT_v1.4.0'!$H$32-moment_cd_relationship!A140)*((moment_cd_relationship!B140-moment_cd_relationship!B141)/(moment_cd_relationship!A140-moment_cd_relationship!A141))+moment_cd_relationship!B140)*'LiFFT_v1.4.0'!$J$32","v":{"$error":"#VALUE!"}}]
[139,1.8879999999999999E-3,{"$f":"(('LiFFT_v1.4.0'!$H$5-moment_cd_relationship!A141)*((moment_cd_relationship!B141-moment_cd_relationship!B142)/(moment_cd_relationship!A141-moment_cd_relationship!A142))+moment_cd_relationship!B141)*'LiFFT_v1.4.0'!$J$5","v":-14.94959999999999},{"$f":"(('LiFFT_v1.4.0'!$H$8-moment_cd_relationship!A141)*((moment_cd_relationship!B141-moment_cd_relationship!B142)/(moment_cd_relationship!A141-moment_cd_relationship!A142))+moment_cd_relationship!B141)*'LiFFT_v1.4.0'!$J$8","v":{"$error":"#VALUE!"}},{"$f":"(('LiFFT_v1.4.0'!$H$11-moment_cd_relationship!A141)*((moment_cd_relationship!B141-moment_cd_relationship!B142)/(moment_cd_relationship!A141-moment_cd_relationship!A142))+moment_cd_relationship!B141)*'LiFFT_v1.4.0'!$J$11","v":{"$error":"#VALUE!"}},{"$f":"(('LiFFT_v1.4.0'!$H$14-moment_cd_relationship!A141)*((moment_cd_relationship!B141-moment_cd_relationship!B142)/(moment_cd_relationship!A141-moment_cd_relationship!A142))+moment_cd_relationship!B141)*'LiFFT_v1.4.0'!$J$14","v":{"$error":"#VALUE!"}},{"$f":"(('LiFFT_v1.4.0'!$H$17-moment_cd_relationship!A141)*((moment_cd_relationship!B141-moment_cd_relationship!B142)/(moment_cd_relationship!A141-moment_cd_relationship!A142))+moment_cd_relationship!B141)*'LiFFT_v1.4.0'!$J$17","v":{"$error":"#VALUE!"}},{"$f":"(('LiFFT_v1.4.0'!$H$20-moment_cd_relationship!A141)*((moment_cd_relationship!B141-moment_cd_relationship!B142)/(moment_cd_relationship!A141-moment_cd_relationship!A142))+moment_cd_relationship!B141)*'LiFFT_v1.4.0'!$J$20","v":{"$error":"#VALUE!"}},{"$f":"(('LiFFT_v1.4.0'!$H$23-moment_cd_relationship!A141)*((moment_cd_relationship!B141-moment_cd_relationship!B142)/(moment_cd_relationship!A141-moment_cd_relationship!A142))+moment_cd_relationship!B141)*'LiFFT_v1.4.0'!$J$23","v":{"$error":"#VALUE!"}},{"$f":"(('LiFFT_v1.4.0'!$H$26-moment_cd_relationship!A141)*((moment_cd_relationship!B141-moment_cd_relationship!B142)/(moment_cd_relationship!A141-moment_cd_relationship!A142))+moment_cd_relationship!B141)*'LiFFT_v1.4.0'!$J$26","v":{"$error":"#VALUE!"}},{"$f":"(('LiFFT_v1.4.0'!$H$29-moment_cd_relationship!A141)*((moment_cd_relationship!B141-moment_cd_relationship!B142)/(moment_cd_relationship!A141-moment_cd_relationship!A142))+moment_cd_relationship!B141)*'LiFFT_v1.4.0'!$J$29","v":{"$error":"#VALUE!"}},{"$f":"(('LiFFT_v1.4.0'!$H$32-moment_cd_relationship!A141)*((moment_cd_relationship!B141-moment_cd_relationship!B142)/(moment_cd_relationship!A141-moment_cd_relationship!A142))+moment_cd_relationship!B141)*'LiFFT_v1.4.0'!$J$32","v":{"$error":"#VALUE!"}}]
[140,1.9886999999999999E-3,{"$f":"(('LiFFT_v1.4.0'!$H$5-moment_cd_relationship!A142)*((moment_cd_relationship!B142-moment_cd_relationship!B143)/(moment_cd_relationship!A142-moment_cd_relationship!A143))+moment_cd_relationship!B142)*'LiFFT_v1.4.0'!$J$5","v":-15.898200000000003},{"$f":"(('LiFFT_v1.4.0'!$H$8-moment_cd_relationship!A142)*((moment_cd_relationship!B142-moment_cd_relationship!B143)/(moment_cd_relationship!A142-moment_cd_relationship!A143))+moment_cd_relationship!B142)*'LiFFT_v1.4.0'!$J$8","v":{"$error":"#VALUE!"}},{"$f":"(('LiFFT_v1.4.0'!$H$11-moment_cd_relationship!A142)*((moment_cd_relationship!B142-moment_cd_relationship!B143)/(moment_cd_relationship!A142-moment_cd_relationship!A143))+moment_cd_relationship!B142)*'LiFFT_v1.4.0'!$J$11","v":{"$error":"#VALUE!"}},{"$f":"(('LiFFT_v1.4.0'!$H$14-moment_cd_relationship!A142)*((moment_cd_relationship!B142-moment_cd_relationship!B143)/(moment_cd_relationship!A142-moment_cd_relationship!A143))+moment_cd_relationship!B142)*'LiFFT_v1.4.0'!$J$14","v":{"$error":"#VALUE!"}},{"$f":"(('LiFFT_v1.4.0'!$H$17-moment_cd_relationship!A142)*((moment_cd_relationship!B142-moment_cd_relationship!B143)/(moment_cd_relationship!A142-moment_cd_relationship!A143))+moment_cd_relationship!B142)*'LiFFT_v1.4.0'!$J$17","v":{"$error":"#VALUE!"}},{"$f":"(('LiFFT_v1.4.0'!$H$20-moment_cd_relationship!A142)*((moment_cd_relationship!B142-moment_cd_relationship!B143)/(moment_cd_relationship!A142-moment_cd_relationship!A143))+moment_cd_relationship!B142)*'LiFFT_v1.4.0'!$J$20","v":{"$error":"#VALUE!"}},{"$f":"(('LiFFT_v1.4.0'!$H$23-moment_cd_relationship!A142)*((moment_cd_relationship!B142-moment_cd_relationship!B143)/(moment_cd_relationship!A142-moment_cd_relationship!A143))+moment_cd_relationship!B142)*'LiFFT_v1.4.0'!$J$23","v":{"$error":"#VALUE!"}},{"$f":"(('LiFFT_v1.4.0'!$H$26-moment_cd_relationship!A142)*((moment_cd_relationship!B142-moment_cd_relationship!B143)/(moment_cd_relationship!A142-moment_cd_relationship!A143))+moment_cd_relationship!B142)*'LiFFT_v1.4.0'!$J$26","v":{"$error":"#VALUE!"}},{"$f":"(('LiFFT_v1.4.0'!$H$29-moment_cd_relationship!A142)*((moment_cd_relationship!B142-moment_cd_relationship!B143)/(moment_cd_relationship!A142-moment_cd_relationship!A143))+moment_cd_relationship!B142)*'LiFFT_v1.4.0'!$J$29","v":{"$error":"#VALUE!"}},{"$f":"(('LiFFT_v1.4.0'!$H$32-moment_cd_relationship!A142)*((moment_cd_relationship!B142-moment_cd_relationship!B143)/(moment_cd_relationship!A142-moment_cd_relationship!A143))+moment_cd_relationship!B142)*'LiFFT_v1.4.0'!$J$32","v":{"$error":"#VALUE!"}}]
[141,2.0948999999999998E-3,{"$f":"(('LiFFT_v1.4.0'!$H$5-moment_cd_relationship!A143)*((moment_cd_relationship!B143-moment_cd_relationship!B144)/(moment_cd_relationship!A143-moment_cd_relationship!A144))+moment_cd_relationship!B143)*'LiFFT_v1.4.0'!$J$5","v":-16.929449999999978},{"$f":"(('LiFFT_v1.4.0'!$H$8-moment_cd_relationship!A143)*((moment_cd_relationship!B143-moment_cd_relationship!B144)/(moment_cd_relationship!A143-moment_cd_relationship!A144))+moment_cd_relationship!B143)*'LiFFT_v1.4.0'!$J$8","v":{"$error":"#VALUE!"}},{"$f":"(('LiFFT_v1.4.0'!$H$11-moment_cd_relationship!A143)*((moment_cd_relationship!B143-moment_cd_relationship!B144)/(moment_cd_relationship!A143-moment_cd_relationship!A144))+moment_cd_relationship!B143)*'LiFFT_v1.4.0'!$J$11","v":{"$error":"#VALUE!"}},{"$f":"(('LiFFT_v1.4.0'!$H$14-moment_cd_relationship!A143)*((moment_cd_relationship!B143-moment_cd_relationship!B144)/(moment_cd_relationship!A143-moment_cd_relationship!A144))+moment_cd_relationship!B143)*'LiFFT_v1.4.0'!$J$14","v":{"$error":"#VALUE!"}},{"$f":"(('LiFFT_v1.4.0'!$H$17-moment_cd_relationship!A143)*((moment_cd_relationship!B143-moment_cd_relationship!B144)/(moment_cd_relationship!A143-moment_cd_relationship!A144))+moment_cd_relationship!B143)*'LiFFT_v1.4.0'!$J$17","v":{"$error":"#VALUE!"}},{"$f":"(('LiFFT_v1.4.0'!$H$20-moment_cd_relationship!A143)*((moment_cd_relationship!B143-moment_cd_relationship!B144)/(moment_cd_relationship!A143-moment_cd_relationship!A144))+moment_cd_relationship!B143)*'LiFFT_v1.4.0'!$J$20","v":{"$error":"#VALUE!"}},{"$f":"(('LiFFT_v1.4.0'!$H$23-moment_cd_relationship!A143)*((moment_cd_relationship!B143-moment_cd_relationship!B144)/(moment_cd_relationship!A143-moment_cd_relationship!A144))+moment_cd_relationship!B143)*'LiFFT_v1.4.0'!$J$23","v":{"$error":"#VALUE!"}},{"$f":"(('LiFFT_v1.4.0'!$H$26-moment_cd_relationship!A143)*((moment_cd_relationship!B143-moment_cd_relationship!B144)/(moment_cd_relationship!A143-moment_cd_relationship!A144))+moment_cd_relationship!B143)*'LiFFT_v1.4.0'!$J$26","v":{"$error":"#VALUE!"}},{"$f":"(('LiFFT_v1.4.0'!$H$29-moment_cd_relationship!A143)*((moment_cd_relationship!B143-moment_cd_relationship!B144)/(moment_cd_relationship!A143-moment_cd_relationship!A144))+moment_cd_relationship!B143)*'LiFFT_v1.4.0'!$J$29","v":{"$error":"#VALUE!"}},{"$f":"(('LiFFT_v1.4.0'!$H$32-moment_cd_relationship!A143)*((moment_cd_relationship!B143-moment_cd_relationship!B144)/(moment_cd_relationship!A143-moment_cd_relationship!A144))+moment_cd_relationship!B143)*'LiFFT_v1.4.0'!$J$32","v":{"$error":"#VALUE!"}}]
[142,2.2066999999999998E-3,{"$f":"(('LiFFT_v1.4.0'!$H$5-moment_cd_relationship!A144)*((moment_cd_relationship!B144-moment_cd_relationship!B145)/(moment_cd_relationship!A144-moment_cd_relationship!A145))+moment_cd_relationship!B144)*'LiFFT_v1.4.0'!$J$5","v":-17.987849999999998},{"$f":"(('LiFFT_v1.4.0'!$H$8-moment_cd_relationship!A144)*((moment_cd_relationship!B144-moment_cd_relationship!B145)/(moment_cd_relationship!A144-moment_cd_relationship!A145))+moment_cd_relationship!B144)*'LiFFT_v1.4.0'!$J$8","v":{"$error":"#VALUE!"}},{"$f":"(('LiFFT_v1.4.0'!$H$11-moment_cd_relationship!A144)*((moment_cd_relationship!B144-moment_cd_relationship!B145)/(moment_cd_relationship!A144-moment_cd_relationship!A145))+moment_cd_relationship!B144)*'LiFFT_v1.4.0'!$J$11","v":{"$error":"#VALUE!"}},{"$f":"(('LiFFT_v1.4.0'!$H$14-moment_cd_relationship!A144)*((moment_cd_relationship!B144-moment_cd_relationship!B145)/(moment_cd_relationship!A144-moment_cd_relationship!A145))+moment_cd_relationship!B144)*'LiFFT_v1.4.0'!$J$14","v":{"$error":"#VALUE!"}},{"$f":"(('LiFFT_v1.4.0'!$H$17-moment_cd_relationship!A144)*((moment_cd_relationship!B144-moment_cd_relationship!B145)/(moment_cd_relationship!A144-moment_cd_relationship!A145))+moment_cd_relationship!B144)*'LiFFT_v1.4.0'!$J$17","v":{"$error":"#VALUE!"}},{"$f":"(('LiFFT_v1.4.0'!$H$20-moment_cd_relationship!A144)*((moment_cd_relationship!B144-moment_cd_relationship!B145)/(moment_cd_relationship!A144-moment_cd_relationship!A145))+moment_cd_relationship!B144)*'LiFFT_v1.4.0'!$J$20","v":{"$error":"#VALUE!"}},{"$f":"(('LiFFT_v1.4.0'!$H$23-moment_cd_relationship!A144)*((moment_cd_relationship!B144-moment_cd_relationship!B145)/(moment_cd_relationship!A144-moment_cd_relationship!A145))+moment_cd_relationship!B144)*'LiFFT_v1.4.0'!$J$23","v":{"$error":"#VALUE!"}},{"$f":"(('LiFFT_v1.4.0'!$H$26-moment_cd_relationship!A144)*((moment_cd_relationship!B144-moment_cd_relationship!B145)/(moment_cd_relationship!A144-moment_cd_relationship!A145))+moment_cd_relationship!B144)*'LiFFT_v1.4.0'!$J$26","v":{"$error":"#VALUE!"}},{"$f":"(('LiFFT_v1.4.0'!$H$29-moment_cd_relationship!A144)*((moment_cd_relationship!B144-moment_cd_relationship!B145)/(moment_cd_relationship!A144-moment_cd_relationship!A145))+moment_cd_relationship!B144)*'LiFFT_v1.4.0'!$J$29","v":{"$error":"#VALUE!"}},{"$f":"(('LiFFT_v1.4.0'!$H$32-moment_cd_relationship!A144)*((moment_cd_relationship!B144-moment_cd_relationship!B145)/(moment_cd_relationship!A144-moment_cd_relationship!A145))+moment_cd_relationship!B144)*'LiFFT_v1.4.0'!$J$32","v":{"$error":"#VALUE!"}}]
[143,2.3245000000000002E-3,{"$f":"(('LiFFT_v1.4.0'!$H$5-moment_cd_relationship!A145)*((moment_cd_relationship!B145-moment_cd_relationship!B146)/(moment_cd_relationship!A145-moment_cd_relationship!A146))+moment_cd_relationship!B145)*'LiFFT_v1.4.0'!$J$5","v":-19.13085000000007},{"$f":"(('LiFFT_v1.4.0'!$H$8-moment_cd_relationship!A145)*((moment_cd_relationship!B145-moment_cd_relationship!B146)/(moment_cd_relationship!A145-moment_cd_relationship!A146))+moment_cd_relationship!B145)*'LiFFT_v1.4.0'!$J$8","v":{"$error":"#VALUE!"}},{"$f":"(('LiFFT_v1.4.0'!$H$11-moment_cd_relationship!A145)*((moment_cd_relationship!B145-moment_cd_relationship!B146)/(moment_cd_relationship!A145-moment_cd_relationship!A146))+moment_cd_relationship!B145)*'LiFFT_v1.4.0'!$J$11","v":{"$error":"#VALUE!"}},{"$f":"(('LiFFT_v1.4.0'!$H$14-moment_cd_relationship!A145)*((moment_cd_relationship!B145-moment_cd_relationship!B146)/(moment_cd_relationship!A145-moment_cd_relationship!A146))+moment_cd_relationship!B145)*'LiFFT_v1.4.0'!$J$14","v":{"$error":"#VALUE!"}},{"$f":"(('LiFFT_v1.4.0'!$H$17-moment_cd_relationship!A145)*((moment_cd_relationship!B145-moment_cd_relationship!B146)/(moment_cd_relationship!A145-moment_cd_relationship!A146))+moment_cd_relationship!B145)*'LiFFT_v1.4.0'!$J$17","v":{"$error":"#VALUE!"}},{"$f":"(('LiFFT_v1.4.0'!$H$20-moment_cd_relationship!A145)*((moment_cd_relationship!B145-moment_cd_relationship!B146)/(moment_cd_relationship!A145-moment_cd_relationship!A146))+moment_cd_relationship!B145)*'LiFFT_v1.4.0'!$J$20","v":{"$error":"#VALUE!"}},{"$f":"(('LiFFT_v1.4.0'!$H$23-moment_cd_relationship!A145)*((moment_cd_relationship!B145-moment_cd_relationship!B146)/(moment_cd_relationship!A145-moment_cd_relationship!A146))+moment_cd_relationship!B145)*'LiFFT_v1.4.0'!$J$23","v":{"$error":"#VALUE!"}},{"$f":"(('LiFFT_v1.4.0'!$H$26-moment_cd_relationship!A145)*((moment_cd_relationship!B145-moment_cd_relationship!B146)/(moment_cd_relationship!A145-moment_cd_relationship!A146))+moment_cd_relationship!B145)*'LiFFT_v1.4.0'!$J$26","v":{"$error":"#VALUE!"}},{"$f":"(('LiFFT_v1.4.0'!$H$29-moment_cd_relationship!A145)*((moment_cd_relationship!B145-moment_cd_relationship!B146)/(moment_cd_relationship!A145-moment_cd_relationship!A146))+moment_cd_relationship!B145)*'LiFFT_v1.4.0'!$J$29","v":{"$error":"#VALUE!"}},{"$f":"(('LiFFT_v1.4.0'!$H$32-moment_cd_relationship!A145)*((moment_cd_relationship!B145-moment_cd_relationship!B146)/(moment_cd_relationship!A145-moment_cd_relationship!A146))+moment_cd_relationship!B145)*'LiFFT_v1.4.0'!$J$32","v":{"$error":"#VALUE!"}}]
[144,2.4486999999999998E-3,{"$f":"(('LiFFT_v1.4.0'!$H$5-moment_cd_relationship!A146)*((moment_cd_relationship!B146-moment_cd_relationship!B147)/(moment_cd_relationship!A146-moment_cd_relationship!A147))+moment_cd_relationship!B146)*'LiFFT_v1.4.0'!$J$5","v":-20.359649999999935},{"$f":"(('LiFFT_v1.4.0'!$H$8-moment_cd_relationship!A146)*((moment_cd_relationship!B146-moment_cd_relationship!B147)/(moment_cd_relationship!A146-moment_cd_relationship!A147))+moment_cd_relationship!B146)*'LiFFT_v1.4.0'!$J$8","v":{"$error":"#VALUE!"}},{"$f":"(('LiFFT_v1.4.0'!$H$11-moment_cd_relationship!A146)*((moment_cd_relationship!B146-moment_cd_relationship!B147)/(moment_cd_relationship!A146-moment_cd_relationship!A147))+moment_cd_relationship!B146)*'LiFFT_v1.4.0'!$J$11","v":{"$error":"#VALUE!"}},{"$f":"(('LiFFT_v1.4.0'!$H$14-moment_cd_relationship!A146)*((moment_cd_relationship!B146-moment_cd_relationship!B147)/(moment_cd_relationship!A146-moment_cd_relationship!A147))+moment_cd_relationship!B146)*'LiFFT_v1.4.0'!$J$14","v":{"$error":"#VALUE!"}},{"$f":"(('LiFFT_v1.4.0'!$H$17-moment_cd_relationship!A146)*((moment_cd_relationship!B146-moment_cd_relationship!B147)/(moment_cd_relationship!A146-moment_cd_relationship!A147))+moment_cd_relationship!B146)*'LiFFT_v1.4.0'!$J$17","v":{"$error":"#VALUE!"}},{"$f":"(('LiFFT_v1.4.0'!$H$20-moment_cd_relationship!A146)*((moment_cd_relationship!B146-moment_cd_relationship!B147)/(moment_cd_relationship!A146-moment_cd_relationship!A147))+moment_cd_relationship!B146)*'LiFFT_v1.4.0'!$J$20","v":{"$error":"#VALUE!"}},{"$f":"(('LiFFT_v1.4.0'!$H$23-moment_cd_relationship!A146)*((moment_cd_relationship!B146-moment_cd_relationship!B147)/(moment_cd_relationship!A146-moment_cd_relationship!A147))+moment_cd_relationship!B146)*'LiFFT_v1.4.0'!$J$23","v":{"$error":"#VALUE!"}},{"$f":"(('LiFFT_v1.4.0'!$H$26-moment_cd_relationship!A146)*((moment_cd_relationship!B146-moment_cd_relationship!B147)/(moment_cd_relationship!A146-moment_cd_relationship!A147))+moment_cd_relationship!B146)*'LiFFT_v1.4.0'!$J$26","v":{"$error":"#VALUE!"}},{"$f":"(('LiFFT_v1.4.0'!$H$29-moment_cd_relationship!A146)*((moment_cd_relationship!B146-moment_cd_relationship!B147)/(moment_cd_relationship!A146-moment_cd_relationship!A147))+moment_cd_relationship!B146)*'LiFFT_v1.4.0'!$J$29","v":{"$error":"#VALUE!"}},{"$f":"(('LiFFT_v1.4.0'!$H$32-moment_cd_relationship!A146)*((moment_cd_relationship!B146-moment_cd_relationship!B147)/(moment_cd_relationship!A146-moment_cd_relationship!A147))+moment_cd_relationship!B146)*'LiFFT_v1.4.0'!$J$32","v":{"$error":"#VALUE!"}}]
[145,2.5795000000000002E-3,{"$f":"(('LiFFT_v1.4.0'!$H$5-moment_cd_relationship!A147)*((moment_cd_relationship!B147-moment_cd_relationship!B148)/(moment_cd_relationship!A147-moment_cd_relationship!A148))+moment_cd_relationship!B147)*'LiFFT_v1.4.0'!$J$5","v":-21.63675000000007},{"$f":"(('LiFFT_v1.4.0'!$H$8-moment_cd_relationship!A147)*((moment_cd_relationship!B147-moment_cd_relationship!B148)/(moment_cd_relationship!A147-moment_cd_relationship!A148))+moment_cd_relationship!B147)*'LiFFT_v1.4.0'!$J$8","v":{"$error":"#VALUE!"}},{"$f":"(('LiFFT_v1.4.0'!$H$11-moment_cd_relationship!A147)*((moment_cd_relationship!B147-moment_cd_relationship!B148)/(moment_cd_relationship!A147-moment_cd_relationship!A148))+moment_cd_relationship!B147)*'LiFFT_v1.4.0'!$J$11","v":{"$error":"#VALUE!"}},{"$f":"(('LiFFT_v1.4.0'!$H$14-moment_cd_relationship!A147)*((moment_cd_relationship!B147-moment_cd_relationship!B148)/(moment_cd_relationship!A147-moment_cd_relationship!A148))+moment_cd_relationship!B147)*'LiFFT_v1.4.0'!$J$14","v":{"$error":"#VALUE!"}},{"$f":"(('LiFFT_v1.4.0'!$H$17-moment_cd_relationship!A147)*((moment_cd_relationship!B147-moment_cd_relationship!B148)/(moment_cd_relationship!A147-moment_cd_relationship!A148))+moment_cd_relationship!B147)*'LiFFT_v1.4.0'!$J$17","v":{"$error":"#VALUE!"}},{"$f":"(('LiFFT_v1.4.0'!$H$20-moment_cd_relationship!A147)*((moment_cd_relationship!B147-moment_cd_relationship!B148)/(moment_cd_relationship!A147-moment_cd_relationship!A148))+moment_cd_relationship!B147)*'LiFFT_v1.4.0'!$J$20","v":{"$error":"#VALUE!"}},{"$f":"(('LiFFT_v1.4.0'!$H$23-moment_cd_relationship!A147)*((moment_cd_relationship!B147-moment_cd_relationship!B148)/(moment_cd_relationship!A147-moment_cd_relationship!A148))+moment_cd_relationship!B147)*'LiFFT_v1.4.0'!$J$23","v":{"$error":"#VALUE!"}},{"$f":"(('LiFFT_v1.4.0'!$H$26-moment_cd_relationship!A147)*((moment_cd_relationship!B147-moment_cd_relationship!B148)/(moment_cd_relationship!A147-moment_cd_relationship!A148))+moment_cd_relationship!B147)*'LiFFT_v1.4.0'!$J$26","v":{"$error":"#VALUE!"}},{"$f":"(('LiFFT_v1.4.0'!$H$29-moment_cd_relationship!A147)*((moment_cd_relationship!B147-moment_cd_relationship!B148)/(moment_cd_relationship!A147-moment_cd_relationship!A148))+moment_cd_relationship!B147)*'LiFFT_v1.4.0'!$J$29","v":{"$error":"#VALUE!"}},{"$f":"(('LiFFT_v1.4.0'!$H$32-moment_cd_relationship!A147)*((moment_cd_relationship!B147-moment_cd_relationship!B148)/(moment_cd_relationship!A147-moment_cd_relationship!A148))+moment_cd_relationship!B147)*'LiFFT_v1.4.0'!$J$32","v":{"$error":"#VALUE!"}}]
[146,2.7174E-3,{"$f":"(('LiFFT_v1.4.0'!$H$5-moment_cd_relationship!A148)*((moment_cd_relationship!B148-moment_cd_relationship!B149)/(moment_cd_relationship!A148-moment_cd_relationship!A149))+moment_cd_relationship!B148)*'LiFFT_v1.4.0'!$J$5","v":-23.021249999999966},{"$f":"(('LiFFT_v1.4.0'!$H$8-moment_cd_relationship!A148)*((moment_cd_relationship!B148-moment_cd_relationship!B149)/(moment_cd_relationship!A148-moment_cd_relationship!A149))+moment_cd_relationship!B148)*'LiFFT_v1.4.0'!$J$8","v":{"$error":"#VALUE!"}},{"$f":"(('LiFFT_v1.4.0'!$H$11-moment_cd_relationship!A148)*((moment_cd_relationship!B148-moment_cd_relationship!B149)/(moment_cd_relationship!A148-moment_cd_relationship!A149))+moment_cd_relationship!B148)*'LiFFT_v1.4.0'!$J$11","v":{"$error":"#VALUE!"}},{"$f":"(('LiFFT_v1.4.0'!$H$14-moment_cd_relationship!A148)*((moment_cd_relationship!B148-moment_cd_relationship!B149)/(moment_cd_relationship!A148-moment_cd_relationship!A149))+moment_cd_relationship!B148)*'LiFFT_v1.4.0'!$J$14","v":{"$error":"#VALUE!"}},{"$f":"(('LiFFT_v1.4.0'!$H$17-moment_cd_relationship!A148)*((moment_cd_relationship!B148-moment_cd_relationship!B149)/(moment_cd_relationship!A148-moment_cd_relationship!A149))+moment_cd_relationship!B148)*'LiFFT_v1.4.0'!$J$17","v":{"$error":"#VALUE!"}},{"$f":"(('LiFFT_v1.4.0'!$H$20-moment_cd_relationship!A148)*((moment_cd_relationship!B148-moment_cd_relationship!B149)/(moment_cd_relationship!A148-moment_cd_relationship!A149))+moment_cd_relationship!B148)*'LiFFT_v1.4.0'!$J$20","v":{"$error":"#VALUE!"}},{"$f":"(('LiFFT_v1.4.0'!$H$23-moment_cd_relationship!A148)*((moment_cd_relationship!B148-moment_cd_relationship!B149)/(moment_cd_relationship!A148-moment_cd_relationship!A149))+moment_cd_relationship!B148)*'LiFFT_v1.4.0'!$J$23","v":{"$error":"#VALUE!"}},{"$f":"(('LiFFT_v1.4.0'!$H$26-moment_cd_relationship!A148)*((moment_cd_relationship!B148-moment_cd_relationship!B149)/(moment_cd_relationship!A148-moment_cd_relationship!A149))+moment_cd_relationship!B148)*'LiFFT_v1.4.0'!$J$26","v":{"$error":"#VALUE!"}},{"$f":"(('LiFFT_v1.4.0'!$H$29-moment_cd_relationship!A148)*((moment_cd_relationship!B148-moment_cd_relationship!B149)/(moment_cd_relationship!A148-moment_cd_relationship!A149))+moment_cd_relationship!B148)*'LiFFT_v1.4.0'!$J$29","v":{"$error":"#VALUE!"}},{"$f":"(('LiFFT_v1.4.0'!$H$32-moment_cd_relationship!A148)*((moment_cd_relationship!B148-moment_cd_relationship!B149)/(moment_cd_relationship!A148-moment_cd_relationship!A149))+moment_cd_relationship!B148)*'LiFFT_v1.4.0'!$J$32","v":{"$error":"#VALUE!"}}]
[147,2.8625999999999999E-3,{"$f":"(('LiFFT_v1.4.0'!$H$5-moment_cd_relationship!A149)*((moment_cd_relationship!B149-moment_cd_relationship!B150)/(moment_cd_relationship!A149-moment_cd_relationship!A150))+moment_cd_relationship!B149)*'LiFFT_v1.4.0'!$J$5","v":-24.455699999999968},{"$f":"(('LiFFT_v1.4.0'!$H$8-moment_cd_relationship!A149)*((moment_cd_relationship!B149-moment_cd_relationship!B150)/(moment_cd_relationship!A149-moment_cd_relationship!A150))+moment_cd_relationship!B149)*'LiFFT_v1.4.0'!$J$8","v":{"$error":"#VALUE!"}},{"$f":"(('LiFFT_v1.4.0'!$H$11-moment_cd_relationship!A149)*((moment_cd_relationship!B149-moment_cd_relationship!B150)/(moment_cd_relationship!A149-moment_cd_relationship!A150))+moment_cd_relationship!B149)*'LiFFT_v1.4.0'!$J$11","v":{"$error":"#VALUE!"}},{"$f":"(('LiFFT_v1.4.0'!$H$14-moment_cd_relationship!A149)*((moment_cd_relationship!B149-moment_cd_relationship!B150)/(moment_cd_relationship!A149-moment_cd_relationship!A150))+moment_cd_relationship!B149)*'LiFFT_v1.4.0'!$J$14","v":{"$error":"#VALUE!"}},{"$f":"(('LiFFT_v1.4.0'!$H$17-moment_cd_relationship!A149)*((moment_cd_relationship!B149-moment_cd_relationship!B150)/(moment_cd_relationship!A149-moment_cd_relationship!A150))+moment_cd_relationship!B149)*'LiFFT_v1.4.0'!$J$17","v":{"$error":"#VALUE!"}},{"$f":"(('LiFFT_v1.4.0'!$H$20-moment_cd_relationship!A149)*((moment_cd_relationship!B149-moment_cd_relationship!B150)/(moment_cd_relationship!A149-moment_cd_relationship!A150))+moment_cd_relationship!B149)*'LiFFT_v1.4.0'!$J$20","v":{"$error":"#VALUE!"}},{"$f":"(('LiFFT_v1.4.0'!$H$23-moment_cd_relationship!A149)*((moment_cd_relationship!B149-moment_cd_relationship!B150)/(moment_cd_relationship!A149-moment_cd_relationship!A150))+moment_cd_relationship!B149)*'LiFFT_v1.4.0'!$J$23","v":{"$error":"#VALUE!"}},{"$f":"(('LiFFT_v1.4.0'!$H$26-moment_cd_relationship!A149)*((moment_cd_relationship!B149-moment_cd_relationship!B150)/(moment_cd_relationship!A149-moment_cd_relationship!A150))+moment_cd_relationship!B149)*'LiFFT_v1.4.0'!$J$26","v":{"$error":"#VALUE!"}},{"$f":"(('LiFFT_v1.4.0'!$H$29-moment_cd_relationship!A149)*((moment_cd_relationship!B149-moment_cd_relationship!B150)/(moment_cd_relationship!A149-moment_cd_relationship!A150))+moment_cd_relationship!B149)*'LiFFT_v1.4.0'!$J$29","v":{"$error":"#VALUE!"}},{"$f":"(('LiFFT_v1.4.0'!$H$32-moment_cd_relationship!A149)*((moment_cd_relationship!B149-moment_cd_relationship!B150)/(moment_cd_relationship!A149-moment_cd_relationship!A150))+moment_cd_relationship!B149)*'LiFFT_v1.4.0'!$J$32","v":{"$error":"#VALUE!"}}]
[148,3.0157000000000001E-3,{"$f":"(('LiFFT_v1.4.0'!$H$5-moment_cd_relationship!A150)*((moment_cd_relationship!B150-moment_cd_relationship!B151)/(moment_cd_relationship!A150-moment_cd_relationship!A151))+moment_cd_relationship!B150)*'LiFFT_v1.4.0'!$J$5","v":-26.019900000000035},{"$f":"(('LiFFT_v1.4.0'!$H$8-moment_cd_relationship!A150)*((moment_cd_relationship!B150-moment_cd_relationship!B151)/(moment_cd_relationship!A150-moment_cd_relationship!A151))+moment_cd_relationship!B150)*'LiFFT_v1.4.0'!$J$8","v":{"$error":"#VALUE!"}},{"$f":"(('LiFFT_v1.4.0'!$H$11-moment_cd_relationship!A150)*((moment_cd_relationship!B150-moment_cd_relationship!B151)/(moment_cd_relationship!A150-moment_cd_relationship!A151))+moment_cd_relationship!B150)*'LiFFT_v1.4.0'!$J$11","v":{"$error":"#VALUE!"}},{"$f":"(('LiFFT_v1.4.0'!$H$14-moment_cd_relationship!A150)*((moment_cd_relationship!B150-moment_cd_relationship!B151)/(moment_cd_relationship!A150-moment_cd_relationship!A151))+moment_cd_relationship!B150)*'LiFFT_v1.4.0'!$J$14","v":{"$error":"#VALUE!"}},{"$f":"(('LiFFT_v1.4.0'!$H$17-moment_cd_relationship!A150)*((moment_cd_relationship!B150-moment_cd_relationship!B151)/(moment_cd_relationship!A150-moment_cd_relationship!A151))+moment_cd_relationship!B150)*'LiFFT_v1.4.0'!$J$17","v":{"$error":"#VALUE!"}},{"$f":"(('LiFFT_v1.4.0'!$H$20-moment_cd_relationship!A150)*((moment_cd_relationship!B150-moment_cd_relationship!B151)/(moment_cd_relationship!A150-moment_cd_relationship!A151))+moment_cd_relationship!B150)*'LiFFT_v1.4.0'!$J$20","v":{"$error":"#VALUE!"}},{"$f":"(('LiFFT_v1.4.0'!$H$23-moment_cd_relationship!A150)*((moment_cd_relationship!B150-moment_cd_relationship!B151)/(moment_cd_relationship!A150-moment_cd_relationship!A151))+moment_cd_relationship!B150)*'LiFFT_v1.4.0'!$J$23","v":{"$error":"#VALUE!"}},{"$f":"(('LiFFT_v1.4.0'!$H$26-moment_cd_relationship!A150)*((moment_cd_relationship!B150-moment_cd_relationship!B151)/(moment_cd_relationship!A150-moment_cd_relationship!A151))+moment_cd_relationship!B150)*'LiFFT_v1.4.0'!$J$26","v":{"$error":"#VALUE!"}},{"$f":"(('LiFFT_v1.4.0'!$H$29-moment_cd_relationship!A150)*((moment_cd_relationship!B150-moment_cd_relationship!B151)/(moment_cd_relationship!A150-moment_cd_relationship!A151))+moment_cd_relationship!B150)*'LiFFT_v1.4.0'!$J$29","v":{"$error":"#VALUE!"}},{"$f":"(('LiFFT_v1.4.0'!$H$32-moment_cd_relationship!A150)*((moment_cd_relationship!B150-moment_cd_relationship!B151)/(moment_cd_relationship!A150-moment_cd_relationship!A151))+moment_cd_relationship!B150)*'LiFFT_v1.4.0'!$J$32","v":{"$error":"#VALUE!"}}]
[149,3.1770000000000001E-3,{"$f":"(('LiFFT_v1.4.0'!$H$5-moment_cd_relationship!A151)*((moment_cd_relationship!B151-moment_cd_relationship!B152)/(moment_cd_relationship!A151-moment_cd_relationship!A152))+moment_cd_relationship!B151)*'LiFFT_v1.4.0'!$J$5","v":-27.655800000000017},{"$f":"(('LiFFT_v1.4.0'!$H$8-moment_cd_relationship!A151)*((moment_cd_relationship!B151-moment_cd_relationship!B152)/(moment_cd_relationship!A151-moment_cd_relationship!A152))+moment_cd_relationship!B151)*'LiFFT_v1.4.0'!$J$8","v":{"$error":"#VALUE!"}},{"$f":"(('LiFFT_v1.4.0'!$H$11-moment_cd_relationship!A151)*((moment_cd_relationship!B151-moment_cd_relationship!B152)/(moment_cd_relationship!A151-moment_cd_relationship!A152))+moment_cd_relationship!B151)*'LiFFT_v1.4.0'!$J$11","v":{"$error":"#VALUE!"}},{"$f":"(('LiFFT_v1.4.0'!$H$14-moment_cd_relationship!A151)*((moment_cd_relationship!B151-moment_cd_relationship!B152)/(moment_cd_relationship!A151-moment_cd_relationship!A152))+moment_cd_relationship!B151)*'LiFFT_v1.4.0'!$J$14","v":{"$error":"#VALUE!"}},{"$f":"(('LiFFT_v1.4.0'!$H$17-moment_cd_relationship!A151)*((moment_cd_relationship!B151-moment_cd_relationship!B152)/(moment_cd_relationship!A151-moment_cd_relationship!A152))+moment_cd_relationship!B151)*'LiFFT_v1.4.0'!$J$17","v":{"$error":"#VALUE!"}},{"$f":"(('LiFFT_v1.4.0'!$H$20-moment_cd_relationship!A151)*((moment_cd_relationship!B151-moment_cd_relationship!B152)/(moment_cd_relationship!A151-moment_cd_relationship!A152))+moment_cd_relationship!B151)*'LiFFT_v1.4.0'!$J$20","v":{"$error":"#VALUE!"}},{"$f":"(('LiFFT_v1.4.0'!$H$23-moment_cd_relationship!A151)*((moment_cd_relationship!B151-moment_cd_relationship!B152)/(moment_cd_relationship!A151-moment_cd_relationship!A152))+moment_cd_relationship!B151)*'LiFFT_v1.4.0'!$J$23","v":{"$error":"#VALUE!"}},{"$f":"(('LiFFT_v1.4.0'!$H$26-moment_cd_relationship!A151)*((moment_cd_relationship!B151-moment_cd_relationship!B152)/(moment_cd_relationship!A151-moment_cd_relationship!A152))+moment_cd_relationship!B151)*'LiFFT_v1.4.0'!$J$26","v":{"$error":"#VALUE!"}},{"$f":"(('LiFFT_v1.4.0'!$H$29-moment_cd_relationship!A151)*((moment_cd_relationship!B151-moment_cd_relationship!B152)/(moment_cd_relationship!A151-moment_cd_relationship!A152))+moment_cd_relationship!B151)*'LiFFT_v1.4.0'!$J$29","v":{"$error":"#VALUE!"}},{"$f":"(('LiFFT_v1.4.0'!$H$32-moment_cd_relationship!A151)*((moment_cd_relationship!B151-moment_cd_relationship!B152)/(moment_cd_relationship!A151-moment_cd_relationship!A152))+moment_cd_relationship!B151)*'LiFFT_v1.4.0'!$J$32","v":{"$error":"#VALUE!"}}]
[150,3.3468999999999999E-3,{"$f":"(('LiFFT_v1.4.0'!$H$5-moment_cd_relationship!A152)*((moment_cd_relationship!B152-moment_cd_relationship!B153)/(moment_cd_relationship!A152-moment_cd_relationship!A153))+moment_cd_relationship!B152)*'LiFFT_v1.4.0'!$J$5","v":-29.384399999999946},{"$f":"(('LiFFT_v1.4.0'!$H$8-moment_cd_relationship!A152)*((moment_cd_relationship!B152-moment_cd_relationship!B153)/(moment_cd_relationship!A152-moment_cd_relationship!A153))+moment_cd_relationship!B152)*'LiFFT_v1.4.0'!$J$8","v":{"$error":"#VALUE!"}},{"$f":"(('LiFFT_v1.4.0'!$H$11-moment_cd_relationship!A152)*((moment_cd_relationship!B152-moment_cd_relationship!B153)/(moment_cd_relationship!A152-moment_cd_relationship!A153))+moment_cd_relationship!B152)*'LiFFT_v1.4.0'!$J$11","v":{"$error":"#VALUE!"}},{"$f":"(('LiFFT_v1.4.0'!$H$14-moment_cd_relationship!A152)*((moment_cd_relationship!B152-moment_cd_relationship!B153)/(moment_cd_relationship!A152-moment_cd_relationship!A153))+moment_cd_relationship!B152)*'LiFFT_v1.4.0'!$J$14","v":{"$error":"#VALUE!"}},{"$f":"(('LiFFT_v1.4.0'!$H$17-moment_cd_relationship!A152)*((moment_cd_relationship!B152-moment_cd_relationship!B153)/(moment_cd_relationship!A152-moment_cd_relationship!A153))+moment_cd_relationship!B152)*'LiFFT_v1.4.0'!$J$17","v":{"$error":"#VALUE!"}},{"$f":"(('LiFFT_v1.4.0'!$H$20-moment_cd_relationship!A152)*((moment_cd_relationship!B152-moment_cd_relationship!B153)/(moment_cd_relationship!A152-moment_cd_relationship!A153))+moment_cd_relationship!B152)*'LiFFT_v1.4.0'!$J$20","v":{"$error":"#VALUE!"}},{"$f":"(('LiFFT_v1.4.0'!$H$23-moment_cd_relationship!A152)*((moment_cd_relationship!B152-moment_cd_relationship!B153)/(moment_cd_relationship!A152-moment_cd_relationship!A153))+moment_cd_relationship!B152)*'LiFFT_v1.4.0'!$J$23","v":{"$error":"#VALUE!"}},{"$f":"(('LiFFT_v1.4.0'!$H$26-moment_cd_relationship!A152)*((moment_cd_relationship!B152-moment_cd_relationship!B153)/(moment_cd_relationship!A152-moment_cd_relationship!A153))+moment_cd_relationship!B152)*'LiFFT_v1.4.0'!$J$26","v":{"$error":"#VALUE!"}},{"$f":"(('LiFFT_v1.4.0'!$H$29-moment_cd_relationship!A152)*((moment_cd_relationship!B152-moment_cd_relationship!B153)/(moment_cd_relationship!A152-moment_cd_relationship!A153))+moment_cd_relationship!B152)*'LiFFT_v1.4.0'!$J$29","v":{"$error":"#VALUE!"}},{"$f":"(('LiFFT_v1.4.0'!$H$32-moment_cd_relationship!A152)*((moment_cd_relationship!B152-moment_cd_relationship!B153)/(moment_cd_relationship!A152-moment_cd_relationship!A153))+moment_cd_relationship!B152)*'LiFFT_v1.4.0'!$J$32","v":{"$error":"#VALUE!"}}]
[151,3.5260000000000001E-3,{"$f":"(('LiFFT_v1.4.0'!$H$5-moment_cd_relationship!A153)*((moment_cd_relationship!B153-moment_cd_relationship!B154)/(moment_cd_relationship!A153-moment_cd_relationship!A154))+moment_cd_relationship!B153)*'LiFFT_v1.4.0'!$J$5","v":-31.247400000000034},{"$f":"(('LiFFT_v1.4.0'!$H$8-moment_cd_relationship!A153)*((moment_cd_relationship!B153-moment_cd_relationship!B154)/(moment_cd_relationship!A153-moment_cd_relationship!A154))+moment_cd_relationship!B153)*'LiFFT_v1.4.0'!$J$8","v":{"$error":"#VALUE!"}},{"$f":"(('LiFFT_v1.4.0'!$H$11-moment_cd_relationship!A153)*((moment_cd_relationship!B153-moment_cd_relationship!B154)/(moment_cd_relationship!A153-moment_cd_relationship!A154))+moment_cd_relationship!B153)*'LiFFT_v1.4.0'!$J$11","v":{"$error":"#VALUE!"}},{"$f":"(('LiFFT_v1.4.0'!$H$14-moment_cd_relationship!A153)*((moment_cd_relationship!B153-moment_cd_relationship!B154)/(moment_cd_relationship!A153-moment_cd_relationship!A154))+moment_cd_relationship!B153)*'LiFFT_v1.4.0'!$J$14","v":{"$error":"#VALUE!"}},{"$f":"(('LiFFT_v1.4.0'!$H$17-moment_cd_relationship!A153)*((moment_cd_relationship!B153-moment_cd_relationship!B154)/(moment_cd_relationship!A153-moment_cd_relationship!A154))+moment_cd_relationship!B153)*'LiFFT_v1.4.0'!$J$17","v":{"$error":"#VALUE!"}},{"$f":"(('LiFFT_v1.4.0'!$H$20-moment_cd_relationship!A153)*((moment_cd_relationship!B153-moment_cd_relationship!B154)/(moment_cd_relationship!A153-moment_cd_relationship!A154))+moment_cd_relationship!B153)*'LiFFT_v1.4.0'!$J$20","v":{"$error":"#VALUE!"}},{"$f":"(('LiFFT_v1.4.0'!$H$23-moment_cd_relationship!A153)*((moment_cd_relationship!B153-moment_cd_relationship!B154)/(moment_cd_relationship!A153-moment_cd_relationship!A154))+moment_cd_relationship!B153)*'LiFFT_v1.4.0'!$J$23","v":{"$error":"#VALUE!"}},{"$f":"(('LiFFT_v1.4.0'!$H$26-moment_cd_relationship!A153)*((moment_cd_relationship!B153-moment_cd_relationship!B154)/(moment_cd_relationship!A153-moment_cd_relationship!A154))+moment_cd_relationship!B153)*'LiFFT_v1.4.0'!$J$26","v":{"$error":"#VALUE!"}},{"$f":"(('LiFFT_v1.4.0'!$H$29-moment_cd_relationship!A153)*((moment_cd_relationship!B153-moment_cd_relationship!B154)/(moment_cd_relationship!A153-moment_cd_relationship!A154))+moment_cd_relationship!B153)*'LiFFT_v1.4.0'!$J$29","v":{"$error":"#VALUE!"}},{"$f":"(('LiFFT_v1.4.0'!$H$32-moment_cd_relationship!A153)*((moment_cd_relationship!B153-moment_cd_relationship!B154)/(moment_cd_relationship!A153-moment_cd_relationship!A154))+moment_cd_relationship!B153)*'LiFFT_v1.4.0'!$J$32","v":{"$error":"#VALUE!"}}]
[152,3.7147E-3,{"$f":"(('LiFFT_v1.4.0'!$H$5-moment_cd_relationship!A154)*((moment_cd_relationship!B154-moment_cd_relationship!B155)/(moment_cd_relationship!A154-moment_cd_relationship!A155))+moment_cd_relationship!B154)*'LiFFT_v1.4.0'!$J$5","v":-33.205799999999996},{"$f":"(('LiFFT_v1.4.0'!$H$8-moment_cd_relationship!A154)*((moment_cd_relationship!B154-moment_cd_relationship!B155)/(moment_cd_relationship!A154-moment_cd_relationship!A155))+moment_cd_relationship!B154)*'LiFFT_v1.4.0'!$J$8","v":{"$error":"#VALUE!"}},{"$f":"(('LiFFT_v1.4.0'!$H$11-moment_cd_relationship!A154)*((moment_cd_relationship!B154-moment_cd_relationship!B155)/(moment_cd_relationship!A154-moment_cd_relationship!A155))+moment_cd_relationship!B154)*'LiFFT_v1.4.0'!$J$11","v":{"$error":"#VALUE!"}},{"$f":"(('LiFFT_v1.4.0'!$H$14-moment_cd_relationship!A154)*((moment_cd_relationship!B154-moment_cd_relationship!B155)/(moment_cd_relationship!A154-moment_cd_relationship!A155))+moment_cd_relationship!B154)*'LiFFT_v1.4.0'!$J$14","v":{"$error":"#VALUE!"}},{"$f":"(('LiFFT_v1.4.0'!$H$17-moment_cd_relationship!A154)*((moment_cd_relationship!B154-moment_cd_relationship!B155)/(moment_cd_relationship!A154-moment_cd_relationship!A155))+moment_cd_relationship!B154)*'LiFFT_v1.4.0'!$J$17","v":{"$error":"#VALUE!"}},{"$f":"(('LiFFT_v1.4.0'!$H$20-moment_cd_relationship!A154)*((moment_cd_relationship!B154-moment_cd_relationship!B155)/(moment_cd_relationship!A154-moment_cd_relationship!A155))+moment_cd_relationship!B154)*'LiFFT_v1.4.0'!$J$20","v":{"$error":"#VALUE!"}},{"$f":"(('LiFFT_v1.4.0'!$H$23-moment_cd_relationship!A154)*((moment_cd_relationship!B154-moment_cd_relationship!B155)/(moment_cd_relationship!A154-moment_cd_relationship!A155))+moment_cd_relationship!B154)*'LiFFT_v1.4.0'!$J$23","v":{"$error":"#VALUE!"}},{"$f":"(('LiFFT_v1.4.0'!$H$26-moment_cd_relationship!A154)*((moment_cd_relationship!B154-moment_cd_relationship!B155)/(moment_cd_relationship!A154-moment_cd_relationship!A155))+moment_cd_relationship!B154)*'LiFFT_v1.4.0'!$J$26","v":{"$error":"#VALUE!"}},{"$f":"(('LiFFT_v1.4.0'!$H$29-moment_cd_relationship!A154)*((moment_cd_relationship!B154-moment_cd_relationship!B155)/(moment_cd_relationship!A154-moment_cd_relationship!A155))+moment_cd_relationship!B154)*'LiFFT_v1.4.0'!$J$29","v":{"$error":"#VALUE!"}},{"$f":"(('LiFFT_v1.4.0'!$H$32-moment_cd_relationship!A154)*((moment_cd_relationship!B154-moment_cd_relationship!B155)/(moment_cd_relationship!A154-moment_cd_relationship!A155))+moment_cd_relationship!B154)*'LiFFT_v1.4.0'!$J$32","v":{"$error":"#VALUE!"}}]
[153,3.9135999999999997E-3,{"$f":"(('LiFFT_v1.4.0'!$H$5-moment_cd_relationship!A155)*((moment_cd_relationship!B155-moment_cd_relationship!B156)/(moment_cd_relationship!A155-moment_cd_relationship!A156))+moment_cd_relationship!B155)*'LiFFT_v1.4.0'!$J$5","v":-35.301899999999932},{"$f":"(('LiFFT_v1.4.0'!$H$8-moment_cd_relationship!A155)*((moment_cd_relationship!B155-moment_cd_relationship!B156)/(moment_cd_relationship!A155-moment_cd_relationship!A156))+moment_cd_relationship!B155)*'LiFFT_v1.4.0'!$J$8","v":{"$error":"#VALUE!"}},{"$f":"(('LiFFT_v1.4.0'!$H$11-moment_cd_relationship!A155)*((moment_cd_relationship!B155-moment_cd_relationship!B156)/(moment_cd_relationship!A155-moment_cd_relationship!A156))+moment_cd_relationship!B155)*'LiFFT_v1.4.0'!$J$11","v":{"$error":"#VALUE!"}},{"$f":"(('LiFFT_v1.4.0'!$H$14-moment_cd_relationship!A155)*((moment_cd_relationship!B155-moment_cd_relationship!B156)/(moment_cd_relationship!A155-moment_cd_relationship!A156))+moment_cd_relationship!B155)*'LiFFT_v1.4.0'!$J$14","v":{"$error":"#VALUE!"}},{"$f":"(('LiFFT_v1.4.0'!$H$17-moment_cd_relationship!A155)*((moment_cd_relationship!B155-moment_cd_relationship!B156)/(moment_cd_relationship!A155-moment_cd_relationship!A156))+moment_cd_relationship!B155)*'LiFFT_v1.4.0'!$J$17","v":{"$error":"#VALUE!"}},{"$f":"(('LiFFT_v1.4.0'!$H$20-moment_cd_relationship!A155)*((moment_cd_relationship!B155-moment_cd_relationship!B156)/(moment_cd_relationship!A155-moment_cd_relationship!A156))+moment_cd_relationship!B155)*'LiFFT_v1.4.0'!$J$20","v":{"$error":"#VALUE!"}},{"$f":"(('LiFFT_v1.4.0'!$H$23-moment_cd_relationship!A155)*((moment_cd_relationship!B155-moment_cd_relationship!B156)/(moment_cd_relationship!A155-moment_cd_relationship!A156))+moment_cd_relationship!B155)*'LiFFT_v1.4.0'!$J$23","v":{"$error":"#VALUE!"}},{"$f":"(('LiFFT_v1.4.0'!$H$26-moment_cd_relationship!A155)*((moment_cd_relationship!B155-moment_cd_relationship!B156)/(moment_cd_relationship!A155-moment_cd_relationship!A156))+moment_cd_relationship!B155)*'LiFFT_v1.4.0'!$J$26","v":{"$error":"#VALUE!"}},{"$f":"(('LiFFT_v1.4.0'!$H$29-moment_cd_relationship!A155)*((moment_cd_relationship!B155-moment_cd_relationship!B156)/(moment_cd_relationship!A155-moment_cd_relationship!A156))+moment_cd_relationship!B155)*'LiFFT_v1.4.0'!$J$29","v":{"$error":"#VALUE!"}},{"$f":"(('LiFFT_v1.4.0'!$H$32-moment_cd_relationship!A155)*((moment_cd_relationship!B155-moment_cd_relationship!B156)/(moment_cd_relationship!A155-moment_cd_relationship!A156))+moment_cd_relationship!B155)*'LiFFT_v1.4.0'!$J$32","v":{"$error":"#VALUE!"}}]
[154,4.1231000000000002E-3,{"$f":"(('LiFFT_v1.4.0'!$H$5-moment_cd_relationship!A156)*((moment_cd_relationship!B156-moment_cd_relationship!B157)/(moment_cd_relationship!A156-moment_cd_relationship!A157))+moment_cd_relationship!B156)*'LiFFT_v1.4.0'!$J$5","v":-37.496100000000105},{"$f":"(('LiFFT_v1.4.0'!$H$8-moment_cd_relationship!A156)*((moment_cd_relationship!B156-moment_cd_relationship!B157)/(moment_cd_relationship!A156-moment_cd_relationship!A157))+moment_cd_relationship!B156)*'LiFFT_v1.4.0'!$J$8","v":{"$error":"#VALUE!"}},{"$f":"(('LiFFT_v1.4.0'!$H$11-moment_cd_relationship!A156)*((moment_cd_relationship!B156-moment_cd_relationship!B157)/(moment_cd_relationship!A156-moment_cd_relationship!A157))+moment_cd_relationship!B156)*'LiFFT_v1.4.0'!$J$11","v":{"$error":"#VALUE!"}},{"$f":"(('LiFFT_v1.4.0'!$H$14-moment_cd_relationship!A156)*((moment_cd_relationship!B156-moment_cd_relationship!B157)/(moment_cd_relationship!A156-moment_cd_relationship!A157))+moment_cd_relationship!B156)*'LiFFT_v1.4.0'!$J$14","v":{"$error":"#VALUE!"}},{"$f":"(('LiFFT_v1.4.0'!$H$17-moment_cd_relationship!A156)*((moment_cd_relationship!B156-moment_cd_relationship!B157)/(moment_cd_relationship!A156-moment_cd_relationship!A157))+moment_cd_relationship!B156)*'LiFFT_v1.4.0'!$J$17","v":{"$error":"#VALUE!"}},{"$f":"(('LiFFT_v1.4.0'!$H$20-moment_cd_relationship!A156)*((moment_cd_relationship!B156-moment_cd_relationship!B157)/(moment_cd_relationship!A156-moment_cd_relationship!A157))+moment_cd_relationship!B156)*'LiFFT_v1.4.0'!$J$20","v":{"$error":"#VALUE!"}},{"$f":"(('LiFFT_v1.4.0'!$H$23-moment_cd_relationship!A156)*((moment_cd_relationship!B156-moment_cd_relationship!B157)/(moment_cd_relationship!A156-moment_cd_relationship!A157))+moment_cd_relationship!B156)*'LiFFT_v1.4.0'!$J$23","v":{"$error":"#VALUE!"}},{"$f":"(('LiFFT_v1.4.0'!$H$26-moment_cd_relationship!A156)*((moment_cd_relationship!B156-moment_cd_relationship!B157)/(moment_cd_relationship!A156-moment_cd_relationship!A157))+moment_cd_relationship!B156)*'LiFFT_v1.4.0'!$J$26","v":{"$error":"#VALUE!"}},{"$f":"(('LiFFT_v1.4.0'!$H$29-moment_cd_relationship!A156)*((moment_cd_relationship!B156-moment_cd_relationship!B157)/(moment_cd_relationship!A156-moment_cd_relationship!A157))+moment_cd_relationship!B156)*'LiFFT_v1.4.0'!$J$29","v":{"$error":"#VALUE!"}},{"$f":"(('LiFFT_v1.4.0'!$H$32-moment_cd_relationship!A156)*((moment_cd_relationship!B156-moment_cd_relationship!B157)/(moment_cd_relationship!A156-moment_cd_relationship!A157))+moment_cd_relationship!B156)*'LiFFT_v1.4.0'!$J$32","v":{"$error":"#VALUE!"}}]
[155,4.3439999999999998E-3,{"$f":"(('LiFFT_v1.4.0'!$H$5-moment_cd_relationship!A157)*((moment_cd_relationship!B157-moment_cd_relationship!B158)/(moment_cd_relationship!A157-moment_cd_relationship!A158))+moment_cd_relationship!B157)*'LiFFT_v1.4.0'!$J$5","v":-39.872999999999905},{"$f":"(('LiFFT_v1.4.0'!$H$8-moment_cd_relationship!A157)*((moment_cd_relationship!B157-moment_cd_relationship!B158)/(moment_cd_relationship!A157-moment_cd_relationship!A158))+moment_cd_relationship!B157)*'LiFFT_v1.4.0'!$J$8","v":{"$error":"#VALUE!"}},{"$f":"(('LiFFT_v1.4.0'!$H$11-moment_cd_relationship!A157)*((moment_cd_relationship!B157-moment_cd_relationship!B158)/(moment_cd_relationship!A157-moment_cd_relationship!A158))+moment_cd_relationship!B157)*'LiFFT_v1.4.0'!$J$11","v":{"$error":"#VALUE!"}},{"$f":"(('LiFFT_v1.4.0'!$H$14-moment_cd_relationship!A157)*((moment_cd_relationship!B157-moment_cd_relationship!B158)/(moment_cd_relationship!A157-moment_cd_relationship!A158))+moment_cd_relationship!B157)*'LiFFT_v1.4.0'!$J$14","v":{"$error":"#VALUE!"}},{"$f":"(('LiFFT_v1.4.0'!$H$17-moment_cd_relationship!A157)*((moment_cd_relationship!B157-moment_cd_relationship!B158)/(moment_cd_relationship!A157-moment_cd_relationship!A158))+moment_cd_relationship!B157)*'LiFFT_v1.4.0'!$J$17","v":{"$error":"#VALUE!"}},{"$f":"(('LiFFT_v1.4.0'!$H$20-moment_cd_relationship!A157)*((moment_cd_relationship!B157-moment_cd_relationship!B158)/(moment_cd_relationship!A157-moment_cd_relationship!A158))+moment_cd_relationship!B157)*'LiFFT_v1.4.0'!$J$20","v":{"$error":"#VALUE!"}},{"$f":"(('LiFFT_v1.4.0'!$H$23-moment_cd_relationship!A157)*((moment_cd_relationship!B157-moment_cd_relationship!B158)/(moment_cd_relationship!A157-moment_cd_relationship!A158))+moment_cd_relationship!B157)*'LiFFT_v1.4.0'!$J$23","v":{"$error":"#VALUE!"}},{"$f":"(('LiFFT_v1.4.0'!$H$26-moment_cd_relationship!A157)*((moment_cd_relationship!B157-moment_cd_relationship!B158)/(moment_cd_relationship!A157-moment_cd_relationship!A158))+moment_cd_relationship!B157)*'LiFFT_v1.4.0'!$J$26","v":{"$error":"#VALUE!"}},{"$f":"(('LiFFT_v1.4.0'!$H$29-moment_cd_relationship!A157)*((moment_cd_relationship!B157-moment_cd_relationship!B158)/(moment_cd_relationship!A157-moment_cd_relationship!A158))+moment_cd_relationship!B157)*'LiFFT_v1.4.0'!$J$29","v":{"$error":"#VALUE!"}},{"$f":"(('LiFFT_v1.4.0'!$H$32-moment_cd_relationship!A157)*((moment_cd_relationship!B157-moment_cd_relationship!B158)/(moment_cd_relationship!A157-moment_cd_relationship!A158))+moment_cd_relationship!B157)*'LiFFT_v1.4.0'!$J$32","v":{"$error":"#VALUE!"}}]
[156,4.5767000000000004E-3,{"$f":"(('LiFFT_v1.4.0'!$H$5-moment_cd_relationship!A158)*((moment_cd_relationship!B158-moment_cd_relationship!B159)/(moment_cd_relationship!A158-moment_cd_relationship!A159))+moment_cd_relationship!B158)*'LiFFT_v1.4.0'!$J$5","v":-42.351000000000127},{"$f":"(('LiFFT_v1.4.0'!$H$8-moment_cd_relationship!A158)*((moment_cd_relationship!B158-moment_cd_relationship!B159)/(moment_cd_relationship!A158-moment_cd_relationship!A159))+moment_cd_relationship!B158)*'LiFFT_v1.4.0'!$J$8","v":{"$error":"#VALUE!"}},{"$f":"(('LiFFT_v1.4.0'!$H$11-moment_cd_relationship!A158)*((moment_cd_relationship!B158-moment_cd_relationship!B159)/(moment_cd_relationship!A158-moment_cd_relationship!A159))+moment_cd_relationship!B158)*'LiFFT_v1.4.0'!$J$11","v":{"$error":"#VALUE!"}},{"$f":"(('LiFFT_v1.4.0'!$H$14-moment_cd_relationship!A158)*((moment_cd_relationship!B158-moment_cd_relationship!B159)/(moment_cd_relationship!A158-moment_cd_relationship!A159))+moment_cd_relationship!B158)*'LiFFT_v1.4.0'!$J$14","v":{"$error":"#VALUE!"}},{"$f":"(('LiFFT_v1.4.0'!$H$17-moment_cd_relationship!A158)*((moment_cd_relationship!B158-moment_cd_relationship!B159)/(moment_cd_relationship!A158-moment_cd_relationship!A159))+moment_cd_relationship!B158)*'LiFFT_v1.4.0'!$J$17","v":{"$error":"#VALUE!"}},{"$f":"(('LiFFT_v1.4.0'!$H$20-moment_cd_relationship!A158)*((moment_cd_relationship!B158-moment_cd_relationship!B159)/(moment_cd_relationship!A158-moment_cd_relationship!A159))+moment_cd_relationship!B158)*'LiFFT_v1.4.0'!$J$20","v":{"$error":"#VALUE!"}},{"$f":"(('LiFFT_v1.4.0'!$H$23-moment_cd_relationship!A158)*((moment_cd_relationship!B158-moment_cd_relationship!B159)/(moment_cd_relationship!A158-moment_cd_relationship!A159))+moment_cd_relationship!B158)*'LiFFT_v1.4.0'!$J$23","v":{"$error":"#VALUE!"}},{"$f":"(('LiFFT_v1.4.0'!$H$26-moment_cd_relationship!A158)*((moment_cd_relationship!B158-moment_cd_relationship!B159)/(moment_cd_relationship!A158-moment_cd_relationship!A159))+moment_cd_relationship!B158)*'LiFFT_v1.4.0'!$J$26","v":{"$error":"#VALUE!"}},{"$f":"(('LiFFT_v1.4.0'!$H$29-moment_cd_relationship!A158)*((moment_cd_relationship!B158-moment_cd_relationship!B159)/(moment_cd_relationship!A158-moment_cd_relationship!A159))+moment_cd_relationship!B158)*'LiFFT_v1.4.0'!$J$29","v":{"$error":"#VALUE!"}},{"$f":"(('LiFFT_v1.4.0'!$H$32-moment_cd_relationship!A158)*((moment_cd_relationship!B158-moment_cd_relationship!B159)/(moment_cd_relationship!A158-moment_cd_relationship!A159))+moment_cd_relationship!B158)*'LiFFT_v1.4.0'!$J$32","v":{"$error":"#VALUE!"}}]
[157,4.8218999999999996E-3,{"$f":"(('LiFFT_v1.4.0'!$H$5-moment_cd_relationship!A159)*((moment_cd_relationship!B159-moment_cd_relationship!B160)/(moment_cd_relationship!A159-moment_cd_relationship!A160))+moment_cd_relationship!B159)*'LiFFT_v1.4.0'!$J$5","v":-44.99474999999984},{"$f":"(('LiFFT_v1.4.0'!$H$8-moment_cd_relationship!A159)*((moment_cd_relationship!B159-moment_cd_relationship!B160)/(moment_cd_relationship!A159-moment_cd_relationship!A160))+moment_cd_relationship!B159)*'LiFFT_v1.4.0'!$J$8","v":{"$error":"#VALUE!"}},{"$f":"(('LiFFT_v1.4.0'!$H$11-moment_cd_relationship!A159)*((moment_cd_relationship!B159-moment_cd_relationship!B160)/(moment_cd_relationship!A159-moment_cd_relationship!A160))+moment_cd_relationship!B159)*'LiFFT_v1.4.0'!$J$11","v":{"$error":"#VALUE!"}},{"$f":"(('LiFFT_v1.4.0'!$H$14-moment_cd_relationship!A159)*((moment_cd_relationship!B159-moment_cd_relationship!B160)/(moment_cd_relationship!A159-moment_cd_relationship!A160))+moment_cd_relationship!B159)*'LiFFT_v1.4.0'!$J$14","v":{"$error":"#VALUE!"}},{"$f":"(('LiFFT_v1.4.0'!$H$17-moment_cd_relationship!A159)*((moment_cd_relationship!B159-moment_cd_relationship!B160)/(moment_cd_relationship!A159-moment_cd_relationship!A160))+moment_cd_relationship!B159)*'LiFFT_v1.4.0'!$J$17","v":{"$error":"#VALUE!"}},{"$f":"(('LiFFT_v1.4.0'!$H$20-moment_cd_relationship!A159)*((moment_cd_relationship!B159-moment_cd_relationship!B160)/(moment_cd_relationship!A159-moment_cd_relationship!A160))+moment_cd_relationship!B159)*'LiFFT_v1.4.0'!$J$20","v":{"$error":"#VALUE!"}},{"$f":"(('LiFFT_v1.4.0'!$H$23-moment_cd_relationship!A159)*((moment_cd_relationship!B159-moment_cd_relationship!B160)/(moment_cd_relationship!A159-moment_cd_relationship!A160))+moment_cd_relationship!B159)*'LiFFT_v1.4.0'!$J$23","v":{"$error":"#VALUE!"}},{"$f":"(('LiFFT_v1.4.0'!$H$26-moment_cd_relationship!A159)*((moment_cd_relationship!B159-moment_cd_relationship!B160)/(moment_cd_relationship!A159-moment_cd_relationship!A160))+moment_cd_relationship!B159)*'LiFFT_v1.4.0'!$J$26","v":{"$error":"#VALUE!"}},{"$f":"(('LiFFT_v1.4.0'!$H$29-moment_cd_relationship!A159)*((moment_cd_relationship!B159-moment_cd_relationship!B160)/(moment_cd_relationship!A159-moment_cd_relationship!A160))+moment_cd_relationship!B159)*'LiFFT_v1.4.0'!$J$29","v":{"$error":"#VALUE!"}},{"$f":"(('LiFFT_v1.4.0'!$H$32-moment_cd_relationship!A159)*((moment_cd_relationship!B159-moment_cd_relationship!B160)/(moment_cd_relationship!A159-moment_cd_relationship!A160))+moment_cd_relationship!B159)*'LiFFT_v1.4.0'!$J$32","v":{"$error":"#VALUE!"}}]
[158,5.0803999999999997E-3,{"$f":"(('LiFFT_v1.4.0'!$H$5-moment_cd_relationship!A160)*((moment_cd_relationship!B160-moment_cd_relationship!B161)/(moment_cd_relationship!A160-moment_cd_relationship!A161))+moment_cd_relationship!B160)*'LiFFT_v1.4.0'!$J$5","v":-47.827650000000013},{"$f":"(('LiFFT_v1.4.0'!$H$8-moment_cd_relationship!A160)*((moment_cd_relationship!B160-moment_cd_relationship!B161)/(moment_cd_relationship!A160-moment_cd_relationship!A161))+moment_cd_relationship!B160)*'LiFFT_v1.4.0'!$J$8","v":{"$error":"#VALUE!"}},{"$f":"(('LiFFT_v1.4.0'!$H$11-moment_cd_relationship!A160)*((moment_cd_relationship!B160-moment_cd_relationship!B161)/(moment_cd_relationship!A160-moment_cd_relationship!A161))+moment_cd_relationship!B160)*'LiFFT_v1.4.0'!$J$11","v":{"$error":"#VALUE!"}},{"$f":"(('LiFFT_v1.4.0'!$H$14-moment_cd_relationship!A160)*((moment_cd_relationship!B160-moment_cd_relationship!B161)/(moment_cd_relationship!A160-moment_cd_relationship!A161))+moment_cd_relationship!B160)*'LiFFT_v1.4.0'!$J$14","v":{"$error":"#VALUE!"}},{"$f":"(('LiFFT_v1.4.0'!$H$17-moment_cd_relationship!A160)*((moment_cd_relationship!B160-moment_cd_relationship!B161)/(moment_cd_relationship!A160-moment_cd_relationship!A161))+moment_cd_relationship!B160)*'LiFFT_v1.4.0'!$J$17","v":{"$error":"#VALUE!"}},{"$f":"(('LiFFT_v1.4.0'!$H$20-moment_cd_relationship!A160)*((moment_cd_relationship!B160-moment_cd_relationship!B161)/(moment_cd_relationship!A160-moment_cd_relationship!A161))+moment_cd_relationship!B160)*'LiFFT_v1.4.0'!$J$20","v":{"$error":"#VALUE!"}},{"$f":"(('LiFFT_v1.4.0'!$H$23-moment_cd_relationship!A160)*((moment_cd_relationship!B160-moment_cd_relationship!B161)/(moment_cd_relationship!A160-moment_cd_relationship!A161))+moment_cd_relationship!B160)*'LiFFT_v1.4.0'!$J$23","v":{"$error":"#VALUE!"}},{"$f":"(('LiFFT_v1.4.0'!$H$26-moment_cd_relationship!A160)*((moment_cd_relationship!B160-moment_cd_relationship!B161)/(moment_cd_relationship!A160-moment_cd_relationship!A161))+moment_cd_relationship!B160)*'LiFFT_v1.4.0'!$J$26","v":{"$error":"#VALUE!"}},{"$f":"(('LiFFT_v1.4.0'!$H$29-moment_cd_relationship!A160)*((moment_cd_relationship!B160-moment_cd_relationship!B161)/(moment_cd_relationship!A160-moment_cd_relationship!A161))+moment_cd_relationship!B160)*'LiFFT_v1.4.0'!$J$29","v":{"$error":"#VALUE!"}},{"$f":"(('LiFFT_v1.4.0'!$H$32-moment_cd_relationship!A160)*((moment_cd_relationship!B160-moment_cd_relationship!B161)/(moment_cd_relationship!A160-moment_cd_relationship!A161))+moment_cd_relationship!B160)*'LiFFT_v1.4.0'!$J$32","v":{"$error":"#VALUE!"}}]
[159,5.3527000000000002E-3,{"$f":"(('LiFFT_v1.4.0'!$H$5-moment_cd_relationship!A161)*((moment_cd_relationship!B161-moment_cd_relationship!B162)/(moment_cd_relationship!A161-moment_cd_relationship!A162))+moment_cd_relationship!B161)*'LiFFT_v1.4.0'!$J$5","v":-50.787750000000102},{"$f":"(('LiFFT_v1.4.0'!$H$8-moment_cd_relationship!A161)*((moment_cd_relationship!B161-moment_cd_relationship!B162)/(moment_cd_relationship!A161-moment_cd_relationship!A162))+moment_cd_relationship!B161)*'LiFFT_v1.4.0'!$J$8","v":{"$error":"#VALUE!"}},{"$f":"(('LiFFT_v1.4.0'!$H$11-moment_cd_relationship!A161)*((moment_cd_relationship!B161-moment_cd_relationship!B162)/(moment_cd_relationship!A161-moment_cd_relationship!A162))+moment_cd_relationship!B161)*'LiFFT_v1.4.0'!$J$11","v":{"$error":"#VALUE!"}},{"$f":"(('LiFFT_v1.4.0'!$H$14-moment_cd_relationship!A161)*((moment_cd_relationship!B161-moment_cd_relationship!B162)/(moment_cd_relationship!A161-moment_cd_relationship!A162))+moment_cd_relationship!B161)*'LiFFT_v1.4.0'!$J$14","v":{"$error":"#VALUE!"}},{"$f":"(('LiFFT_v1.4.0'!$H$17-moment_cd_relationship!A161)*((moment_cd_relationship!B161-moment_cd_relationship!B162)/(moment_cd_relationship!A161-moment_cd_relationship!A162))+moment_cd_relationship!B161)*'LiFFT_v1.4.0'!$J$17","v":{"$error":"#VALUE!"}},{"$f":"(('LiFFT_v1.4.0'!$H$20-moment_cd_relationship!A161)*((moment_cd_relationship!B161-moment_cd_relationship!B162)/(moment_cd_relationship!A161-moment_cd_relationship!A162))+moment_cd_relationship!B161)*'LiFFT_v1.4.0'!$J$20","v":{"$error":"#VALUE!"}},{"$f":"(('LiFFT_v1.4.0'!$H$23-moment_cd_relationship!A161)*((moment_cd_relationship!B161-moment_cd_relationship!B162)/(moment_cd_relationship!A161-moment_cd_relationship!A162))+moment_cd_relationship!B161)*'LiFFT_v1.4.0'!$J$23","v":{"$error":"#VALUE!"}},{"$f":"(('LiFFT_v1.4.0'!$H$26-moment_cd_relationship!A161)*((moment_cd_relationship!B161-moment_cd_relationship!B162)/(moment_cd_relationship!A161-moment_cd_relationship!A162))+moment_cd_relationship!B161)*'LiFFT_v1.4.0'!$J$26","v":{"$error":"#VALUE!"}},{"$f":"(('LiFFT_v1.4.0'!$H$29-moment_cd_relationship!A161)*((moment_cd_relationship!B161-moment_cd_relationship!B162)/(moment_cd_relationship!A161-moment_cd_relationship!A162))+moment_cd_relationship!B161)*'LiFFT_v1.4.0'!$J$29","v":{"$error":"#VALUE!"}},{"$f":"(('LiFFT_v1.4.0'!$H$32-moment_cd_relationship!A161)*((moment_cd_relationship!B161-moment_cd_relationship!B162)/(moment_cd_relationship!A161-moment_cd_relationship!A162))+moment_cd_relationship!B161)*'LiFFT_v1.4.0'!$J$32","v":{"$error":"#VALUE!"}}]
[160,5.6398000000000004E-3,{"$f":"(('LiFFT_v1.4.0'!$H$5-moment_cd_relationship!A162)*((moment_cd_relationship!B162-moment_cd_relationship!B163)/(moment_cd_relationship!A162-moment_cd_relationship!A163))+moment_cd_relationship!B162)*'LiFFT_v1.4.0'!$J$5","v":-53.984550000000041},{"$f":"(('LiFFT_v1.4.0'!$H$8-moment_cd_relationship!A162)*((moment_cd_relationship!B162-moment_cd_relationship!B163)/(moment_cd_relationship!A162-moment_cd_relationship!A163))+moment_cd_relationship!B162)*'LiFFT_v1.4.0'!$J$8","v":{"$error":"#VALUE!"}},{"$f":"(('LiFFT_v1.4.0'!$H$11-moment_cd_relationship!A162)*((moment_cd_relationship!B162-moment_cd_relationship!B163)/(moment_cd_relationship!A162-moment_cd_relationship!A163))+moment_cd_relationship!B162)*'LiFFT_v1.4.0'!$J$11","v":{"$error":"#VALUE!"}},{"$f":"(('LiFFT_v1.4.0'!$H$14-moment_cd_relationship!A162)*((moment_cd_relationship!B162-moment_cd_relationship!B163)/(moment_cd_relationship!A162-moment_cd_relationship!A163))+moment_cd_relationship!B162)*'LiFFT_v1.4.0'!$J$14","v":{"$error":"#VALUE!"}},{"$f":"(('LiFFT_v1.4.0'!$H$17-moment_cd_relationship!A162)*((moment_cd_relationship!B162-moment_cd_relationship!B163)/(moment_cd_relationship!A162-moment_cd_relationship!A163))+moment_cd_relationship!B162)*'LiFFT_v1.4.0'!$J$17","v":{"$error":"#VALUE!"}},{"$f":"(('LiFFT_v1.4.0'!$H$20-moment_cd_relationship!A162)*((moment_cd_relationship!B162-moment_cd_relationship!B163)/(moment_cd_relationship!A162-moment_cd_relationship!A163))+moment_cd_relationship!B162)*'LiFFT_v1.4.0'!$J$20","v":{"$error":"#VALUE!"}},{"$f":"(('LiFFT_v1.4.0'!$H$23-moment_cd_relationship!A162)*((moment_cd_relationship!B162-moment_cd_relationship!B163)/(moment_cd_relationship!A162-moment_cd_relationship!A163))+moment_cd_relationship!B162)*'LiFFT_v1.4.0'!$J$23","v":{"$error":"#VALUE!"}},{"$f":"(('LiFFT_v1.4.0'!$H$26-moment_cd_relationship!A162)*((moment_cd_relationship!B162-moment_cd_relationship!B163)/(moment_cd_relationship!A162-moment_cd_relationship!A163))+moment_cd_relationship!B162)*'LiFFT_v1.4.0'!$J$26","v":{"$error":"#VALUE!"}},{"$f":"(('LiFFT_v1.4.0'!$H$29-moment_cd_relationship!A162)*((moment_cd_relationship!B162-moment_cd_relationship!B163)/(moment_cd_relationship!A162-moment_cd_relationship!A163))+moment_cd_relationship!B162)*'LiFFT_v1.4.0'!$J$29","v":{"$error":"#VALUE!"}},{"$f":"(('LiFFT_v1.4.0'!$H$32-moment_cd_relationship!A162)*((moment_cd_relationship!B162-moment_cd_relationship!B163)/(moment_cd_relationship!A162-moment_cd_relationship!A163))+moment_cd_relationship!B162)*'LiFFT_v1.4.0'!$J$32","v":{"$error":"#VALUE!"}}]
[161,5.9421999999999999E-3,{"$f":"(('LiFFT_v1.4.0'!$H$5-moment_cd_relationship!A163)*((moment_cd_relationship!B163-moment_cd_relationship!B164)/(moment_cd_relationship!A163-moment_cd_relationship!A164))+moment_cd_relationship!B163)*'LiFFT_v1.4.0'!$J$5","v":-57.312299999999901},{"$f":"(('LiFFT_v1.4.0'!$H$8-moment_cd_relationship!A163)*((moment_cd_relationship!B163-moment_cd_relationship!B164)/(moment_cd_relationship!A163-moment_cd_relationship!A164))+moment_cd_relationship!B163)*'LiFFT_v1.4.0'!$J$8","v":{"$error":"#VALUE!"}},{"$f":"(('LiFFT_v1.4.0'!$H$11-moment_cd_relationship!A163)*((moment_cd_relationship!B163-moment_cd_relationship!B164)/(moment_cd_relationship!A163-moment_cd_relationship!A164))+moment_cd_relationship!B163)*'LiFFT_v1.4.0'!$J$11","v":{"$error":"#VALUE!"}},{"$f":"(('LiFFT_v1.4.0'!$H$14-moment_cd_relationship!A163)*((moment_cd_relationship!B163-moment_cd_relationship!B164)/(moment_cd_relationship!A163-moment_cd_relationship!A164))+moment_cd_relationship!B163)*'LiFFT_v1.4.0'!$J$14","v":{"$error":"#VALUE!"}},{"$f":"(('LiFFT_v1.4.0'!$H$17-moment_cd_relationship!A163)*((moment_cd_relationship!B163-moment_cd_relationship!B164)/(moment_cd_relationship!A163-moment_cd_relationship!A164))+moment_cd_relationship!B163)*'LiFFT_v1.4.0'!$J$17","v":{"$error":"#VALUE!"}},{"$f":"(('LiFFT_v1.4.0'!$H$20-moment_cd_relationship!A163)*((moment_cd_relationship!B163-moment_cd_relationship!B164)/(moment_cd_relationship!A163-moment_cd_relationship!A164))+moment_cd_relationship!B163)*'LiFFT_v1.4.0'!$J$20","v":{"$error":"#VALUE!"}},{"$f":"(('LiFFT_v1.4.0'!$H$23-moment_cd_relationship!A163)*((moment_cd_relationship!B163-moment_cd_relationship!B164)/(moment_cd_relationship!A163-moment_cd_relationship!A164))+moment_cd_relationship!B163)*'LiFFT_v1.4.0'!$J$23","v":{"$error":"#VALUE!"}},{"$f":"(('LiFFT_v1.4.0'!$H$26-moment_cd_relationship!A163)*((moment_cd_relationship!B163-moment_cd_relationship!B164)/(moment_cd_relationship!A163-moment_cd_relationship!A164))+moment_cd_relationship!B163)*'LiFFT_v1.4.0'!$J$26","v":{"$error":"#VALUE!"}},{"$f":"(('LiFFT_v1.4.0'!$H$29-moment_cd_relationship!A163)*((moment_cd_relationship!B163-moment_cd_relationship!B164)/(moment_cd_relationship!A163-moment_cd_relationship!A164))+moment_cd_relationship!B163)*'LiFFT_v1.4.0'!$J$29","v":{"$error":"#VALUE!"}},{"$f":"(('LiFFT_v1.4.0'!$H$32-moment_cd_relationship!A163)*((moment_cd_relationship!B163-moment_cd_relationship!B164)/(moment_cd_relationship!A163-moment_cd_relationship!A164))+moment_cd_relationship!B163)*'LiFFT_v1.4.0'!$J$32","v":{"$error":"#VALUE!"}}]
[162,6.2610000000000001E-3,{"$f":"(('LiFFT_v1.4.0'!$H$5-moment_cd_relationship!A164)*((moment_cd_relationship!B164-moment_cd_relationship!B165)/(moment_cd_relationship!A164-moment_cd_relationship!A165))+moment_cd_relationship!B164)*'LiFFT_v1.4.0'!$J$5","v":-60.903900000000036},{"$f":"(('LiFFT_v1.4.0'!$H$8-moment_cd_relationship!A164)*((moment_cd_relationship!B164-moment_cd_relationship!B165)/(moment_cd_relationship!A164-moment_cd_relationship!A165))+moment_cd_relationship!B164)*'LiFFT_v1.4.0'!$J$8","v":{"$error":"#VALUE!"}},{"$f":"(('LiFFT_v1.4.0'!$H$11-moment_cd_relationship!A164)*((moment_cd_relationship!B164-moment_cd_relationship!B165)/(moment_cd_relationship!A164-moment_cd_relationship!A165))+moment_cd_relationship!B164)*'LiFFT_v1.4.0'!$J$11","v":{"$error":"#VALUE!"}},{"$f":"(('LiFFT_v1.4.0'!$H$14-moment_cd_relationship!A164)*((moment_cd_relationship!B164-moment_cd_relationship!B165)/(moment_cd_relationship!A164-moment_cd_relationship!A165))+moment_cd_relationship!B164)*'LiFFT_v1.4.0'!$J$14","v":{"$error":"#VALUE!"}},{"$f":"(('LiFFT_v1.4.0'!$H$17-moment_cd_relationship!A164)*((moment_cd_relationship!B164-moment_cd_relationship!B165)/(moment_cd_relationship!A164-moment_cd_relationship!A165))+moment_cd_relationship!B164)*'LiFFT_v1.4.0'!$J$17","v":{"$error":"#VALUE!"}},{"$f":"(('LiFFT_v1.4.0'!$H$20-moment_cd_relationship!A164)*((moment_cd_relationship!B164-moment_cd_relationship!B165)/(moment_cd_relationship!A164-moment_cd_relationship!A165))+moment_cd_relationship!B164)*'LiFFT_v1.4.0'!$J$20","v":{"$error":"#VALUE!"}},{"$f":"(('LiFFT_v1.4.0'!$H$23-moment_cd_relationship!A164)*((moment_cd_relationship!B164-moment_cd_relationship!B165)/(moment_cd_relationship!A164-moment_cd_relationship!A165))+moment_cd_relationship!B164)*'LiFFT_v1.4.0'!$J$23","v":{"$error":"#VALUE!"}},{"$f":"(('LiFFT_v1.4.0'!$H$26-moment_cd_relationship!A164)*((moment_cd_relationship!B164-moment_cd_relationship!B165)/(moment_cd_relationship!A164-moment_cd_relationship!A165))+moment_cd_relationship!B164)*'LiFFT_v1.4.0'!$J$26","v":{"$error":"#VALUE!"}},{"$f":"(('LiFFT_v1.4.0'!$H$29-moment_cd_relationship!A164)*((moment_cd_relationship!B164-moment_cd_relationship!B165)/(moment_cd_relationship!A164-moment_cd_relationship!A165))+moment_cd_relationship!B164)*'LiFFT_v1.4.0'!$J$29","v":{"$error":"#VALUE!"}},{"$f":"(('LiFFT_v1.4.0'!$H$32-moment_cd_relationship!A164)*((moment_cd_relationship!B164-moment_cd_relationship!B165)/(moment_cd_relationship!A164-moment_cd_relationship!A165))+moment_cd_relationship!B164)*'LiFFT_v1.4.0'!$J$32","v":{"$error":"#VALUE!"}}]
[163,6.5970000000000004E-3,{"$f":"(('LiFFT_v1.4.0'!$H$5-moment_cd_relationship!A165)*((moment_cd_relationship!B165-moment_cd_relationship!B166)/(moment_cd_relationship!A165-moment_cd_relationship!A166))+moment_cd_relationship!B165)*'LiFFT_v1.4.0'!$J$5","v":-64.696500000000071},{"$f":"(('LiFFT_v1.4.0'!$H$8-moment_cd_relationship!A165)*((moment_cd_relationship!B165-moment_cd_relationship!B166)/(moment_cd_relationship!A165-moment_cd_relationship!A166))+moment_cd_relationship!B165)*'LiFFT_v1.4.0'!$J$8","v":{"$error":"#VALUE!"}},{"$f":"(('LiFFT_v1.4.0'!$H$11-moment_cd_relationship!A165)*((moment_cd_relationship!B165-moment_cd_relationship!B166)/(moment_cd_relationship!A165-moment_cd_relationship!A166))+moment_cd_relationship!B165)*'LiFFT_v1.4.0'!$J$11","v":{"$error":"#VALUE!"}},{"$f":"(('LiFFT_v1.4.0'!$H$14-moment_cd_relationship!A165)*((moment_cd_relationship!B165-moment_cd_relationship!B166)/(moment_cd_relationship!A165-moment_cd_relationship!A166))+moment_cd_relationship!B165)*'LiFFT_v1.4.0'!$J$14","v":{"$error":"#VALUE!"}},{"$f":"(('LiFFT_v1.4.0'!$H$17-moment_cd_relationship!A165)*((moment_cd_relationship!B165-moment_cd_relationship!B166)/(moment_cd_relationship!A165-moment_cd_relationship!A166))+moment_cd_relationship!B165)*'LiFFT_v1.4.0'!$J$17","v":{"$error":"#VALUE!"}},{"$f":"(('LiFFT_v1.4.0'!$H$20-moment_cd_relationship!A165)*((moment_cd_relationship!B165-moment_cd_relationship!B166)/(moment_cd_relationship!A165-moment_cd_relationship!A166))+moment_cd_relationship!B165)*'LiFFT_v1.4.0'!$J$20","v":{"$error":"#VALUE!"}},{"$f":"(('LiFFT_v1.4.0'!$H$23-moment_cd_relationship!A165)*((moment_cd_relationship!B165-moment_cd_relationship!B166)/(moment_cd_relationship!A165-moment_cd_relationship!A166))+moment_cd_relationship!B165)*'LiFFT_v1.4.0'!$J$23","v":{"$error":"#VALUE!"}},{"$f":"(('LiFFT_v1.4.0'!$H$26-moment_cd_relationship!A165)*((moment_cd_relationship!B165-moment_cd_relationship!B166)/(moment_cd_relationship!A165-moment_cd_relationship!A166))+moment_cd_relationship!B165)*'LiFFT_v1.4.0'!$J$26","v":{"$error":"#VALUE!"}},{"$f":"(('LiFFT_v1.4.0'!$H$29-moment_cd_relationship!A165)*((moment_cd_relationship!B165-moment_cd_relationship!B166)/(moment_cd_relationship!A165-moment_cd_relationship!A166))+moment_cd_relationship!B165)*'LiFFT_v1.4.0'!$J$29","v":{"$error":"#VALUE!"}},{"$f":"(('LiFFT_v1.4.0'!$H$32-moment_cd_relationship!A165)*((moment_cd_relationship!B165-moment_cd_relationship!B166)/(moment_cd_relationship!A165-moment_cd_relationship!A166))+moment_cd_relationship!B165)*'LiFFT_v1.4.0'!$J$32","v":{"$error":"#VALUE!"}}]
[164,6.9511E-3,{"$f":"(('LiFFT_v1.4.0'!$H$5-moment_cd_relationship!A166)*((moment_cd_relationship!B166-moment_cd_relationship!B167)/(moment_cd_relationship!A166-moment_cd_relationship!A167))+moment_cd_relationship!B166)*'LiFFT_v1.4.0'!$J$5","v":-68.714699999999908},{"$f":"(('LiFFT_v1.4.0'!$H$8-moment_cd_relationship!A166)*((moment_cd_relationship!B166-moment_cd_relationship!B167)/(moment_cd_relationship!A166-moment_cd_relationship!A167))+moment_cd_relationship!B166)*'LiFFT_v1.4.0'!$J$8","v":{"$error":"#VALUE!"}},{"$f":"(('LiFFT_v1.4.0'!$H$11-moment_cd_relationship!A166)*((moment_cd_relationship!B166-moment_cd_relationship!B167)/(moment_cd_relationship!A166-moment_cd_relationship!A167))+moment_cd_relationship!B166)*'LiFFT_v1.4.0'!$J$11","v":{"$error":"#VALUE!"}},{"$f":"(('LiFFT_v1.4.0'!$H$14-moment_cd_relationship!A166)*((moment_cd_relationship!B166-moment_cd_relationship!B167)/(moment_cd_relationship!A166-moment_cd_relationship!A167))+moment_cd_relationship!B166)*'LiFFT_v1.4.0'!$J$14","v":{"$error":"#VALUE!"}},{"$f":"(('LiFFT_v1.4.0'!$H$17-moment_cd_relationship!A166)*((moment_cd_relationship!B166-moment_cd_relationship!B167)/(moment_cd_relationship!A166-moment_cd_relationship!A167))+moment_cd_relationship!B166)*'LiFFT_v1.4.0'!$J$17","v":{"$error":"#VALUE!"}},{"$f":"(('LiFFT_v1.4.0'!$H$20-moment_cd_relationship!A166)*((moment_cd_relationship!B166-moment_cd_relationship!B167)/(moment_cd_relationship!A166-moment_cd_relationship!A167))+moment_cd_relationship!B166)*'LiFFT_v1.4.0'!$J$20","v":{"$error":"#VALUE!"}},{"$f":"(('LiFFT_v1.4.0'!$H$23-moment_cd_relationship!A166)*((moment_cd_relationship!B166-moment_cd_relationship!B167)/(moment_cd_relationship!A166-moment_cd_relationship!A167))+moment_cd_relationship!B166)*'LiFFT_v1.4.0'!$J$23","v":{"$error":"#VALUE!"}},{"$f":"(('LiFFT_v1.4.0'!$H$26-moment_cd_relationship!A166)*((moment_cd_relationship!B166-moment_cd_relationship!B167)/(moment_cd_relationship!A166-moment_cd_relationship!A167))+moment_cd_relationship!B166)*'LiFFT_v1.4.0'!$J$26","v":{"$error":"#VALUE!"}},{"$f":"(('LiFFT_v1.4.0'!$H$29-moment_cd_relationship!A166)*((moment_cd_relationship!B166-moment_cd_relationship!B167)/(moment_cd_relationship!A166-moment_cd_relationship!A167))+moment_cd_relationship!B166)*'LiFFT_v1.4.0'!$J$29","v":{"$error":"#VALUE!"}},{"$f":"(('LiFFT_v1.4.0'!$H$32-moment_cd_relationship!A166)*((moment_cd_relationship!B166-moment_cd_relationship!B167)/(moment_cd_relationship!A166-moment_cd_relationship!A167))+moment_cd_relationship!B166)*'LiFFT_v1.4.0'!$J$32","v":{"$error":"#VALUE!"}}]
[165,7.3242000000000003E-3,{"$f":"(('LiFFT_v1.4.0'!$H$5-moment_cd_relationship!A167)*((moment_cd_relationship!B167-moment_cd_relationship!B168)/(moment_cd_relationship!A167-moment_cd_relationship!A168))+moment_cd_relationship!B167)*'LiFFT_v1.4.0'!$J$5","v":-72.961200000000076},{"$f":"(('LiFFT_v1.4.0'!$H$8-moment_cd_relationship!A167)*((moment_cd_relationship!B167-moment_cd_relationship!B168)/(moment_cd_relationship!A167-moment_cd_relationship!A168))+moment_cd_relationship!B167)*'LiFFT_v1.4.0'!$J$8","v":{"$error":"#VALUE!"}},{"$f":"(('LiFFT_v1.4.0'!$H$11-moment_cd_relationship!A167)*((moment_cd_relationship!B167-moment_cd_relationship!B168)/(moment_cd_relationship!A167-moment_cd_relationship!A168))+moment_cd_relationship!B167)*'LiFFT_v1.4.0'!$J$11","v":{"$error":"#VALUE!"}},{"$f":"(('LiFFT_v1.4.0'!$H$14-moment_cd_relationship!A167)*((moment_cd_relationship!B167-moment_cd_relationship!B168)/(moment_cd_relationship!A167-moment_cd_relationship!A168))+moment_cd_relationship!B167)*'LiFFT_v1.4.0'!$J$14","v":{"$error":"#VALUE!"}},{"$f":"(('LiFFT_v1.4.0'!$H$17-moment_cd_relationship!A167)*((moment_cd_relationship!B167-moment_cd_relationship!B168)/(moment_cd_relationship!A167-moment_cd_relationship!A168))+moment_cd_relationship!B167)*'LiFFT_v1.4.0'!$J$17","v":{"$error":"#VALUE!"}},{"$f":"(('LiFFT_v1.4.0'!$H$20-moment_cd_relationship!A167)*((moment_cd_relationship!B167-moment_cd_relationship!B168)/(moment_cd_relationship!A167-moment_cd_relationship!A168))+moment_cd_relationship!B167)*'LiFFT_v1.4.0'!$J$20","v":{"$error":"#VALUE!"}},{"$f":"(('LiFFT_v1.4.0'!$H$23-moment_cd_relationship!A167)*((moment_cd_relationship!B167-moment_cd_relationship!B168)/(moment_cd_relationship!A167-moment_cd_relationship!A168))+moment_cd_relationship!B167)*'LiFFT_v1.4.0'!$J$23","v":{"$error":"#VALUE!"}},{"$f":"(('LiFFT_v1.4.0'!$H$26-moment_cd_relationship!A167)*((moment_cd_relationship!B167-moment_cd_relationship!B168)/(moment_cd_relationship!A167-moment_cd_relationship!A168))+moment_cd_relationship!B167)*'LiFFT_v1.4.0'!$J$26","v":{"$error":"#VALUE!"}},{"$f":"(('LiFFT_v1.4.0'!$H$29-moment_cd_relationship!A167)*((moment_cd_relationship!B167-moment_cd_relationship!B168)/(moment_cd_relationship!A167-moment_cd_relationship!A168))+moment_cd_relationship!B167)*'LiFFT_v1.4.0'!$J$29","v":{"$error":"#VALUE!"}},{"$f":"(('LiFFT_v1.4.0'!$H$32-moment_cd_relationship!A167)*((moment_cd_relationship!B167-moment_cd_relationship!B168)/(moment_cd_relationship!A167-moment_cd_relationship!A168))+moment_cd_relationship!B167)*'LiFFT_v1.4.0'!$J$32","v":{"$error":"#VALUE!"}}]
[166,7.7175000000000004E-3,{"$f":"(('LiFFT_v1.4.0'!$H$5-moment_cd_relationship!A168)*((moment_cd_relationship!B168-moment_cd_relationship!B169)/(moment_cd_relationship!A168-moment_cd_relationship!A169))+moment_cd_relationship!B168)*'LiFFT_v1.4.0'!$J$5","v":-77.506200000000021},{"$f":"(('LiFFT_v1.4.0'!$H$8-moment_cd_relationship!A168)*((moment_cd_relationship!B168-moment_cd_relationship!B169)/(moment_cd_relationship!A168-moment_cd_relationship!A169))+moment_cd_relationship!B168)*'LiFFT_v1.4.0'!$J$8","v":{"$error":"#VALUE!"}},{"$f":"(('LiFFT_v1.4.0'!$H$11-moment_cd_relationship!A168)*((moment_cd_relationship!B168-moment_cd_relationship!B169)/(moment_cd_relationship!A168-moment_cd_relationship!A169))+moment_cd_relationship!B168)*'LiFFT_v1.4.0'!$J$11","v":{"$error":"#VALUE!"}},{"$f":"(('LiFFT_v1.4.0'!$H$14-moment_cd_relationship!A168)*((moment_cd_relationship!B168-moment_cd_relationship!B169)/(moment_cd_relationship!A168-moment_cd_relationship!A169))+moment_cd_relationship!B168)*'LiFFT_v1.4.0'!$J$14","v":{"$error":"#VALUE!"}},{"$f":"(('LiFFT_v1.4.0'!$H$17-moment_cd_relationship!A168)*((moment_cd_relationship!B168-moment_cd_relationship!B169)/(moment_cd_relationship!A168-moment_cd_relationship!A169))+moment_cd_relationship!B168)*'LiFFT_v1.4.0'!$J$17","v":{"$error":"#VALUE!"}},{"$f":"(('LiFFT_v1.4.0'!$H$20-moment_cd_relationship!A168)*((moment_cd_relationship!B168-moment_cd_relationship!B169)/(moment_cd_relationship!A168-moment_cd_relationship!A169))+moment_cd_relationship!B168)*'LiFFT_v1.4.0'!$J$20","v":{"$error":"#VALUE!"}},{"$f":"(('LiFFT_v1.4.0'!$H$23-moment_cd_relationship!A168)*((moment_cd_relationship!B168-moment_cd_relationship!B169)/(moment_cd_relationship!A168-moment_cd_relationship!A169))+moment_cd_relationship!B168)*'LiFFT_v1.4.0'!$J$23","v":{"$error":"#VALUE!"}},{"$f":"(('LiFFT_v1.4.0'!$H$26-moment_cd_relationship!A168)*((moment_cd_relationship!B168-moment_cd_relationship!B169)/(moment_cd_relationship!A168-moment_cd_relationship!A169))+moment_cd_relationship!B168)*'LiFFT_v1.4.0'!$J$26","v":{"$error":"#VALUE!"}},{"$f":"(('LiFFT_v1.4.0'!$H$29-moment_cd_relationship!A168)*((moment_cd_relationship!B168-moment_cd_relationship!B169)/(moment_cd_relationship!A168-moment_cd_relationship!A169))+moment_cd_relationship!B168)*'LiFFT_v1.4.0'!$J$29","v":{"$error":"#VALUE!"}},{"$f":"(('LiFFT_v1.4.0'!$H$32-moment_cd_relationship!A168)*((moment_cd_relationship!B168-moment_cd_relationship!B169)/(moment_cd_relationship!A168-moment_cd_relationship!A169))+moment_cd_relationship!B168)*'LiFFT_v1.4.0'!$J$32","v":{"$error":"#VALUE!"}}]
[167,8.1318999999999992E-3,{"$f":"(('LiFFT_v1.4.0'!$H$5-moment_cd_relationship!A169)*((moment_cd_relationship!B169-moment_cd_relationship!B170)/(moment_cd_relationship!A169-moment_cd_relationship!A170))+moment_cd_relationship!B169)*'LiFFT_v1.4.0'!$J$5","v":-82.285349999999724},{"$f":"(('LiFFT_v1.4.0'!$H$8-moment_cd_relationship!A169)*((moment_cd_relationship!B169-moment_cd_relationship!B170)/(moment_cd_relationship!A169-moment_cd_relationship!A170))+moment_cd_relationship!B169)*'LiFFT_v1.4.0'!$J$8","v":{"$error":"#VALUE!"}},{"$f":"(('LiFFT_v1.4.0'!$H$11-moment_cd_relationship!A169)*((moment_cd_relationship!B169-moment_cd_relationship!B170)/(moment_cd_relationship!A169-moment_cd_relationship!A170))+moment_cd_relationship!B169)*'LiFFT_v1.4.0'!$J$11","v":{"$error":"#VALUE!"}},{"$f":"(('LiFFT_v1.4.0'!$H$14-moment_cd_relationship!A169)*((moment_cd_relationship!B169-moment_cd_relationship!B170)/(moment_cd_relationship!A169-moment_cd_relationship!A170))+moment_cd_relationship!B169)*'LiFFT_v1.4.0'!$J$14","v":{"$error":"#VALUE!"}},{"$f":"(('LiFFT_v1.4.0'!$H$17-moment_cd_relationship!A169)*((moment_cd_relationship!B169-moment_cd_relationship!B170)/(moment_cd_relationship!A169-moment_cd_relationship!A170))+moment_cd_relationship!B169)*'LiFFT_v1.4.0'!$J$17","v":{"$error":"#VALUE!"}},{"$f":"(('LiFFT_v1.4.0'!$H$20-moment_cd_relationship!A169)*((moment_cd_relationship!B169-moment_cd_relationship!B170)/(moment_cd_relationship!A169-moment_cd_relationship!A170))+moment_cd_relationship!B169)*'LiFFT_v1.4.0'!$J$20","v":{"$error":"#VALUE!"}},{"$f":"(('LiFFT_v1.4.0'!$H$23-moment_cd_relationship!A169)*((moment_cd_relationship!B169-moment_cd_relationship!B170)/(moment_cd_relationship!A169-moment_cd_relationship!A170))+moment_cd_relationship!B169)*'LiFFT_v1.4.0'!$J$23","v":{"$error":"#VALUE!"}},{"$f":"(('LiFFT_v1.4.0'!$H$26-moment_cd_relationship!A169)*((moment_cd_relationship!B169-moment_cd_relationship!B170)/(moment_cd_relationship!A169-moment_cd_relationship!A170))+moment_cd_relationship!B169)*'LiFFT_v1.4.0'!$J$26","v":{"$error":"#VALUE!"}},{"$f":"(('LiFFT_v1.4.0'!$H$29-moment_cd_relationship!A169)*((moment_cd_relationship!B169-moment_cd_relationship!B170)/(moment_cd_relationship!A169-moment_cd_relationship!A170))+moment_cd_relationship!B169)*'LiFFT_v1.4.0'!$J$29","v":{"$error":"#VALUE!"}},{"$f":"(('LiFFT_v1.4.0'!$H$32-moment_cd_relationship!A169)*((moment_cd_relationship!B169-moment_cd_relationship!B170)/(moment_cd_relationship!A169-moment_cd_relationship!A170))+moment_cd_relationship!B169)*'LiFFT_v1.4.0'!$J$32","v":{"$error":"#VALUE!"}}]
[168,8.5687999999999997E-3,{"$f":"(('LiFFT_v1.4.0'!$H$5-moment_cd_relationship!A170)*((moment_cd_relationship!B170-moment_cd_relationship!B171)/(moment_cd_relationship!A170-moment_cd_relationship!A171))+moment_cd_relationship!B170)*'LiFFT_v1.4.0'!$J$5","v":-87.415350000000117},{"$f":"(('LiFFT_v1.4.0'!$H$8-moment_cd_relationship!A170)*((moment_cd_relationship!B170-moment_cd_relationship!B171)/(moment_cd_relationship!A170-moment_cd_relationship!A171))+moment_cd_relationship!B170)*'LiFFT_v1.4.0'!$J$8","v":{"$error":"#VALUE!"}},{"$f":"(('LiFFT_v1.4.0'!$H$11-moment_cd_relationship!A170)*((moment_cd_relationship!B170-moment_cd_relationship!B171)/(moment_cd_relationship!A170-moment_cd_relationship!A171))+moment_cd_relationship!B170)*'LiFFT_v1.4.0'!$J$11","v":{"$error":"#VALUE!"}},{"$f":"(('LiFFT_v1.4.0'!$H$14-moment_cd_relationship!A170)*((moment_cd_relationship!B170-moment_cd_relationship!B171)/(moment_cd_relationship!A170-moment_cd_relationship!A171))+moment_cd_relationship!B170)*'LiFFT_v1.4.0'!$J$14","v":{"$error":"#VALUE!"}},{"$f":"(('LiFFT_v1.4.0'!$H$17-moment_cd_relationship!A170)*((moment_cd_relationship!B170-moment_cd_relationship!B171)/(moment_cd_relationship!A170-moment_cd_relationship!A171))+moment_cd_relationship!B170)*'LiFFT_v1.4.0'!$J$17","v":{"$error":"#VALUE!"}},{"$f":"(('LiFFT_v1.4.0'!$H$20-moment_cd_relationship!A170)*((moment_cd_relationship!B170-moment_cd_relationship!B171)/(moment_cd_relationship!A170-moment_cd_relationship!A171))+moment_cd_relationship!B170)*'LiFFT_v1.4.0'!$J$20","v":{"$error":"#VALUE!"}},{"$f":"(('LiFFT_v1.4.0'!$H$23-moment_cd_relationship!A170)*((moment_cd_relationship!B170-moment_cd_relationship!B171)/(moment_cd_relationship!A170-moment_cd_relationship!A171))+moment_cd_relationship!B170)*'LiFFT_v1.4.0'!$J$23","v":{"$error":"#VALUE!"}},{"$f":"(('LiFFT_v1.4.0'!$H$26-moment_cd_relationship!A170)*((moment_cd_relationship!B170-moment_cd_relationship!B171)/(moment_cd_relationship!A170-moment_cd_relationship!A171))+moment_cd_relationship!B170)*'LiFFT_v1.4.0'!$J$26","v":{"$error":"#VALUE!"}},{"$f":"(('LiFFT_v1.4.0'!$H$29-moment_cd_relationship!A170)*((moment_cd_relationship!B170-moment_cd_relationship!B171)/(moment_cd_relationship!A170-moment_cd_relationship!A171))+moment_cd_relationship!B170)*'LiFFT_v1.4.0'!$J$29","v":{"$error":"#VALUE!"}},{"$f":"(('LiFFT_v1.4.0'!$H$32-moment_cd_relationship!A170)*((moment_cd_relationship!B170-moment_cd_relationship!B171)/(moment_cd_relationship!A170-moment_cd_relationship!A171))+moment_cd_relationship!B170)*'LiFFT_v1.4.0'!$J$32","v":{"$error":"#VALUE!"}}]
[169,9.0291999999999994E-3,{"$f":"(('LiFFT_v1.4.0'!$H$5-moment_cd_relationship!A171)*((moment_cd_relationship!B171-moment_cd_relationship!B172)/(moment_cd_relationship!A171-moment_cd_relationship!A172))+moment_cd_relationship!B171)*'LiFFT_v1.4.0'!$J$5","v":-92.808599999999927},{"$f":"(('LiFFT_v1.4.0'!$H$8-moment_cd_relationship!A171)*((moment_cd_relationship!B171-moment_cd_relationship!B172)/(moment_cd_relationship!A171-moment_cd_relationship!A172))+moment_cd_relationship!B171)*'LiFFT_v1.4.0'!$J$8","v":{"$error":"#VALUE!"}},{"$f":"(('LiFFT_v1.4.0'!$H$11-moment_cd_relationship!A171)*((moment_cd_relationship!B171-moment_cd_relationship!B172)/(moment_cd_relationship!A171-moment_cd_relationship!A172))+moment_cd_relationship!B171)*'LiFFT_v1.4.0'!$J$11","v":{"$error":"#VALUE!"}},{"$f":"(('LiFFT_v1.4.0'!$H$14-moment_cd_relationship!A171)*((moment_cd_relationship!B171-moment_cd_relationship!B172)/(moment_cd_relationship!A171-moment_cd_relationship!A172))+moment_cd_relationship!B171)*'LiFFT_v1.4.0'!$J$14","v":{"$error":"#VALUE!"}},{"$f":"(('LiFFT_v1.4.0'!$H$17-moment_cd_relationship!A171)*((moment_cd_relationship!B171-moment_cd_relationship!B172)/(moment_cd_relationship!A171-moment_cd_relationship!A172))+moment_cd_relationship!B171)*'LiFFT_v1.4.0'!$J$17","v":{"$error":"#VALUE!"}},{"$f":"(('LiFFT_v1.4.0'!$H$20-moment_cd_relationship!A171)*((moment_cd_relationship!B171-moment_cd_relationship!B172)/(moment_cd_relationship!A171-moment_cd_relationship!A172))+moment_cd_relationship!B171)*'LiFFT_v1.4.0'!$J$20","v":{"$error":"#VALUE!"}},{"$f":"(('LiFFT_v1.4.0'!$H$23-moment_cd_relationship!A171)*((moment_cd_relationship!B171-moment_cd_relationship!B172)/(moment_cd_relationship!A171-moment_cd_relationship!A172))+moment_cd_relationship!B171)*'LiFFT_v1.4.0'!$J$23","v":{"$error":"#VALUE!"}},{"$f":"(('LiFFT_v1.4.0'!$H$26-moment_cd_relationship!A171)*((moment_cd_relationship!B171-moment_cd_relationship!B172)/(moment_cd_relationship!A171-moment_cd_relationship!A172))+moment_cd_relationship!B171)*'LiFFT_v1.4.0'!$J$26","v":{"$error":"#VALUE!"}},{"$f":"(('LiFFT_v1.4.0'!$H$29-moment_cd_relationship!A171)*((moment_cd_relationship!B171-moment_cd_relationship!B172)/(moment_cd_relationship!A171-moment_cd_relationship!A172))+moment_cd_relationship!B171)*'LiFFT_v1.4.0'!$J$29","v":{"$error":"#VALUE!"}},{"$f":"(('LiFFT_v1.4.0'!$H$32-moment_cd_relationship!A171)*((moment_cd_relationship!B171-moment_cd_relationship!B172)/(moment_cd_relationship!A171-moment_cd_relationship!A172))+moment_cd_relationship!B171)*'LiFFT_v1.4.0'!$J$32","v":{"$error":"#VALUE!"}}]
[170,9.5143999999999992E-3,{"$f":"(('LiFFT_v1.4.0'!$H$5-moment_cd_relationship!A172)*((moment_cd_relationship!B172-moment_cd_relationship!B173)/(moment_cd_relationship!A172-moment_cd_relationship!A173))+moment_cd_relationship!B172)*'LiFFT_v1.4.0'!$J$5","v":-98.537399999999963},{"$f":"(('LiFFT_v1.4.0'!$H$8-moment_cd_relationship!A172)*((moment_cd_relationship!B172-moment_cd_relationship!B173)/(moment_cd_relationship!A172-moment_cd_relationship!A173))+moment_cd_relationship!B172)*'LiFFT_v1.4.0'!$J$8","v":{"$error":"#VALUE!"}},{"$f":"(('LiFFT_v1.4.0'!$H$11-moment_cd_relationship!A172)*((moment_cd_relationship!B172-moment_cd_relationship!B173)/(moment_cd_relationship!A172-moment_cd_relationship!A173))+moment_cd_relationship!B172)*'LiFFT_v1.4.0'!$J$11","v":{"$error":"#VALUE!"}},{"$f":"(('LiFFT_v1.4.0'!$H$14-moment_cd_relationship!A172)*((moment_cd_relationship!B172-moment_cd_relationship!B173)/(moment_cd_relationship!A172-moment_cd_relationship!A173))+moment_cd_relationship!B172)*'LiFFT_v1.4.0'!$J$14","v":{"$error":"#VALUE!"}},{"$f":"(('LiFFT_v1.4.0'!$H$17-moment_cd_relationship!A172)*((moment_cd_relationship!B172-moment_cd_relationship!B173)/(moment_cd_relationship!A172-moment_cd_relationship!A173))+moment_cd_relationship!B172)*'LiFFT_v1.4.0'!$J$17","v":{"$error":"#VALUE!"}},{"$f":"(('LiFFT_v1.4.0'!$H$20-moment_cd_relationship!A172)*((moment_cd_relationship!B172-moment_cd_relationship!B173)/(moment_cd_relationship!A172-moment_cd_relationship!A173))+moment_cd_relationship!B172)*'LiFFT_v1.4.0'!$J$20","v":{"$error":"#VALUE!"}},{"$f":"(('LiFFT_v1.4.0'!$H$23-moment_cd_relationship!A172)*((moment_cd_relationship!B172-moment_cd_relationship!B173)/(moment_cd_relationship!A172-moment_cd_relationship!A173))+moment_cd_relationship!B172)*'LiFFT_v1.4.0'!$J$23","v":{"$error":"#VALUE!"}},{"$f":"(('LiFFT_v1.4.0'!$H$26-moment_cd_relationship!A172)*((moment_cd_relationship!B172-moment_cd_relationship!B173)/(moment_cd_relationship!A172-moment_cd_relationship!A173))+moment_cd_relationship!B172)*'LiFFT_v1.4.0'!$J$26","v":{"$error":"#VALUE!"}},{"$f":"(('LiFFT_v1.4.0'!$H$29-moment_cd_relationship!A172)*((moment_cd_relationship!B172-moment_cd_relationship!B173)/(moment_cd_relationship!A172-moment_cd_relationship!A173))+moment_cd_relationship!B172)*'LiFFT_v1.4.0'!$J$29","v":{"$error":"#VALUE!"}},{"$f":"(('LiFFT_v1.4.0'!$H$32-moment_cd_relationship!A172)*((moment_cd_relationship!B172-moment_cd_relationship!B173)/(moment_cd_relationship!A172-moment_cd_relationship!A173))+moment_cd_relationship!B172)*'LiFFT_v1.4.0'!$J$32","v":{"$error":"#VALUE!"}}]
[171,1.00258E-2,{"$f":"(('LiFFT_v1.4.0'!$H$5-moment_cd_relationship!A173)*((moment_cd_relationship!B173-moment_cd_relationship!B174)/(moment_cd_relationship!A173-moment_cd_relationship!A174))+moment_cd_relationship!B173)*'LiFFT_v1.4.0'!$J$5","v":-104.62890000000009},{"$f":"(('LiFFT_v1.4.0'!$H$8-moment_cd_relationship!A173)*((moment_cd_relationship!B173-moment_cd_relationship!B174)/(moment_cd_relationship!A173-moment_cd_relationship!A174))+moment_cd_relationship!B173)*'LiFFT_v1.4.0'!$J$8","v":{"$error":"#VALUE!"}},{"$f":"(('LiFFT_v1.4.0'!$H$11-moment_cd_relationship!A173)*((moment_cd_relationship!B173-moment_cd_relationship!B174)/(moment_cd_relationship!A173-moment_cd_relationship!A174))+moment_cd_relationship!B173)*'LiFFT_v1.4.0'!$J$11","v":{"$error":"#VALUE!"}},{"$f":"(('LiFFT_v1.4.0'!$H$14-moment_cd_relationship!A173)*((moment_cd_relationship!B173-moment_cd_relationship!B174)/(moment_cd_relationship!A173-moment_cd_relationship!A174))+moment_cd_relationship!B173)*'LiFFT_v1.4.0'!$J$14","v":{"$error":"#VALUE!"}},{"$f":"(('LiFFT_v1.4.0'!$H$17-moment_cd_relationship!A173)*((moment_cd_relationship!B173-moment_cd_relationship!B174)/(moment_cd_relationship!A173-moment_cd_relationship!A174))+moment_cd_relationship!B173)*'LiFFT_v1.4.0'!$J$17","v":{"$error":"#VALUE!"}},{"$f":"(('LiFFT_v1.4.0'!$H$20-moment_cd_relationship!A173)*((moment_cd_relationship!B173-moment_cd_relationship!B174)/(moment_cd_relationship!A173-moment_cd_relationship!A174))+moment_cd_relationship!B173)*'LiFFT_v1.4.0'!$J$20","v":{"$error":"#VALUE!"}},{"$f":"(('LiFFT_v1.4.0'!$H$23-moment_cd_relationship!A173)*((moment_cd_relationship!B173-moment_cd_relationship!B174)/(moment_cd_relationship!A173-moment_cd_relationship!A174))+moment_cd_relationship!B173)*'LiFFT_v1.4.0'!$J$23","v":{"$error":"#VALUE!"}},{"$f":"(('LiFFT_v1.4.0'!$H$26-moment_cd_relationship!A173)*((moment_cd_relationship!B173-moment_cd_relationship!B174)/(moment_cd_relationship!A173-moment_cd_relationship!A174))+moment_cd_relationship!B173)*'LiFFT_v1.4.0'!$J$26","v":{"$error":"#VALUE!"}},{"$f":"(('LiFFT_v1.4.0'!$H$29-moment_cd_relationship!A173)*((moment_cd_relationship!B173-moment_cd_relationship!B174)/(moment_cd_relationship!A173-moment_cd_relationship!A174))+moment_cd_relationship!B173)*'LiFFT_v1.4.0'!$J$29","v":{"$error":"#VALUE!"}},{"$f":"(('LiFFT_v1.4.0'!$H$32-moment_cd_relationship!A173)*((moment_cd_relationship!B173-moment_cd_relationship!B174)/(moment_cd_relationship!A173-moment_cd_relationship!A174))+moment_cd_relationship!B173)*'LiFFT_v1.4.0'!$J$32","v":{"$error":"#VALUE!"}}]
[172,1.05649E-2,{"$f":"(('LiFFT_v1.4.0'!$H$5-moment_cd_relationship!A174)*((moment_cd_relationship!B174-moment_cd_relationship!B175)/(moment_cd_relationship!A174-moment_cd_relationship!A175))+moment_cd_relationship!B174)*'LiFFT_v1.4.0'!$J$5","v":-111.11070000000016},{"$f":"(('LiFFT_v1.4.0'!$H$8-moment_cd_relationship!A174)*((moment_cd_relationship!B174-moment_cd_relationship!B175)/(moment_cd_relationship!A174-moment_cd_relationship!A175))+moment_cd_relationship!B174)*'LiFFT_v1.4.0'!$J$8","v":{"$error":"#VALUE!"}},{"$f":"(('LiFFT_v1.4.0'!$H$11-moment_cd_relationship!A174)*((moment_cd_relationship!B174-moment_cd_relationship!B175)/(moment_cd_relationship!A174-moment_cd_relationship!A175))+moment_cd_relationship!B174)*'LiFFT_v1.4.0'!$J$11","v":{"$error":"#VALUE!"}},{"$f":"(('LiFFT_v1.4.0'!$H$14-moment_cd_relationship!A174)*((moment_cd_relationship!B174-moment_cd_relationship!B175)/(moment_cd_relationship!A174-moment_cd_relationship!A175))+moment_cd_relationship!B174)*'LiFFT_v1.4.0'!$J$14","v":{"$error":"#VALUE!"}},{"$f":"(('LiFFT_v1.4.0'!$H$17-moment_cd_relationship!A174)*((moment_cd_relationship!B174-moment_cd_relationship!B175)/(moment_cd_relationship!A174-moment_cd_relationship!A175))+moment_cd_relationship!B174)*'LiFFT_v1.4.0'!$J$17","v":{"$error":"#VALUE!"}},{"$f":"(('LiFFT_v1.4.0'!$H$20-moment_cd_relationship!A174)*((moment_cd_relationship!B174-moment_cd_relationship!B175)/(moment_cd_relationship!A174-moment_cd_relationship!A175))+moment_cd_relationship!B174)*'LiFFT_v1.4.0'!$J$20","v":{"$error":"#VALUE!"}},{"$f":"(('LiFFT_v1.4.0'!$H$23-moment_cd_relationship!A174)*((moment_cd_relationship!B174-moment_cd_relationship!B175)/(moment_cd_relationship!A174-moment_cd_relationship!A175))+moment_cd_relationship!B174)*'LiFFT_v1.4.0'!$J$23","v":{"$error":"#VALUE!"}},{"$f":"(('LiFFT_v1.4.0'!$H$26-moment_cd_relationship!A174)*((moment_cd_relationship!B174-moment_cd_relationship!B175)/(moment_cd_relationship!A174-moment_cd_relationship!A175))+moment_cd_relationship!B174)*'LiFFT_v1.4.0'!$J$26","v":{"$error":"#VALUE!"}},{"$f":"(('LiFFT_v1.4.0'!$H$29-moment_cd_relationship!A174)*((moment_cd_relationship!B174-moment_cd_relationship!B175)/(moment_cd_relationship!A174-moment_cd_relationship!A175))+moment_cd_relationship!B174)*'LiFFT_v1.4.0'!$J$29","v":{"$error":"#VALUE!"}},{"$f":"(('LiFFT_v1.4.0'!$H$32-moment_cd_relationship!A174)*((moment_cd_relationship!B174-moment_cd_relationship!B175)/(moment_cd_relationship!A174-moment_cd_relationship!A175))+moment_cd_relationship!B174)*'LiFFT_v1.4.0'!$J$32","v":{"$error":"#VALUE!"}}]
[173,1.1133000000000001E-2,{"$f":"(('LiFFT_v1.4.0'!$H$5-moment_cd_relationship!A175)*((moment_cd_relationship!B175-moment_cd_relationship!B176)/(moment_cd_relationship!A175-moment_cd_relationship!A176))+moment_cd_relationship!B175)*'LiFFT_v1.4.0'!$J$5","v":-117.94020000000003},{"$f":"(('LiFFT_v1.4.0'!$H$8-moment_cd_relationship!A175)*((moment_cd_relationship!B175-moment_cd_relationship!B176)/(moment_cd_relationship!A175-moment_cd_relationship!A176))+moment_cd_relationship!B175)*'LiFFT_v1.4.0'!$J$8","v":{"$error":"#VALUE!"}},{"$f":"(('LiFFT_v1.4.0'!$H$11-moment_cd_relationship!A175)*((moment_cd_relationship!B175-moment_cd_relationship!B176)/(moment_cd_relationship!A175-moment_cd_relationship!A176))+moment_cd_relationship!B175)*'LiFFT_v1.4.0'!$J$11","v":{"$error":"#VALUE!"}},{"$f":"(('LiFFT_v1.4.0'!$H$14-moment_cd_relationship!A175)*((moment_cd_relationship!B175-moment_cd_relationship!B176)/(moment_cd_relationship!A175-moment_cd_relationship!A176))+moment_cd_relationship!B175)*'LiFFT_v1.4.0'!$J$14","v":{"$error":"#VALUE!"}},{"$f":"(('LiFFT_v1.4.0'!$H$17-moment_cd_relationship!A175)*((moment_cd_relationship!B175-moment_cd_relationship!B176)/(moment_cd_relationship!A175-moment_cd_relationship!A176))+moment_cd_relationship!B175)*'LiFFT_v1.4.0'!$J$17","v":{"$error":"#VALUE!"}},{"$f":"(('LiFFT_v1.4.0'!$H$20-moment_cd_relationship!A175)*((moment_cd_relationship!B175-moment_cd_relationship!B176)/(moment_cd_relationship!A175-moment_cd_relationship!A176))+moment_cd_relationship!B175)*'LiFFT_v1.4.0'!$J$20","v":{"$error":"#VALUE!"}},{"$f":"(('LiFFT_v1.4.0'!$H$23-moment_cd_relationship!A175)*((moment_cd_relationship!B175-moment_cd_relationship!B176)/(moment_cd_relationship!A175-moment_cd_relationship!A176))+moment_cd_relationship!B175)*'LiFFT_v1.4.0'!$J$23","v":{"$error":"#VALUE!"}},{"$f":"(('LiFFT_v1.4.0'!$H$26-moment_cd_relationship!A175)*((moment_cd_relationship!B175-moment_cd_relationship!B176)/(moment_cd_relationship!A175-moment_cd_relationship!A176))+moment_cd_relationship!B175)*'LiFFT_v1.4.0'!$J$26","v":{"$error":"#VALUE!"}},{"$f":"(('LiFFT_v1.4.0'!$H$29-moment_cd_relationship!A175)*((moment_cd_relationship!B175-moment_cd_relationship!B176)/(moment_cd_relationship!A175-moment_cd_relationship!A176))+moment_cd_relationship!B175)*'LiFFT_v1.4.0'!$J$29","v":{"$error":"#VALUE!"}},{"$f":"(('LiFFT_v1.4.0'!$H$32-moment_cd_relationship!A175)*((moment_cd_relationship!B175-moment_cd_relationship!B176)/(moment_cd_relationship!A175-moment_cd_relationship!A176))+moment_cd_relationship!B175)*'LiFFT_v1.4.0'!$J$32","v":{"$error":"#VALUE!"}}]
[174,1.1731800000000001E-2,{"$f":"(('LiFFT_v1.4.0'!$H$5-moment_cd_relationship!A176)*((moment_cd_relationship!B176-moment_cd_relationship!B177)/(moment_cd_relationship!A176-moment_cd_relationship!A177))+moment_cd_relationship!B176)*'LiFFT_v1.4.0'!$J$5","v":-125.21610000000001},{"$f":"(('LiFFT_v1.4.0'!$H$8-moment_cd_relationship!A176)*((moment_cd_relationship!B176-moment_cd_relationship!B177)/(moment_cd_relationship!A176-moment_cd_relationship!A177))+moment_cd_relationship!B176)*'LiFFT_v1.4.0'!$J$8","v":{"$error":"#VALUE!"}},{"$f":"(('LiFFT_v1.4.0'!$H$11-moment_cd_relationship!A176)*((moment_cd_relationship!B176-moment_cd_relationship!B177)/(moment_cd_relationship!A176-moment_cd_relationship!A177))+moment_cd_relationship!B176)*'LiFFT_v1.4.0'!$J$11","v":{"$error":"#VALUE!"}},{"$f":"(('LiFFT_v1.4.0'!$H$14-moment_cd_relationship!A176)*((moment_cd_relationship!B176-moment_cd_relationship!B177)/(moment_cd_relationship!A176-moment_cd_relationship!A177))+moment_cd_relationship!B176)*'LiFFT_v1.4.0'!$J$14","v":{"$error":"#VALUE!"}},{"$f":"(('LiFFT_v1.4.0'!$H$17-moment_cd_relationship!A176)*((moment_cd_relationship!B176-moment_cd_relationship!B177)/(moment_cd_relationship!A176-moment_cd_relationship!A177))+moment_cd_relationship!B176)*'LiFFT_v1.4.0'!$J$17","v":{"$error":"#VALUE!"}},{"$f":"(('LiFFT_v1.4.0'!$H$20-moment_cd_relationship!A176)*((moment_cd_relationship!B176-moment_cd_relationship!B177)/(moment_cd_relationship!A176-moment_cd_relationship!A177))+moment_cd_relationship!B176)*'LiFFT_v1.4.0'!$J$20","v":{"$error":"#VALUE!"}},{"$f":"(('LiFFT_v1.4.0'!$H$23-moment_cd_relationship!A176)*((moment_cd_relationship!B176-moment_cd_relationship!B177)/(moment_cd_relationship!A176-moment_cd_relationship!A177))+moment_cd_relationship!B176)*'LiFFT_v1.4.0'!$J$23","v":{"$error":"#VALUE!"}},{"$f":"(('LiFFT_v1.4.0'!$H$26-moment_cd_relationship!A176)*((moment_cd_relationship!B176-moment_cd_relationship!B177)/(moment_cd_relationship!A176-moment_cd_relationship!A177))+moment_cd_relationship!B176)*'LiFFT_v1.4.0'!$J$26","v":{"$error":"#VALUE!"}},{"$f":"(('LiFFT_v1.4.0'!$H$29-moment_cd_relationship!A176)*((moment_cd_relationship!B176-moment_cd_relationship!B177)/(moment_cd_relationship!A176-moment_cd_relationship!A177))+moment_cd_relationship!B176)*'LiFFT_v1.4.0'!$J$29","v":{"$error":"#VALUE!"}},{"$f":"(('LiFFT_v1.4.0'!$H$32-moment_cd_relationship!A176)*((moment_cd_relationship!B176-moment_cd_relationship!B177)/(moment_cd_relationship!A176-moment_cd_relationship!A177))+moment_cd_relationship!B176)*'LiFFT_v1.4.0'!$J$32","v":{"$error":"#VALUE!"}}]
[175,1.23629E-2,{"$f":"(('LiFFT_v1.4.0'!$H$5-moment_cd_relationship!A177)*((moment_cd_relationship!B177-moment_cd_relationship!B178)/(moment_cd_relationship!A177-moment_cd_relationship!A178))+moment_cd_relationship!B177)*'LiFFT_v1.4.0'!$J$5","v":-132.91964999999976},{"$f":"(('LiFFT_v1.4.0'!$H$8-moment_cd_relationship!A177)*((moment_cd_relationship!B177-moment_cd_relationship!B178)/(moment_cd_relationship!A177-moment_cd_relationship!A178))+moment_cd_relationship!B177)*'LiFFT_v1.4.0'!$J$8","v":{"$error":"#VALUE!"}},{"$f":"(('LiFFT_v1.4.0'!$H$11-moment_cd_relationship!A177)*((moment_cd_relationship!B177-moment_cd_relationship!B178)/(moment_cd_relationship!A177-moment_cd_relationship!A178))+moment_cd_relationship!B177)*'LiFFT_v1.4.0'!$J$11","v":{"$error":"#VALUE!"}},{"$f":"(('LiFFT_v1.4.0'!$H$14-moment_cd_relationship!A177)*((moment_cd_relationship!B177-moment_cd_relationship!B178)/(moment_cd_relationship!A177-moment_cd_relationship!A178))+moment_cd_relationship!B177)*'LiFFT_v1.4.0'!$J$14","v":{"$error":"#VALUE!"}},{"$f":"(('LiFFT_v1.4.0'!$H$17-moment_cd_relationship!A177)*((moment_cd_relationship!B177-moment_cd_relationship!B178)/(moment_cd_relationship!A177-moment_cd_relationship!A178))+moment_cd_relationship!B177)*'LiFFT_v1.4.0'!$J$17","v":{"$error":"#VALUE!"}},{"$f":"(('LiFFT_v1.4.0'!$H$20-moment_cd_relationship!A177)*((moment_cd_relationship!B177-moment_cd_relationship!B178)/(moment_cd_relationship!A177-moment_cd_relationship!A178))+moment_cd_relationship!B177)*'LiFFT_v1.4.0'!$J$20","v":{"$error":"#VALUE!"}},{"$f":"(('LiFFT_v1.4.0'!$H$23-moment_cd_relationship!A177)*((moment_cd_relationship!B177-moment_cd_relationship!B178)/(moment_cd_relationship!A177-moment_cd_relationship!A178))+moment_cd_relationship!B177)*'LiFFT_v1.4.0'!$J$23","v":{"$error":"#VALUE!"}},{"$f":"(('LiFFT_v1.4.0'!$H$26-moment_cd_relationship!A177)*((moment_cd_relationship!B177-moment_cd_relationship!B178)/(moment_cd_relationship!A177-moment_cd_relationship!A178))+moment_cd_relationship!B177)*'LiFFT_v1.4.0'!$J$26","v":{"$error":"#VALUE!"}},{"$f":"(('LiFFT_v1.4.0'!$H$29-moment_cd_relationship!A177)*((moment_cd_relationship!B177-moment_cd_relationship!B178)/(moment_cd_relationship!A177-moment_cd_relationship!A178))+moment_cd_relationship!B177)*'LiFFT_v1.4.0'!$J$29","v":{"$error":"#VALUE!"}},{"$f":"(('LiFFT_v1.4.0'!$H$32-moment_cd_relationship!A177)*((moment_cd_relationship!B177-moment_cd_relationship!B178)/(moment_cd_relationship!A177-moment_cd_relationship!A178))+moment_cd_relationship!B177)*'LiFFT_v1.4.0'!$J$32","v":{"$error":"#VALUE!"}}]
[176,1.30282E-2,{"$f":"(('LiFFT_v1.4.0'!$H$5-moment_cd_relationship!A178)*((moment_cd_relationship!B178-moment_cd_relationship!B179)/(moment_cd_relationship!A178-moment_cd_relationship!A179))+moment_cd_relationship!B178)*'LiFFT_v1.4.0'!$J$5","v":-141.12765000000016},{"$f":"(('LiFFT_v1.4.0'!$H$8-moment_cd_relationship!A178)*((moment_cd_relationship!B178-moment_cd_relationship!B179)/(moment_cd_relationship!A178-moment_cd_relationship!A179))+moment_cd_relationship!B178)*'LiFFT_v1.4.0'!$J$8","v":{"$error":"#VALUE!"}},{"$f":"(('LiFFT_v1.4.0'!$H$11-moment_cd_relationship!A178)*((moment_cd_relationship!B178-moment_cd_relationship!B179)/(moment_cd_relationship!A178-moment_cd_relationship!A179))+moment_cd_relationship!B178)*'LiFFT_v1.4.0'!$J$11","v":{"$error":"#VALUE!"}},{"$f":"(('LiFFT_v1.4.0'!$H$14-moment_cd_relationship!A178)*((moment_cd_relationship!B178-moment_cd_relationship!B179)/(moment_cd_relationship!A178-moment_cd_relationship!A179))+moment_cd_relationship!B178)*'LiFFT_v1.4.0'!$J$14","v":{"$error":"#VALUE!"}},{"$f":"(('LiFFT_v1.4.0'!$H$17-moment_cd_relationship!A178)*((moment_cd_relationship!B178-moment_cd_relationship!B179)/(moment_cd_relationship!A178-moment_cd_relationship!A179))+moment_cd_relationship!B178)*'LiFFT_v1.4.0'!$J$17","v":{"$error":"#VALUE!"}},{"$f":"(('LiFFT_v1.4.0'!$H$20-moment_cd_relationship!A178)*((moment_cd_relationship!B178-moment_cd_relationship!B179)/(moment_cd_relationship!A178-moment_cd_relationship!A179))+moment_cd_relationship!B178)*'LiFFT_v1.4.0'!$J$20","v":{"$error":"#VALUE!"}},{"$f":"(('LiFFT_v1.4.0'!$H$23-moment_cd_relationship!A178)*((moment_cd_relationship!B178-moment_cd_relationship!B179)/(moment_cd_relationship!A178-moment_cd_relationship!A179))+moment_cd_relationship!B178)*'LiFFT_v1.4.0'!$J$23","v":{"$error":"#VALUE!"}},{"$f":"(('LiFFT_v1.4.0'!$H$26-moment_cd_relationship!A178)*((moment_cd_relationship!B178-moment_cd_relationship!B179)/(moment_cd_relationship!A178-moment_cd_relationship!A179))+moment_cd_relationship!B178)*'LiFFT_v1.4.0'!$J$26","v":{"$error":"#VALUE!"}},{"$f":"(('LiFFT_v1.4.0'!$H$29-moment_cd_relationship!A178)*((moment_cd_relationship!B178-moment_cd_relationship!B179)/(moment_cd_relationship!A178-moment_cd_relationship!A179))+moment_cd_relationship!B178)*'LiFFT_v1.4.0'!$J$29","v":{"$error":"#VALUE!"}},{"$f":"(('LiFFT_v1.4.0'!$H$32-moment_cd_relationship!A178)*((moment_cd_relationship!B178-moment_cd_relationship!B179)/(moment_cd_relationship!A178-moment_cd_relationship!A179))+moment_cd_relationship!B178)*'LiFFT_v1.4.0'!$J$32","v":{"$error":"#VALUE!"}}]
[177,1.37293E-2,{"$f":"(('LiFFT_v1.4.0'!$H$5-moment_cd_relationship!A179)*((moment_cd_relationship!B179-moment_cd_relationship!B180)/(moment_cd_relationship!A179-moment_cd_relationship!A180))+moment_cd_relationship!B179)*'LiFFT_v1.4.0'!$J$5","v":-149.77334999999991},{"$f":"(('LiFFT_v1.4.0'!$H$8-moment_cd_relationship!A179)*((moment_cd_relationship!B179-moment_cd_relationship!B180)/(moment_cd_relationship!A179-moment_cd_relationship!A180))+moment_cd_relationship!B179)*'LiFFT_v1.4.0'!$J$8","v":{"$error":"#VALUE!"}},{"$f":"(('LiFFT_v1.4.0'!$H$11-moment_cd_relationship!A179)*((moment_cd_relationship!B179-moment_cd_relationship!B180)/(moment_cd_relationship!A179-moment_cd_relationship!A180))+moment_cd_relationship!B179)*'LiFFT_v1.4.0'!$J$11","v":{"$error":"#VALUE!"}},{"$f":"(('LiFFT_v1.4.0'!$H$14-moment_cd_relationship!A179)*((moment_cd_relationship!B179-moment_cd_relationship!B180)/(moment_cd_relationship!A179-moment_cd_relationship!A180))+moment_cd_relationship!B179)*'LiFFT_v1.4.0'!$J$14","v":{"$error":"#VALUE!"}},{"$f":"(('LiFFT_v1.4.0'!$H$17-moment_cd_relationship!A179)*((moment_cd_relationship!B179-moment_cd_relationship!B180)/(moment_cd_relationship!A179-moment_cd_relationship!A180))+moment_cd_relationship!B179)*'LiFFT_v1.4.0'!$J$17","v":{"$error":"#VALUE!"}},{"$f":"(('LiFFT_v1.4.0'!$H$20-moment_cd_relationship!A179)*((moment_cd_relationship!B179-moment_cd_relationship!B180)/(moment_cd_relationship!A179-moment_cd_relationship!A180))+moment_cd_relationship!B179)*'LiFFT_v1.4.0'!$J$20","v":{"$error":"#VALUE!"}},{"$f":"(('LiFFT_v1.4.0'!$H$23-moment_cd_relationship!A179)*((moment_cd_relationship!B179-moment_cd_relationship!B180)/(moment_cd_relationship!A179-moment_cd_relationship!A180))+moment_cd_relationship!B179)*'LiFFT_v1.4.0'!$J$23","v":{"$error":"#VALUE!"}},{"$f":"(('LiFFT_v1.4.0'!$H$26-moment_cd_relationship!A179)*((moment_cd_relationship!B179-moment_cd_relationship!B180)/(moment_cd_relationship!A179-moment_cd_relationship!A180))+moment_cd_relationship!B179)*'LiFFT_v1.4.0'!$J$26","v":{"$error":"#VALUE!"}},{"$f":"(('LiFFT_v1.4.0'!$H$29-moment_cd_relationship!A179)*((moment_cd_relationship!B179-moment_cd_relationship!B180)/(moment_cd_relationship!A179-moment_cd_relationship!A180))+moment_cd_relationship!B179)*'LiFFT_v1.4.0'!$J$29","v":{"$error":"#VALUE!"}},{"$f":"(('LiFFT_v1.4.0'!$H$32-moment_cd_relationship!A179)*((moment_cd_relationship!B179-moment_cd_relationship!B180)/(moment_cd_relationship!A179-moment_cd_relationship!A180))+moment_cd_relationship!B179)*'LiFFT_v1.4.0'!$J$32","v":{"$error":"#VALUE!"}}]
[178,1.4468399999999999E-2,{"$f":"(('LiFFT_v1.4.0'!$H$5-moment_cd_relationship!A180)*((moment_cd_relationship!B180-moment_cd_relationship!B181)/(moment_cd_relationship!A180-moment_cd_relationship!A181))+moment_cd_relationship!B180)*'LiFFT_v1.4.0'!$J$5","v":-159.00734999999986},{"$f":"(('LiFFT_v1.4.0'!$H$8-moment_cd_relationship!A180)*((moment_cd_relationship!B180-moment_cd_relationship!B181)/(moment_cd_relationship!A180-moment_cd_relationship!A181))+moment_cd_relationship!B180)*'LiFFT_v1.4.0'!$J$8","v":{"$error":"#VALUE!"}},{"$f":"(('LiFFT_v1.4.0'!$H$11-moment_cd_relationship!A180)*((moment_cd_relationship!B180-moment_cd_relationship!B181)/(moment_cd_relationship!A180-moment_cd_relationship!A181))+moment_cd_relationship!B180)*'LiFFT_v1.4.0'!$J$11","v":{"$error":"#VALUE!"}},{"$f":"(('LiFFT_v1.4.0'!$H$14-moment_cd_relationship!A180)*((moment_cd_relationship!B180-moment_cd_relationship!B181)/(moment_cd_relationship!A180-moment_cd_relationship!A181))+moment_cd_relationship!B180)*'LiFFT_v1.4.0'!$J$14","v":{"$error":"#VALUE!"}},{"$f":"(('LiFFT_v1.4.0'!$H$17-moment_cd_relationship!A180)*((moment_cd_relationship!B180-moment_cd_relationship!B181)/(moment_cd_relationship!A180-moment_cd_relationship!A181))+moment_cd_relationship!B180)*'LiFFT_v1.4.0'!$J$17","v":{"$error":"#VALUE!"}},{"$f":"(('LiFFT_v1.4.0'!$H$20-moment_cd_relationship!A180)*((moment_cd_relationship!B180-moment_cd_relationship!B181)/(moment_cd_relationship!A180-moment_cd_relationship!A181))+moment_cd_relationship!B180)*'LiFFT_v1.4.0'!$J$20","v":{"$error":"#VALUE!"}},{"$f":"(('LiFFT_v1.4.0'!$H$23-moment_cd_relationship!A180)*((moment_cd_relationship!B180-moment_cd_relationship!B181)/(moment_cd_relationship!A180-moment_cd_relationship!A181))+moment_cd_relationship!B180)*'LiFFT_v1.4.0'!$J$23","v":{"$error":"#VALUE!"}},{"$f":"(('LiFFT_v1.4.0'!$H$26-moment_cd_relationship!A180)*((moment_cd_relationship!B180-moment_cd_relationship!B181)/(moment_cd_relationship!A180-moment_cd_relationship!A181))+moment_cd_relationship!B180)*'LiFFT_v1.4.0'!$J$26","v":{"$error":"#VALUE!"}},{"$f":"(('LiFFT_v1.4.0'!$H$29-moment_cd_relationship!A180)*((moment_cd_relationship!B180-moment_cd_relationship!B181)/(moment_cd_relationship!A180-moment_cd_relationship!A181))+moment_cd_relationship!B180)*'LiFFT_v1.4.0'!$J$29","v":{"$error":"#VALUE!"}},{"$f":"(('LiFFT_v1.4.0'!$H$32-moment_cd_relationship!A180)*((moment_cd_relationship!B180-moment_cd_relationship!B181)/(moment_cd_relationship!A180-moment_cd_relationship!A181))+moment_cd_relationship!B180)*'LiFFT_v1.4.0'!$J$32","v":{"$error":"#VALUE!"}}]
[179,1.5247399999999999E-2,{"$f":"(('LiFFT_v1.4.0'!$H$5-moment_cd_relationship!A181)*((moment_cd_relationship!B181-moment_cd_relationship!B182)/(moment_cd_relationship!A181-moment_cd_relationship!A182))+moment_cd_relationship!B181)*'LiFFT_v1.4.0'!$J$5","v":-168.76290000000006},{"$f":"(('LiFFT_v1.4.0'!$H$8-moment_cd_relationship!A181)*((moment_cd_relationship!B181-moment_cd_relationship!B182)/(moment_cd_relationship!A181-moment_cd_relationship!A182))+moment_cd_relationship!B181)*'LiFFT_v1.4.0'!$J$8","v":{"$error":"#VALUE!"}},{"$f":"(('LiFFT_v1.4.0'!$H$11-moment_cd_relationship!A181)*((moment_cd_relationship!B181-moment_cd_relationship!B182)/(moment_cd_relationship!A181-moment_cd_relationship!A182))+moment_cd_relationship!B181)*'LiFFT_v1.4.0'!$J$11","v":{"$error":"#VALUE!"}},{"$f":"(('LiFFT_v1.4.0'!$H$14-moment_cd_relationship!A181)*((moment_cd_relationship!B181-moment_cd_relationship!B182)/(moment_cd_relationship!A181-moment_cd_relationship!A182))+moment_cd_relationship!B181)*'LiFFT_v1.4.0'!$J$14","v":{"$error":"#VALUE!"}},{"$f":"(('LiFFT_v1.4.0'!$H$17-moment_cd_relationship!A181)*((moment_cd_relationship!B181-moment_cd_relationship!B182)/(moment_cd_relationship!A181-moment_cd_relationship!A182))+moment_cd_relationship!B181)*'LiFFT_v1.4.0'!$J$17","v":{"$error":"#VALUE!"}},{"$f":"(('LiFFT_v1.4.0'!$H$20-moment_cd_relationship!A181)*((moment_cd_relationship!B181-moment_cd_relationship!B182)/(moment_cd_relationship!A181-moment_cd_relationship!A182))+moment_cd_relationship!B181)*'LiFFT_v1.4.0'!$J$20","v":{"$error":"#VALUE!"}},{"$f":"(('LiFFT_v1.4.0'!$H$23-moment_cd_relationship!A181)*((moment_cd_relationship!B181-moment_cd_relationship!B182)/(moment_cd_relationship!A181-moment_cd_relationship!A182))+moment_cd_relationship!B181)*'LiFFT_v1.4.0'!$J$23","v":{"$error":"#VALUE!"}},{"$f":"(('LiFFT_v1.4.0'!$H$26-moment_cd_relationship!A181)*((moment_cd_relationship!B181-moment_cd_relationship!B182)/(moment_cd_relationship!A181-moment_cd_relationship!A182))+moment_cd_relationship!B181)*'LiFFT_v1.4.0'!$J$26","v":{"$error":"#VALUE!"}},{"$f":"(('LiFFT_v1.4.0'!$H$29-moment_cd_relationship!A181)*((moment_cd_relationship!B181-moment_cd_relationship!B182)/(moment_cd_relationship!A181-moment_cd_relationship!A182))+moment_cd_relationship!B181)*'LiFFT_v1.4.0'!$J$29","v":{"$error":"#VALUE!"}},{"$f":"(('LiFFT_v1.4.0'!$H$32-moment_cd_relationship!A181)*((moment_cd_relationship!B181-moment_cd_relationship!B182)/(moment_cd_relationship!A181-moment_cd_relationship!A182))+moment_cd_relationship!B181)*'LiFFT_v1.4.0'!$J$32","v":{"$error":"#VALUE!"}}]
[180,1.6068499999999999E-2,{"$f":"(('LiFFT_v1.4.0'!$H$5-moment_cd_relationship!A182)*((moment_cd_relationship!B182-moment_cd_relationship!B183)/(moment_cd_relationship!A182-moment_cd_relationship!A183))+moment_cd_relationship!B182)*'LiFFT_v1.4.0'!$J$5","v":-179.11949999999999},{"$f":"(('LiFFT_v1.4.0'!$H$8-moment_cd_relationship!A182)*((moment_cd_relationship!B182-moment_cd_relationship!B183)/(moment_cd_relationship!A182-moment_cd_relationship!A183))+moment_cd_relationship!B182)*'LiFFT_v1.4.0'!$J$8","v":{"$error":"#VALUE!"}},{"$f":"(('LiFFT_v1.4.0'!$H$11-moment_cd_relationship!A182)*((moment_cd_relationship!B182-moment_cd_relationship!B183)/(moment_cd_relationship!A182-moment_cd_relationship!A183))+moment_cd_relationship!B182)*'LiFFT_v1.4.0'!$J$11","v":{"$error":"#VALUE!"}},{"$f":"(('LiFFT_v1.4.0'!$H$14-moment_cd_relationship!A182)*((moment_cd_relationship!B182-moment_cd_relationship!B183)/(moment_cd_relationship!A182-moment_cd_relationship!A183))+moment_cd_relationship!B182)*'LiFFT_v1.4.0'!$J$14","v":{"$error":"#VALUE!"}},{"$f":"(('LiFFT_v1.4.0'!$H$17-moment_cd_relationship!A182)*((moment_cd_relationship!B182-moment_cd_relationship!B183)/(moment_cd_relationship!A182-moment_cd_relationship!A183))+moment_cd_relationship!B182)*'LiFFT_v1.4.0'!$J$17","v":{"$error":"#VALUE!"}},{"$f":"(('LiFFT_v1.4.0'!$H$20-moment_cd_relationship!A182)*((moment_cd_relationship!B182-moment_cd_relationship!B183)/(moment_cd_relationship!A182-moment_cd_relationship!A183))+moment_cd_relationship!B182)*'LiFFT_v1.4.0'!$J$20","v":{"$error":"#VALUE!"}},{"$f":"(('LiFFT_v1.4.0'!$H$23-moment_cd_relationship!A182)*((moment_cd_relationship!B182-moment_cd_relationship!B183)/(moment_cd_relationship!A182-moment_cd_relationship!A183))+moment_cd_relationship!B182)*'LiFFT_v1.4.0'!$J$23","v":{"$error":"#VALUE!"}},{"$f":"(('LiFFT_v1.4.0'!$H$26-moment_cd_relationship!A182)*((moment_cd_relationship!B182-moment_cd_relationship!B183)/(moment_cd_relationship!A182-moment_cd_relationship!A183))+moment_cd_relationship!B182)*'LiFFT_v1.4.0'!$J$26","v":{"$error":"#VALUE!"}},{"$f":"(('LiFFT_v1.4.0'!$H$29-moment_cd_relationship!A182)*((moment_cd_relationship!B182-moment_cd_relationship!B183)/(moment_cd_relationship!A182-moment_cd_relationship!A183))+moment_cd_relationship!B182)*'LiFFT_v1.4.0'!$J$29","v":{"$error":"#VALUE!"}},{"$f":"(('LiFFT_v1.4.0'!$H$32-moment_cd_relationship!A182)*((moment_cd_relationship!B182-moment_cd_relationship!B183)/(moment_cd_relationship!A182-moment_cd_relationship!A183))+moment_cd_relationship!B182)*'LiFFT_v1.4.0'!$J$32","v":{"$error":"#VALUE!"}}]
[181,1.6934000000000001E-2,{"$f":"(('LiFFT_v1.4.0'!$H$5-moment_cd_relationship!A183)*((moment_cd_relationship!B183-moment_cd_relationship!B184)/(moment_cd_relationship!A183-moment_cd_relationship!A184))+moment_cd_relationship!B183)*'LiFFT_v1.4.0'!$J$5","v":-190.10850000000039},{"$f":"(('LiFFT_v1.4.0'!$H$8-moment_cd_relationship!A183)*((moment_cd_relationship!B183-moment_cd_relationship!B184)/(moment_cd_relationship!A183-moment_cd_relationship!A184))+moment_cd_relationship!B183)*'LiFFT_v1.4.0'!$J$8","v":{"$error":"#VALUE!"}},{"$f":"(('LiFFT_v1.4.0'!$H$11-moment_cd_relationship!A183)*((moment_cd_relationship!B183-moment_cd_relationship!B184)/(moment_cd_relationship!A183-moment_cd_relationship!A184))+moment_cd_relationship!B183)*'LiFFT_v1.4.0'!$J$11","v":{"$error":"#VALUE!"}},{"$f":"(('LiFFT_v1.4.0'!$H$14-moment_cd_relationship!A183)*((moment_cd_relationship!B183-moment_cd_relationship!B184)/(moment_cd_relationship!A183-moment_cd_relationship!A184))+moment_cd_relationship!B183)*'LiFFT_v1.4.0'!$J$14","v":{"$error":"#VALUE!"}},{"$f":"(('LiFFT_v1.4.0'!$H$17-moment_cd_relationship!A183)*((moment_cd_relationship!B183-moment_cd_relationship!B184)/(moment_cd_relationship!A183-moment_cd_relationship!A184))+moment_cd_relationship!B183)*'LiFFT_v1.4.0'!$J$17","v":{"$error":"#VALUE!"}},{"$f":"(('LiFFT_v1.4.0'!$H$20-moment_cd_relationship!A183)*((moment_cd_relationship!B183-moment_cd_relationship!B184)/(moment_cd_relationship!A183-moment_cd_relationship!A184))+moment_cd_relationship!B183)*'LiFFT_v1.4.0'!$J$20","v":{"$error":"#VALUE!"}},{"$f":"(('LiFFT_v1.4.0'!$H$23-moment_cd_relationship!A183)*((moment_cd_relationship!B183-moment_cd_relationship!B184)/(moment_cd_relationship!A183-moment_cd_relationship!A184))+moment_cd_relationship!B183)*'LiFFT_v1.4.0'!$J$23","v":{"$error":"#VALUE!"}},{"$f":"(('LiFFT_v1.4.0'!$H$26-moment_cd_relationship!A183)*((moment_cd_relationship!B183-moment_cd_relationship!B184)/(moment_cd_relationship!A183-moment_cd_relationship!A184))+moment_cd_relationship!B183)*'LiFFT_v1.4.0'!$J$26","v":{"$error":"#VALUE!"}},{"$f":"(('LiFFT_v1.4.0'!$H$29-moment_cd_relationship!A183)*((moment_cd_relationship!B183-moment_cd_relationship!B184)/(moment_cd_relationship!A183-moment_cd_relationship!A184))+moment_cd_relationship!B183)*'LiFFT_v1.4.0'!$J$29","v":{"$error":"#VALUE!"}},{"$f":"(('LiFFT_v1.4.0'!$H$32-moment_cd_relationship!A183)*((moment_cd_relationship!B183-moment_cd_relationship!B184)/(moment_cd_relationship!A183-moment_cd_relationship!A184))+moment_cd_relationship!B183)*'LiFFT_v1.4.0'!$J$32","v":{"$error":"#VALUE!"}}]
[182,1.7846299999999999E-2,{"$f":"(('LiFFT_v1.4.0'!$H$5-moment_cd_relationship!A184)*((moment_cd_relationship!B184-moment_cd_relationship!B185)/(moment_cd_relationship!A184-moment_cd_relationship!A185))+moment_cd_relationship!B184)*'LiFFT_v1.4.0'!$J$5","v":-201.76169999999942},{"$f":"(('LiFFT_v1.4.0'!$H$8-moment_cd_relationship!A184)*((moment_cd_relationship!B184-moment_cd_relationship!B185)/(moment_cd_relationship!A184-moment_cd_relationship!A185))+moment_cd_relationship!B184)*'LiFFT_v1.4.0'!$J$8","v":{"$error":"#VALUE!"}},{"$f":"(('LiFFT_v1.4.0'!$H$11-moment_cd_relationship!A184)*((moment_cd_relationship!B184-moment_cd_relationship!B185)/(moment_cd_relationship!A184-moment_cd_relationship!A185))+moment_cd_relationship!B184)*'LiFFT_v1.4.0'!$J$11","v":{"$error":"#VALUE!"}},{"$f":"(('LiFFT_v1.4.0'!$H$14-moment_cd_relationship!A184)*((moment_cd_relationship!B184-moment_cd_relationship!B185)/(moment_cd_relationship!A184-moment_cd_relationship!A185))+moment_cd_relationship!B184)*'LiFFT_v1.4.0'!$J$14","v":{"$error":"#VALUE!"}},{"$f":"(('LiFFT_v1.4.0'!$H$17-moment_cd_relationship!A184)*((moment_cd_relationship!B184-moment_cd_relationship!B185)/(moment_cd_relationship!A184-moment_cd_relationship!A185))+moment_cd_relationship!B184)*'LiFFT_v1.4.0'!$J$17","v":{"$error":"#VALUE!"}},{"$f":"(('LiFFT_v1.4.0'!$H$20-moment_cd_relationship!A184)*((moment_cd_relationship!B184-moment_cd_relationship!B185)/(moment_cd_relationship!A184-moment_cd_relationship!A185))+moment_cd_relationship!B184)*'LiFFT_v1.4.0'!$J$20","v":{"$error":"#VALUE!"}},{"$f":"(('LiFFT_v1.4.0'!$H$23-moment_cd_relationship!A184)*((moment_cd_relationship!B184-moment_cd_relationship!B185)/(moment_cd_relationship!A184-moment_cd_relationship!A185))+moment_cd_relationship!B184)*'LiFFT_v1.4.0'!$J$23","v":{"$error":"#VALUE!"}},{"$f":"(('LiFFT_v1.4.0'!$H$26-moment_cd_relationship!A184)*((moment_cd_relationship!B184-moment_cd_relationship!B185)/(moment_cd_relationship!A184-moment_cd_relationship!A185))+moment_cd_relationship!B184)*'LiFFT_v1.4.0'!$J$26","v":{"$error":"#VALUE!"}},{"$f":"(('LiFFT_v1.4.0'!$H$29-moment_cd_relationship!A184)*((moment_cd_relationship!B184-moment_cd_relationship!B185)/(moment_cd_relationship!A184-moment_cd_relationship!A185))+moment_cd_relationship!B184)*'LiFFT_v1.4.0'!$J$29","v":{"$error":"#VALUE!"}},{"$f":"(('LiFFT_v1.4.0'!$H$32-moment_cd_relationship!A184)*((moment_cd_relationship!B184-moment_cd_relationship!B185)/(moment_cd_relationship!A184-moment_cd_relationship!A185))+moment_cd_relationship!B184)*'LiFFT_v1.4.0'!$J$32","v":{"$error":"#VALUE!"}}]
[183,1.8807899999999999E-2,{"$f":"(('LiFFT_v1.4.0'!$H$5-moment_cd_relationship!A185)*((moment_cd_relationship!B185-moment_cd_relationship!B186)/(moment_cd_relationship!A185-moment_cd_relationship!A186))+moment_cd_relationship!B185)*'LiFFT_v1.4.0'!$J$5","v":-214.11134999999996},{"$f":"(('LiFFT_v1.4.0'!$H$8-moment_cd_relationship!A185)*((moment_cd_relationship!B185-moment_cd_relationship!B186)/(moment_cd_relationship!A185-moment_cd_relationship!A186))+moment_cd_relationship!B185)*'LiFFT_v1.4.0'!$J$8","v":{"$error":"#VALUE!"}},{"$f":"(('LiFFT_v1.4.0'!$H$11-moment_cd_relationship!A185)*((moment_cd_relationship!B185-moment_cd_relationship!B186)/(moment_cd_relationship!A185-moment_cd_relationship!A186))+moment_cd_relationship!B185)*'LiFFT_v1.4.0'!$J$11","v":{"$error":"#VALUE!"}},{"$f":"(('LiFFT_v1.4.0'!$H$14-moment_cd_relationship!A185)*((moment_cd_relationship!B185-moment_cd_relationship!B186)/(moment_cd_relationship!A185-moment_cd_relationship!A186))+moment_cd_relationship!B185)*'LiFFT_v1.4.0'!$J$14","v":{"$error":"#VALUE!"}},{"$f":"(('LiFFT_v1.4.0'!$H$17-moment_cd_relationship!A185)*((moment_cd_relationship!B185-moment_cd_relationship!B186)/(moment_cd_relationship!A185-moment_cd_relationship!A186))+moment_cd_relationship!B185)*'LiFFT_v1.4.0'!$J$17","v":{"$error":"#VALUE!"}},{"$f":"(('LiFFT_v1.4.0'!$H$20-moment_cd_relationship!A185)*((moment_cd_relationship!B185-moment_cd_relationship!B186)/(moment_cd_relationship!A185-moment_cd_relationship!A186))+moment_cd_relationship!B185)*'LiFFT_v1.4.0'!$J$20","v":{"$error":"#VALUE!"}},{"$f":"(('LiFFT_v1.4.0'!$H$23-moment_cd_relationship!A185)*((moment_cd_relationship!B185-moment_cd_relationship!B186)/(moment_cd_relationship!A185-moment_cd_relationship!A186))+moment_cd_relationship!B185)*'LiFFT_v1.4.0'!$J$23","v":{"$error":"#VALUE!"}},{"$f":"(('LiFFT_v1.4.0'!$H$26-moment_cd_relationship!A185)*((moment_cd_relationship!B185-moment_cd_relationship!B186)/(moment_cd_relationship!A185-moment_cd_relationship!A186))+moment_cd_relationship!B185)*'LiFFT_v1.4.0'!$J$26","v":{"$error":"#VALUE!"}},{"$f":"(('LiFFT_v1.4.0'!$H$29-moment_cd_relationship!A185)*((moment_cd_relationship!B185-moment_cd_relationship!B186)/(moment_cd_relationship!A185-moment_cd_relationship!A186))+moment_cd_relationship!B185)*'LiFFT_v1.4.0'!$J$29","v":{"$error":"#VALUE!"}},{"$f":"(('LiFFT_v1.4.0'!$H$32-moment_cd_relationship!A185)*((moment_cd_relationship!B185-moment_cd_relationship!B186)/(moment_cd_relationship!A185-moment_cd_relationship!A186))+moment_cd_relationship!B185)*'LiFFT_v1.4.0'!$J$32","v":{"$error":"#VALUE!"}}]
[184,1.9821499999999999E-2,{"$f":"(('LiFFT_v1.4.0'!$H$5-moment_cd_relationship!A186)*((moment_cd_relationship!B186-moment_cd_relationship!B187)/(moment_cd_relationship!A186-moment_cd_relationship!A187))+moment_cd_relationship!B186)*'LiFFT_v1.4.0'!$J$5","v":-227.21535},{"$f":"(('LiFFT_v1.4.0'!$H$8-moment_cd_relationship!A186)*((moment_cd_relationship!B186-moment_cd_relationship!B187)/(moment_cd_relationship!A186-moment_cd_relationship!A187))+moment_cd_relationship!B186)*'LiFFT_v1.4.0'!$J$8","v":{"$error":"#VALUE!"}},{"$f":"(('LiFFT_v1.4.0'!$H$11-moment_cd_relationship!A186)*((moment_cd_relationship!B186-moment_cd_relationship!B187)/(moment_cd_relationship!A186-moment_cd_relationship!A187))+moment_cd_relationship!B186)*'LiFFT_v1.4.0'!$J$11","v":{"$error":"#VALUE!"}},{"$f":"(('LiFFT_v1.4.0'!$H$14-moment_cd_relationship!A186)*((moment_cd_relationship!B186-moment_cd_relationship!B187)/(moment_cd_relationship!A186-moment_cd_relationship!A187))+moment_cd_relationship!B186)*'LiFFT_v1.4.0'!$J$14","v":{"$error":"#VALUE!"}},{"$f":"(('LiFFT_v1.4.0'!$H$17-moment_cd_relationship!A186)*((moment_cd_relationship!B186-moment_cd_relationship!B187)/(moment_cd_relationship!A186-moment_cd_relationship!A187))+moment_cd_relationship!B186)*'LiFFT_v1.4.0'!$J$17","v":{"$error":"#VALUE!"}},{"$f":"(('LiFFT_v1.4.0'!$H$20-moment_cd_relationship!A186)*((moment_cd_relationship!B186-moment_cd_relationship!B187)/(moment_cd_relationship!A186-moment_cd_relationship!A187))+moment_cd_relationship!B186)*'LiFFT_v1.4.0'!$J$20","v":{"$error":"#VALUE!"}},{"$f":"(('LiFFT_v1.4.0'!$H$23-moment_cd_relationship!A186)*((moment_cd_relationship!B186-moment_cd_relationship!B187)/(moment_cd_relationship!A186-moment_cd_relationship!A187))+moment_cd_relationship!B186)*'LiFFT_v1.4.0'!$J$23","v":{"$error":"#VALUE!"}},{"$f":"(('LiFFT_v1.4.0'!$H$26-moment_cd_relationship!A186)*((moment_cd_relationship!B186-moment_cd_relationship!B187)/(moment_cd_relationship!A186-moment_cd_relationship!A187))+moment_cd_relationship!B186)*'LiFFT_v1.4.0'!$J$26","v":{"$error":"#VALUE!"}},{"$f":"(('LiFFT_v1.4.0'!$H$29-moment_cd_relationship!A186)*((moment_cd_relationship!B186-moment_cd_relationship!B187)/(moment_cd_relationship!A186-moment_cd_relationship!A187))+moment_cd_relationship!B186)*'LiFFT_v1.4.0'!$J$29","v":{"$error":"#VALUE!"}},{"$f":"(('LiFFT_v1.4.0'!$H$32-moment_cd_relationship!A186)*((moment_cd_relationship!B186-moment_cd_relationship!B187)/(moment_cd_relationship!A186-moment_cd_relationship!A187))+moment_cd_relationship!B186)*'LiFFT_v1.4.0'!$J$32","v":{"$error":"#VALUE!"}}]
[185,2.0889999999999999E-2,{"$f":"(('LiFFT_v1.4.0'!$H$5-moment_cd_relationship!A187)*((moment_cd_relationship!B187-moment_cd_relationship!B188)/(moment_cd_relationship!A187-moment_cd_relationship!A188))+moment_cd_relationship!B187)*'LiFFT_v1.4.0'!$J$5","v":-241.13250000000002},{"$f":"(('LiFFT_v1.4.0'!$H$8-moment_cd_relationship!A187)*((moment_cd_relationship!B187-moment_cd_relationship!B188)/(moment_cd_relationship!A187-moment_cd_relationship!A188))+moment_cd_relationship!B187)*'LiFFT_v1.4.0'!$J$8","v":{"$error":"#VALUE!"}},{"$f":"(('LiFFT_v1.4.0'!$H$11-moment_cd_relationship!A187)*((moment_cd_relationship!B187-moment_cd_relationship!B188)/(moment_cd_relationship!A187-moment_cd_relationship!A188))+moment_cd_relationship!B187)*'LiFFT_v1.4.0'!$J$11","v":{"$error":"#VALUE!"}},{"$f":"(('LiFFT_v1.4.0'!$H$14-moment_cd_relationship!A187)*((moment_cd_relationship!B187-moment_cd_relationship!B188)/(moment_cd_relationship!A187-moment_cd_relationship!A188))+moment_cd_relationship!B187)*'LiFFT_v1.4.0'!$J$14","v":{"$error":"#VALUE!"}},{"$f":"(('LiFFT_v1.4.0'!$H$17-moment_cd_relationship!A187)*((moment_cd_relationship!B187-moment_cd_relationship!B188)/(moment_cd_relationship!A187-moment_cd_relationship!A188))+moment_cd_relationship!B187)*'LiFFT_v1.4.0'!$J$17","v":{"$error":"#VALUE!"}},{"$f":"(('LiFFT_v1.4.0'!$H$20-moment_cd_relationship!A187)*((moment_cd_relationship!B187-moment_cd_relationship!B188)/(moment_cd_relationship!A187-moment_cd_relationship!A188))+moment_cd_relationship!B187)*'LiFFT_v1.4.0'!$J$20","v":{"$error":"#VALUE!"}},{"$f":"(('LiFFT_v1.4.0'!$H$23-moment_cd_relationship!A187)*((moment_cd_relationship!B187-moment_cd_relationship!B188)/(moment_cd_relationship!A187-moment_cd_relationship!A188))+moment_cd_relationship!B187)*'LiFFT_v1.4.0'!$J$23","v":{"$error":"#VALUE!"}},{"$f":"(('LiFFT_v1.4.0'!$H$26-moment_cd_relationship!A187)*((moment_cd_relationship!B187-moment_cd_relationship!B188)/(moment_cd_relationship!A187-moment_cd_relationship!A188))+moment_cd_relationship!B187)*'LiFFT_v1.4.0'!$J$26","v":{"$error":"#VALUE!"}},{"$f":"(('LiFFT_v1.4.0'!$H$29-moment_cd_relationship!A187)*((moment_cd_relationship!B187-moment_cd_relationship!B188)/(moment_cd_relationship!A187-moment_cd_relationship!A188))+moment_cd_relationship!B187)*'LiFFT_v1.4.0'!$J$29","v":{"$error":"#VALUE!"}},{"$f":"(('LiFFT_v1.4.0'!$H$32-moment_cd_relationship!A187)*((moment_cd_relationship!B187-moment_cd_relationship!B188)/(moment_cd_relationship!A187-moment_cd_relationship!A188))+moment_cd_relationship!B187)*'LiFFT_v1.4.0'!$J$32","v":{"$error":"#VALUE!"}}]
[186,2.2016299999999999E-2,{"$f":"(('LiFFT_v1.4.0'!$H$5-moment_cd_relationship!A188)*((moment_cd_relationship!B188-moment_cd_relationship!B189)/(moment_cd_relationship!A188-moment_cd_relationship!A189))+moment_cd_relationship!B188)*'LiFFT_v1.4.0'!$J$5","v":-255.87150000000005},{"$f":"(('LiFFT_v1.4.0'!$H$8-moment_cd_relationship!A188)*((moment_cd_relationship!B188-moment_cd_relationship!B189)/(moment_cd_relationship!A188-moment_cd_relationship!A189))+moment_cd_relationship!B188)*'LiFFT_v1.4.0'!$J$8","v":{"$error":"#VALUE!"}},{"$f":"(('LiFFT_v1.4.0'!$H$11-moment_cd_relationship!A188)*((moment_cd_relationship!B188-moment_cd_relationship!B189)/(moment_cd_relationship!A188-moment_cd_relationship!A189))+moment_cd_relationship!B188)*'LiFFT_v1.4.0'!$J$11","v":{"$error":"#VALUE!"}},{"$f":"(('LiFFT_v1.4.0'!$H$14-moment_cd_relationship!A188)*((moment_cd_relationship!B188-moment_cd_relationship!B189)/(moment_cd_relationship!A188-moment_cd_relationship!A189))+moment_cd_relationship!B188)*'LiFFT_v1.4.0'!$J$14","v":{"$error":"#VALUE!"}},{"$f":"(('LiFFT_v1.4.0'!$H$17-moment_cd_relationship!A188)*((moment_cd_relationship!B188-moment_cd_relationship!B189)/(moment_cd_relationship!A188-moment_cd_relationship!A189))+moment_cd_relationship!B188)*'LiFFT_v1.4.0'!$J$17","v":{"$error":"#VALUE!"}},{"$f":"(('LiFFT_v1.4.0'!$H$20-moment_cd_relationship!A188)*((moment_cd_relationship!B188-moment_cd_relationship!B189)/(moment_cd_relationship!A188-moment_cd_relationship!A189))+moment_cd_relationship!B188)*'LiFFT_v1.4.0'!$J$20","v":{"$error":"#VALUE!"}},{"$f":"(('LiFFT_v1.4.0'!$H$23-moment_cd_relationship!A188)*((moment_cd_relationship!B188-moment_cd_relationship!B189)/(moment_cd_relationship!A188-moment_cd_relationship!A189))+moment_cd_relationship!B188)*'LiFFT_v1.4.0'!$J$23","v":{"$error":"#VALUE!"}},{"$f":"(('LiFFT_v1.4.0'!$H$26-moment_cd_relationship!A188)*((moment_cd_relationship!B188-moment_cd_relationship!B189)/(moment_cd_relationship!A188-moment_cd_relationship!A189))+moment_cd_relationship!B188)*'LiFFT_v1.4.0'!$J$26","v":{"$error":"#VALUE!"}},{"$f":"(('LiFFT_v1.4.0'!$H$29-moment_cd_relationship!A188)*((moment_cd_relationship!B188-moment_cd_relationship!B189)/(moment_cd_relationship!A188-moment_cd_relationship!A189))+moment_cd_relationship!B188)*'LiFFT_v1.4.0'!$J$29","v":{"$error":"#VALUE!"}},{"$f":"(('LiFFT_v1.4.0'!$H$32-moment_cd_relationship!A188)*((moment_cd_relationship!B188-moment_cd_relationship!B189)/(moment_cd_relationship!A188-moment_cd_relationship!A189))+moment_cd_relationship!B188)*'LiFFT_v1.4.0'!$J$32","v":{"$error":"#VALUE!"}}]
[187,2.3203499999999998E-2,{"$f":"(('LiFFT_v1.4.0'!$H$5-moment_cd_relationship!A189)*((moment_cd_relationship!B189-moment_cd_relationship!B190)/(moment_cd_relationship!A189-moment_cd_relationship!A190))+moment_cd_relationship!B189)*'LiFFT_v1.4.0'!$J$5","v":-271.49234999999987},{"$f":"(('LiFFT_v1.4.0'!$H$8-moment_cd_relationship!A189)*((moment_cd_relationship!B189-moment_cd_relationship!B190)/(moment_cd_relationship!A189-moment_cd_relationship!A190))+moment_cd_relationship!B189)*'LiFFT_v1.4.0'!$J$8","v":{"$error":"#VALUE!"}},{"$f":"(('LiFFT_v1.4.0'!$H$11-moment_cd_relationship!A189)*((moment_cd_relationship!B189-moment_cd_relationship!B190)/(moment_cd_relationship!A189-moment_cd_relationship!A190))+moment_cd_relationship!B189)*'LiFFT_v1.4.0'!$J$11","v":{"$error":"#VALUE!"}},{"$f":"(('LiFFT_v1.4.0'!$H$14-moment_cd_relationship!A189)*((moment_cd_relationship!B189-moment_cd_relationship!B190)/(moment_cd_relationship!A189-moment_cd_relationship!A190))+moment_cd_relationship!B189)*'LiFFT_v1.4.0'!$J$14","v":{"$error":"#VALUE!"}},{"$f":"(('LiFFT_v1.4.0'!$H$17-moment_cd_relationship!A189)*((moment_cd_relationship!B189-moment_cd_relationship!B190)/(moment_cd_relationship!A189-moment_cd_relationship!A190))+moment_cd_relationship!B189)*'LiFFT_v1.4.0'!$J$17","v":{"$error":"#VALUE!"}},{"$f":"(('LiFFT_v1.4.0'!$H$20-moment_cd_relationship!A189)*((moment_cd_relationship!B189-moment_cd_relationship!B190)/(moment_cd_relationship!A189-moment_cd_relationship!A190))+moment_cd_relationship!B189)*'LiFFT_v1.4.0'!$J$20","v":{"$error":"#VALUE!"}},{"$f":"(('LiFFT_v1.4.0'!$H$23-moment_cd_relationship!A189)*((moment_cd_relationship!B189-moment_cd_relationship!B190)/(moment_cd_relationship!A189-moment_cd_relationship!A190))+moment_cd_relationship!B189)*'LiFFT_v1.4.0'!$J$23","v":{"$error":"#VALUE!"}},{"$f":"(('LiFFT_v1.4.0'!$H$26-moment_cd_relationship!A189)*((moment_cd_relationship!B189-moment_cd_relationship!B190)/(moment_cd_relationship!A189-moment_cd_relationship!A190))+moment_cd_relationship!B189)*'LiFFT_v1.4.0'!$J$26","v":{"$error":"#VALUE!"}},{"$f":"(('LiFFT_v1.4.0'!$H$29-moment_cd_relationship!A189)*((moment_cd_relationship!B189-moment_cd_relationship!B190)/(moment_cd_relationship!A189-moment_cd_relationship!A190))+moment_cd_relationship!B189)*'LiFFT_v1.4.0'!$J$29","v":{"$error":"#VALUE!"}},{"$f":"(('LiFFT_v1.4.0'!$H$32-moment_cd_relationship!A189)*((moment_cd_relationship!B189-moment_cd_relationship!B190)/(moment_cd_relationship!A189-moment_cd_relationship!A190))+moment_cd_relationship!B189)*'LiFFT_v1.4.0'!$J$32","v":{"$error":"#VALUE!"}}]
[188,2.4455000000000001E-2,{"$f":"(('LiFFT_v1.4.0'!$H$5-moment_cd_relationship!A190)*((moment_cd_relationship!B190-moment_cd_relationship!B191)/(moment_cd_relationship!A190-moment_cd_relationship!A191))+moment_cd_relationship!B190)*'LiFFT_v1.4.0'!$J$5","v":-288.08175000000068},{"$f":"(('LiFFT_v1.4.0'!$H$8-moment_cd_relationship!A190)*((moment_cd_relationship!B190-moment_cd_relationship!B191)/(moment_cd_relationship!A190-moment_cd_relationship!A191))+moment_cd_relationship!B190)*'LiFFT_v1.4.0'!$J$8","v":{"$error":"#VALUE!"}},{"$f":"(('LiFFT_v1.4.0'!$H$11-moment_cd_relationship!A190)*((moment_cd_relationship!B190-moment_cd_relationship!B191)/(moment_cd_relationship!A190-moment_cd_relationship!A191))+moment_cd_relationship!B190)*'LiFFT_v1.4.0'!$J$11","v":{"$error":"#VALUE!"}},{"$f":"(('LiFFT_v1.4.0'!$H$14-moment_cd_relationship!A190)*((moment_cd_relationship!B190-moment_cd_relationship!B191)/(moment_cd_relationship!A190-moment_cd_relationship!A191))+moment_cd_relationship!B190)*'LiFFT_v1.4.0'!$J$14","v":{"$error":"#VALUE!"}},{"$f":"(('LiFFT_v1.4.0'!$H$17-moment_cd_relationship!A190)*((moment_cd_relationship!B190-moment_cd_relationship!B191)/(moment_cd_relationship!A190-moment_cd_relationship!A191))+moment_cd_relationship!B190)*'LiFFT_v1.4.0'!$J$17","v":{"$error":"#VALUE!"}},{"$f":"(('LiFFT_v1.4.0'!$H$20-moment_cd_relationship!A190)*((moment_cd_relationship!B190-moment_cd_relationship!B191)/(moment_cd_relationship!A190-moment_cd_relationship!A191))+moment_cd_relationship!B190)*'LiFFT_v1.4.0'!$J$20","v":{"$error":"#VALUE!"}},{"$f":"(('LiFFT_v1.4.0'!$H$23-moment_cd_relationship!A190)*((moment_cd_relationship!B190-moment_cd_relationship!B191)/(moment_cd_relationship!A190-moment_cd_relationship!A191))+moment_cd_relationship!B190)*'LiFFT_v1.4.0'!$J$23","v":{"$error":"#VALUE!"}},{"$f":"(('LiFFT_v1.4.0'!$H$26-moment_cd_relationship!A190)*((moment_cd_relationship!B190-moment_cd_relationship!B191)/(moment_cd_relationship!A190-moment_cd_relationship!A191))+moment_cd_relationship!B190)*'LiFFT_v1.4.0'!$J$26","v":{"$error":"#VALUE!"}},{"$f":"(('LiFFT_v1.4.0'!$H$29-moment_cd_relationship!A190)*((moment_cd_relationship!B190-moment_cd_relationship!B191)/(moment_cd_relationship!A190-moment_cd_relationship!A191))+moment_cd_relationship!B190)*'LiFFT_v1.4.0'!$J$29","v":{"$error":"#VALUE!"}},{"$f":"(('LiFFT_v1.4.0'!$H$32-moment_cd_relationship!A190)*((moment_cd_relationship!B190-moment_cd_relationship!B191)/(moment_cd_relationship!A190-moment_cd_relationship!A191))+moment_cd_relationship!B190)*'LiFFT_v1.4.0'!$J$32","v":{"$error":"#VALUE!"}}]
[189,2.5774200000000001E-2,{"$f":"(('LiFFT_v1.4.0'!$H$5-moment_cd_relationship!A191)*((moment_cd_relationship!B191-moment_cd_relationship!B192)/(moment_cd_relationship!A191-moment_cd_relationship!A192))+moment_cd_relationship!B191)*'LiFFT_v1.4.0'!$J$5","v":-305.64989999999989},{"$f":"(('LiFFT_v1.4.0'!$H$8-moment_cd_relationship!A191)*((moment_cd_relationship!B191-moment_cd_relationship!B192)/(moment_cd_relationship!A191-moment_cd_relationship!A192))+moment_cd_relationship!B191)*'LiFFT_v1.4.0'!$J$8","v":{"$error":"#VALUE!"}},{"$f":"(('LiFFT_v1.4.0'!$H$11-moment_cd_relationship!A191)*((moment_cd_relationship!B191-moment_cd_relationship!B192)/(moment_cd_relationship!A191-moment_cd_relationship!A192))+moment_cd_relationship!B191)*'LiFFT_v1.4.0'!$J$11","v":{"$error":"#VALUE!"}},{"$f":"(('LiFFT_v1.4.0'!$H$14-moment_cd_relationship!A191)*((moment_cd_relationship!B191-moment_cd_relationship!B192)/(moment_cd_relationship!A191-moment_cd_relationship!A192))+moment_cd_relationship!B191)*'LiFFT_v1.4.0'!$J$14","v":{"$error":"#VALUE!"}},{"$f":"(('LiFFT_v1.4.0'!$H$17-moment_cd_relationship!A191)*((moment_cd_relationship!B191-moment_cd_relationship!B192)/(moment_cd_relationship!A191-moment_cd_relationship!A192))+moment_cd_relationship!B191)*'LiFFT_v1.4.0'!$J$17","v":{"$error":"#VALUE!"}},{"$f":"(('LiFFT_v1.4.0'!$H$20-moment_cd_relationship!A191)*((moment_cd_relationship!B191-moment_cd_relationship!B192)/(moment_cd_relationship!A191-moment_cd_relationship!A192))+moment_cd_relationship!B191)*'LiFFT_v1.4.0'!$J$20","v":{"$error":"#VALUE!"}},{"$f":"(('LiFFT_v1.4.0'!$H$23-moment_cd_relationship!A191)*((moment_cd_relationship!B191-moment_cd_relationship!B192)/(moment_cd_relationship!A191-moment_cd_relationship!A192))+moment_cd_relationship!B191)*'LiFFT_v1.4.0'!$J$23","v":{"$error":"#VALUE!"}},{"$f":"(('LiFFT_v1.4.0'!$H$26-moment_cd_relationship!A191)*((moment_cd_relationship!B191-moment_cd_relationship!B192)/(moment_cd_relationship!A191-moment_cd_relationship!A192))+moment_cd_relationship!B191)*'LiFFT_v1.4.0'!$J$26","v":{"$error":"#VALUE!"}},{"$f":"(('LiFFT_v1.4.0'!$H$29-moment_cd_relationship!A191)*((moment_cd_relationship!B191-moment_cd_relationship!B192)/(moment_cd_relationship!A191-moment_cd_relationship!A192))+moment_cd_relationship!B191)*'LiFFT_v1.4.0'!$J$29","v":{"$error":"#VALUE!"}},{"$f":"(('LiFFT_v1.4.0'!$H$32-moment_cd_relationship!A191)*((moment_cd_relationship!B191-moment_cd_relationship!B192)/(moment_cd_relationship!A191-moment_cd_relationship!A192))+moment_cd_relationship!B191)*'LiFFT_v1.4.0'!$J$32","v":{"$error":"#VALUE!"}}]
[190,2.7164899999999999E-2,{"$f":"(('LiFFT_v1.4.0'!$H$5-moment_cd_relationship!A192)*((moment_cd_relationship!B192-moment_cd_relationship!B193)/(moment_cd_relationship!A192-moment_cd_relationship!A193))+moment_cd_relationship!B192)*'LiFFT_v1.4.0'!$J$5","v":-324.31139999999954},{"$f":"(('LiFFT_v1.4.0'!$H$8-moment_cd_relationship!A192)*((moment_cd_relationship!B192-moment_cd_relationship!B193)/(moment_cd_relationship!A192-moment_cd_relationship!A193))+moment_cd_relationship!B192)*'LiFFT_v1.4.0'!$J$8","v":{"$error":"#VALUE!"}},{"$f":"(('LiFFT_v1.4.0'!$H$11-moment_cd_relationship!A192)*((moment_cd_relationship!B192-moment_cd_relationship!B193)/(moment_cd_relationship!A192-moment_cd_relationship!A193))+moment_cd_relationship!B192)*'LiFFT_v1.4.0'!$J$11","v":{"$error":"#VALUE!"}},{"$f":"(('LiFFT_v1.4.0'!$H$14-moment_cd_relationship!A192)*((moment_cd_relationship!B192-moment_cd_relationship!B193)/(moment_cd_relationship!A192-moment_cd_relationship!A193))+moment_cd_relationship!B192)*'LiFFT_v1.4.0'!$J$14","v":{"$error":"#VALUE!"}},{"$f":"(('LiFFT_v1.4.0'!$H$17-moment_cd_relationship!A192)*((moment_cd_relationship!B192-moment_cd_relationship!B193)/(moment_cd_relationship!A192-moment_cd_relationship!A193))+moment_cd_relationship!B192)*'LiFFT_v1.4.0'!$J$17","v":{"$error":"#VALUE!"}},{"$f":"(('LiFFT_v1.4.0'!$H$20-moment_cd_relationship!A192)*((moment_cd_relationship!B192-moment_cd_relationship!B193)/(moment_cd_relationship!A192-moment_cd_relationship!A193))+moment_cd_relationship!B192)*'LiFFT_v1.4.0'!$J$20","v":{"$error":"#VALUE!"}},{"$f":"(('LiFFT_v1.4.0'!$H$23-moment_cd_relationship!A192)*((moment_cd_relationship!B192-moment_cd_relationship!B193)/(moment_cd_relationship!A192-moment_cd_relationship!A193))+moment_cd_relationship!B192)*'LiFFT_v1.4.0'!$J$23","v":{"$error":"#VALUE!"}},{"$f":"(('LiFFT_v1.4.0'!$H$26-moment_cd_relationship!A192)*((moment_cd_relationship!B192-moment_cd_relationship!B193)/(moment_cd_relationship!A192-moment_cd_relationship!A193))+moment_cd_relationship!B192)*'LiFFT_v1.4.0'!$J$26","v":{"$error":"#VALUE!"}},{"$f":"(('LiFFT_v1.4.0'!$H$29-moment_cd_relationship!A192)*((moment_cd_relationship!B192-moment_cd_relationship!B193)/(moment_cd_relationship!A192-moment_cd_relationship!A193))+moment_cd_relationship!B192)*'LiFFT_v1.4.0'!$J$29","v":{"$error":"#VALUE!"}},{"$f":"(('LiFFT_v1.4.0'!$H$32-moment_cd_relationship!A192)*((moment_cd_relationship!B192-moment_cd_relationship!B193)/(moment_cd_relationship!A192-moment_cd_relationship!A193))+moment_cd_relationship!B192)*'LiFFT_v1.4.0'!$J$32","v":{"$error":"#VALUE!"}}]
[191,2.8630900000000001E-2,{"$f":"(('LiFFT_v1.4.0'!$H$5-moment_cd_relationship!A193)*((moment_cd_relationship!B193-moment_cd_relationship!B194)/(moment_cd_relationship!A193-moment_cd_relationship!A194))+moment_cd_relationship!B193)*'LiFFT_v1.4.0'!$J$5","v":-344.07765000000052},{"$f":"(('LiFFT_v1.4.0'!$H$8-moment_cd_relationship!A193)*((moment_cd_relationship!B193-moment_cd_relationship!B194)/(moment_cd_relationship!A193-moment_cd_relationship!A194))+moment_cd_relationship!B193)*'LiFFT_v1.4.0'!$J$8","v":{"$error":"#VALUE!"}},{"$f":"(('LiFFT_v1.4.0'!$H$11-moment_cd_relationship!A193)*((moment_cd_relationship!B193-moment_cd_relationship!B194)/(moment_cd_relationship!A193-moment_cd_relationship!A194))+moment_cd_relationship!B193)*'LiFFT_v1.4.0'!$J$11","v":{"$error":"#VALUE!"}},{"$f":"(('LiFFT_v1.4.0'!$H$14-moment_cd_relationship!A193)*((moment_cd_relationship!B193-moment_cd_relationship!B194)/(moment_cd_relationship!A193-moment_cd_relationship!A194))+moment_cd_relationship!B193)*'LiFFT_v1.4.0'!$J$14","v":{"$error":"#VALUE!"}},{"$f":"(('LiFFT_v1.4.0'!$H$17-moment_cd_relationship!A193)*((moment_cd_relationship!B193-moment_cd_relationship!B194)/(moment_cd_relationship!A193-moment_cd_relationship!A194))+moment_cd_relationship!B193)*'LiFFT_v1.4.0'!$J$17","v":{"$error":"#VALUE!"}},{"$f":"(('LiFFT_v1.4.0'!$H$20-moment_cd_relationship!A193)*((moment_cd_relationship!B193-moment_cd_relationship!B194)/(moment_cd_relationship!A193-moment_cd_relationship!A194))+moment_cd_relationship!B193)*'LiFFT_v1.4.0'!$J$20","v":{"$error":"#VALUE!"}},{"$f":"(('LiFFT_v1.4.0'!$H$23-moment_cd_relationship!A193)*((moment_cd_relationship!B193-moment_cd_relationship!B194)/(moment_cd_relationship!A193-moment_cd_relationship!A194))+moment_cd_relationship!B193)*'LiFFT_v1.4.0'!$J$23","v":{"$error":"#VALUE!"}},{"$f":"(('LiFFT_v1.4.0'!$H$26-moment_cd_relationship!A193)*((moment_cd_relationship!B193-moment_cd_relationship!B194)/(moment_cd_relationship!A193-moment_cd_relationship!A194))+moment_cd_relationship!B193)*'LiFFT_v1.4.0'!$J$26","v":{"$error":"#VALUE!"}},{"$f":"(('LiFFT_v1.4.0'!$H$29-moment_cd_relationship!A193)*((moment_cd_relationship!B193-moment_cd_relationship!B194)/(moment_cd_relationship!A193-moment_cd_relationship!A194))+moment_cd_relationship!B193)*'LiFFT_v1.4.0'!$J$29","v":{"$error":"#VALUE!"}},{"$f":"(('LiFFT_v1.4.0'!$H$32-moment_cd_relationship!A193)*((moment_cd_relationship!B193-moment_cd_relationship!B194)/(moment_cd_relationship!A193-moment_cd_relationship!A194))+moment_cd_relationship!B193)*'LiFFT_v1.4.0'!$J$32","v":{"$error":"#VALUE!"}}]
[192,3.01762E-2,{"$f":"(('LiFFT_v1.4.0'!$H$5-moment_cd_relationship!A194)*((moment_cd_relationship!B194-moment_cd_relationship!B195)/(moment_cd_relationship!A194-moment_cd_relationship!A195))+moment_cd_relationship!B194)*'LiFFT_v1.4.0'!$J$5","v":-365.01284999999984},{"$f":"(('LiFFT_v1.4.0'!$H$8-moment_cd_relationship!A194)*((moment_cd_relationship!B194-moment_cd_relationship!B195)/(moment_cd_relationship!A194-moment_cd_relationship!A195))+moment_cd_relationship!B194)*'LiFFT_v1.4.0'!$J$8","v":{"$error":"#VALUE!"}},{"$f":"(('LiFFT_v1.4.0'!$H$11-moment_cd_relationship!A194)*((moment_cd_relationship!B194-moment_cd_relationship!B195)/(moment_cd_relationship!A194-moment_cd_relationship!A195))+moment_cd_relationship!B194)*'LiFFT_v1.4.0'!$J$11","v":{"$error":"#VALUE!"}},{"$f":"(('LiFFT_v1.4.0'!$H$14-moment_cd_relationship!A194)*((moment_cd_relationship!B194-moment_cd_relationship!B195)/(moment_cd_relationship!A194-moment_cd_relationship!A195))+moment_cd_relationship!B194)*'LiFFT_v1.4.0'!$J$14","v":{"$error":"#VALUE!"}},{"$f":"(('LiFFT_v1.4.0'!$H$17-moment_cd_relationship!A194)*((moment_cd_relationship!B194-moment_cd_relationship!B195)/(moment_cd_relationship!A194-moment_cd_relationship!A195))+moment_cd_relationship!B194)*'LiFFT_v1.4.0'!$J$17","v":{"$error":"#VALUE!"}},{"$f":"(('LiFFT_v1.4.0'!$H$20-moment_cd_relationship!A194)*((moment_cd_relationship!B194-moment_cd_relationship!B195)/(moment_cd_relationship!A194-moment_cd_relationship!A195))+moment_cd_relationship!B194)*'LiFFT_v1.4.0'!$J$20","v":{"$error":"#VALUE!"}},{"$f":"(('LiFFT_v1.4.0'!$H$23-moment_cd_relationship!A194)*((moment_cd_relationship!B194-moment_cd_relationship!B195)/(moment_cd_relationship!A194-moment_cd_relationship!A195))+moment_cd_relationship!B194)*'LiFFT_v1.4.0'!$J$23","v":{"$error":"#VALUE!"}},{"$f":"(('LiFFT_v1.4.0'!$H$26-moment_cd_relationship!A194)*((moment_cd_relationship!B194-moment_cd_relationship!B195)/(moment_cd_relationship!A194-moment_cd_relationship!A195))+moment_cd_relationship!B194)*'LiFFT_v1.4.0'!$J$26","v":{"$error":"#VALUE!"}},{"$f":"(('LiFFT_v1.4.0'!$H$29-moment_cd_relationship!A194)*((moment_cd_relationship!B194-moment_cd_relationship!B195)/(moment_cd_relationship!A194-moment_cd_relationship!A195))+moment_cd_relationship!B194)*'LiFFT_v1.4.0'!$J$29","v":{"$error":"#VALUE!"}},{"$f":"(('LiFFT_v1.4.0'!$H$32-moment_cd_relationship!A194)*((moment_cd_relationship!B194-moment_cd_relationship!B195)/(moment_cd_relationship!A194-moment_cd_relationship!A195))+moment_cd_relationship!B194)*'LiFFT_v1.4.0'!$J$32","v":{"$error":"#VALUE!"}}]
[193,3.1805300000000002E-2,{"$f":"(('LiFFT_v1.4.0'!$H$5-moment_cd_relationship!A195)*((moment_cd_relationship!B195-moment_cd_relationship!B196)/(moment_cd_relationship!A195-moment_cd_relationship!A196))+moment_cd_relationship!B195)*'LiFFT_v1.4.0'!$J$5","v":-387.2617500000004},{"$f":"(('LiFFT_v1.4.0'!$H$8-moment_cd_relationship!A195)*((moment_cd_relationship!B195-moment_cd_relationship!B196)/(moment_cd_relationship!A195-moment_cd_relationship!A196))+moment_cd_relationship!B195)*'LiFFT_v1.4.0'!$J$8","v":{"$error":"#VALUE!"}},{"$f":"(('LiFFT_v1.4.0'!$H$11-moment_cd_relationship!A195)*((moment_cd_relationship!B195-moment_cd_relationship!B196)/(moment_cd_relationship!A195-moment_cd_relationship!A196))+moment_cd_relationship!B195)*'LiFFT_v1.4.0'!$J$11","v":{"$error":"#VALUE!"}},{"$f":"(('LiFFT_v1.4.0'!$H$14-moment_cd_relationship!A195)*((moment_cd_relationship!B195-moment_cd_relationship!B196)/(moment_cd_relationship!A195-moment_cd_relationship!A196))+moment_cd_relationship!B195)*'LiFFT_v1.4.0'!$J$14","v":{"$error":"#VALUE!"}},{"$f":"(('LiFFT_v1.4.0'!$H$17-moment_cd_relationship!A195)*((moment_cd_relationship!B195-moment_cd_relationship!B196)/(moment_cd_relationship!A195-moment_cd_relationship!A196))+moment_cd_relationship!B195)*'LiFFT_v1.4.0'!$J$17","v":{"$error":"#VALUE!"}},{"$f":"(('LiFFT_v1.4.0'!$H$20-moment_cd_relationship!A195)*((moment_cd_relationship!B195-moment_cd_relationship!B196)/(moment_cd_relationship!A195-moment_cd_relationship!A196))+moment_cd_relationship!B195)*'LiFFT_v1.4.0'!$J$20","v":{"$error":"#VALUE!"}},{"$f":"(('LiFFT_v1.4.0'!$H$23-moment_cd_relationship!A195)*((moment_cd_relationship!B195-moment_cd_relationship!B196)/(moment_cd_relationship!A195-moment_cd_relationship!A196))+moment_cd_relationship!B195)*'LiFFT_v1.4.0'!$J$23","v":{"$error":"#VALUE!"}},{"$f":"(('LiFFT_v1.4.0'!$H$26-moment_cd_relationship!A195)*((moment_cd_relationship!B195-moment_cd_relationship!B196)/(moment_cd_relationship!A195-moment_cd_relationship!A196))+moment_cd_relationship!B195)*'LiFFT_v1.4.0'!$J$26","v":{"$error":"#VALUE!"}},{"$f":"(('LiFFT_v1.4.0'!$H$29-moment_cd_relationship!A195)*((moment_cd_relationship!B195-moment_cd_relationship!B196)/(moment_cd_relationship!A195-moment_cd_relationship!A196))+moment_cd_relationship!B195)*'LiFFT_v1.4.0'!$J$29","v":{"$error":"#VALUE!"}},{"$f":"(('LiFFT_v1.4.0'!$H$32-moment_cd_relationship!A195)*((moment_cd_relationship!B195-moment_cd_relationship!B196)/(moment_cd_relationship!A195-moment_cd_relationship!A196))+moment_cd_relationship!B195)*'LiFFT_v1.4.0'!$J$32","v":{"$error":"#VALUE!"}}]
[194,3.35226E-2,{"$f":"(('LiFFT_v1.4.0'!$H$5-moment_cd_relationship!A196)*((moment_cd_relationship!B196-moment_cd_relationship!B197)/(moment_cd_relationship!A196-moment_cd_relationship!A197))+moment_cd_relationship!B196)*'LiFFT_v1.4.0'!$J$5","v":-410.81114999999949},{"$f":"(('LiFFT_v1.4.0'!$H$8-moment_cd_relationship!A196)*((moment_cd_relationship!B196-moment_cd_relationship!B197)/(moment_cd_relationship!A196-moment_cd_relationship!A197))+moment_cd_relationship!B196)*'LiFFT_v1.4.0'!$J$8","v":{"$error":"#VALUE!"}},{"$f":"(('LiFFT_v1.4.0'!$H$11-moment_cd_relationship!A196)*((moment_cd_relationship!B196-moment_cd_relationship!B197)/(moment_cd_relationship!A196-moment_cd_relationship!A197))+moment_cd_relationship!B196)*'LiFFT_v1.4.0'!$J$11","v":{"$error":"#VALUE!"}},{"$f":"(('LiFFT_v1.4.0'!$H$14-moment_cd_relationship!A196)*((moment_cd_relationship!B196-moment_cd_relationship!B197)/(moment_cd_relationship!A196-moment_cd_relationship!A197))+moment_cd_relationship!B196)*'LiFFT_v1.4.0'!$J$14","v":{"$error":"#VALUE!"}},{"$f":"(('LiFFT_v1.4.0'!$H$17-moment_cd_relationship!A196)*((moment_cd_relationship!B196-moment_cd_relationship!B197)/(moment_cd_relationship!A196-moment_cd_relationship!A197))+moment_cd_relationship!B196)*'LiFFT_v1.4.0'!$J$17","v":{"$error":"#VALUE!"}},{"$f":"(('LiFFT_v1.4.0'!$H$20-moment_cd_relationship!A196)*((moment_cd_relationship!B196-moment_cd_relationship!B197)/(moment_cd_relationship!A196-moment_cd_relationship!A197))+moment_cd_relationship!B196)*'LiFFT_v1.4.0'!$J$20","v":{"$error":"#VALUE!"}},{"$f":"(('LiFFT_v1.4.0'!$H$23-moment_cd_relationship!A196)*((moment_cd_relationship!B196-moment_cd_relationship!B197)/(moment_cd_relationship!A196-moment_cd_relationship!A197))+moment_cd_relationship!B196)*'LiFFT_v1.4.0'!$J$23","v":{"$error":"#VALUE!"}},{"$f":"(('LiFFT_v1.4.0'!$H$26-moment_cd_relationship!A196)*((moment_cd_relationship!B196-moment_cd_relationship!B197)/(moment_cd_relationship!A196-moment_cd_relationship!A197))+moment_cd_relationship!B196)*'LiFFT_v1.4.0'!$J$26","v":{"$error":"#VALUE!"}},{"$f":"(('LiFFT_v1.4.0'!$H$29-moment_cd_relationship!A196)*((moment_cd_relationship!B196-moment_cd_relationship!B197)/(moment_cd_relationship!A196-moment_cd_relationship!A197))+moment_cd_relationship!B196)*'LiFFT_v1.4.0'!$J$29","v":{"$error":"#VALUE!"}},{"$f":"(('LiFFT_v1.4.0'!$H$32-moment_cd_relationship!A196)*((moment_cd_relationship!B196-moment_cd_relationship!B197)/(moment_cd_relationship!A196-moment_cd_relationship!A197))+moment_cd_relationship!B196)*'LiFFT_v1.4.0'!$J$32","v":{"$error":"#VALUE!"}}]
[195,3.53329E-2,{"$f":"(('LiFFT_v1.4.0'!$H$5-moment_cd_relationship!A197)*((moment_cd_relationship!B197-moment_cd_relationship!B198)/(moment_cd_relationship!A197-moment_cd_relationship!A198))+moment_cd_relationship!B197)*'LiFFT_v1.4.0'!$J$5","v":-435.78165000000024},{"$f":"(('LiFFT_v1.4.0'!$H$8-moment_cd_relationship!A197)*((moment_cd_relationship!B197-moment_cd_relationship!B198)/(moment_cd_relationship!A197-moment_cd_relationship!A198))+moment_cd_relationship!B197)*'LiFFT_v1.4.0'!$J$8","v":{"$error":"#VALUE!"}},{"$f":"(('LiFFT_v1.4.0'!$H$11-moment_cd_relationship!A197)*((moment_cd_relationship!B197-moment_cd_relationship!B198)/(moment_cd_relationship!A197-moment_cd_relationship!A198))+moment_cd_relationship!B197)*'LiFFT_v1.4.0'!$J$11","v":{"$error":"#VALUE!"}},{"$f":"(('LiFFT_v1.4.0'!$H$14-moment_cd_relationship!A197)*((moment_cd_relationship!B197-moment_cd_relationship!B198)/(moment_cd_relationship!A197-moment_cd_relationship!A198))+moment_cd_relationship!B197)*'LiFFT_v1.4.0'!$J$14","v":{"$error":"#VALUE!"}},{"$f":"(('LiFFT_v1.4.0'!$H$17-moment_cd_relationship!A197)*((moment_cd_relationship!B197-moment_cd_relationship!B198)/(moment_cd_relationship!A197-moment_cd_relationship!A198))+moment_cd_relationship!B197)*'LiFFT_v1.4.0'!$J$17","v":{"$error":"#VALUE!"}},{"$f":"(('LiFFT_v1.4.0'!$H$20-moment_cd_relationship!A197)*((moment_cd_relationship!B197-moment_cd_relationship!B198)/(moment_cd_relationship!A197-moment_cd_relationship!A198))+moment_cd_relationship!B197)*'LiFFT_v1.4.0'!$J$20","v":{"$error":"#VALUE!"}},{"$f":"(('LiFFT_v1.4.0'!$H$23-moment_cd_relationship!A197)*((moment_cd_relationship!B197-moment_cd_relationship!B198)/(moment_cd_relationship!A197-moment_cd_relationship!A198))+moment_cd_relationship!B197)*'LiFFT_v1.4.0'!$J$23","v":{"$error":"#VALUE!"}},{"$f":"(('LiFFT_v1.4.0'!$H$26-moment_cd_relationship!A197)*((moment_cd_relationship!B197-moment_cd_relationship!B198)/(moment_cd_relationship!A197-moment_cd_relationship!A198))+moment_cd_relationship!B197)*'LiFFT_v1.4.0'!$J$26","v":{"$error":"#VALUE!"}},{"$f":"(('LiFFT_v1.4.0'!$H$29-moment_cd_relationship!A197)*((moment_cd_relationship!B197-moment_cd_relationship!B198)/(moment_cd_relationship!A197-moment_cd_relationship!A198))+moment_cd_relationship!B197)*'LiFFT_v1.4.0'!$J$29","v":{"$error":"#VALUE!"}},{"$f":"(('LiFFT_v1.4.0'!$H$32-moment_cd_relationship!A197)*((moment_cd_relationship!B197-moment_cd_relationship!B198)/(moment_cd_relationship!A197-moment_cd_relationship!A198))+moment_cd_relationship!B197)*'LiFFT_v1.4.0'!$J$32","v":{"$error":"#VALUE!"}}]
[196,3.7241400000000001E-2,{"$f":"(('LiFFT_v1.4.0'!$H$5-moment_cd_relationship!A198)*((moment_cd_relationship!B198-moment_cd_relationship!B199)/(moment_cd_relationship!A198-moment_cd_relationship!A199))+moment_cd_relationship!B198)*'LiFFT_v1.4.0'!$J$5","v":-462.29565000000019},{"$f":"(('LiFFT_v1.4.0'!$H$8-moment_cd_relationship!A198)*((moment_cd_relationship!B198-moment_cd_relationship!B199)/(moment_cd_relationship!A198-moment_cd_relationship!A199))+moment_cd_relationship!B198)*'LiFFT_v1.4.0'!$J$8","v":{"$error":"#VALUE!"}},{"$f":"(('LiFFT_v1.4.0'!$H$11-moment_cd_relationship!A198)*((moment_cd_relationship!B198-moment_cd_relationship!B199)/(moment_cd_relationship!A198-moment_cd_relationship!A199))+moment_cd_relationship!B198)*'LiFFT_v1.4.0'!$J$11","v":{"$error":"#VALUE!"}},{"$f":"(('LiFFT_v1.4.0'!$H$14-moment_cd_relationship!A198)*((moment_cd_relationship!B198-moment_cd_relationship!B199)/(moment_cd_relationship!A198-moment_cd_relationship!A199))+moment_cd_relationship!B198)*'LiFFT_v1.4.0'!$J$14","v":{"$error":"#VALUE!"}},{"$f":"(('LiFFT_v1.4.0'!$H$17-moment_cd_relationship!A198)*((moment_cd_relationship!B198-moment_cd_relationship!B199)/(moment_cd_relationship!A198-moment_cd_relationship!A199))+moment_cd_relationship!B198)*'LiFFT_v1.4.0'!$J$17","v":{"$error":"#VALUE!"}},{"$f":"(('LiFFT_v1.4.0'!$H$20-moment_cd_relationship!A198)*((moment_cd_relationship!B198-moment_cd_relationship!B199)/(moment_cd_relationship!A198-moment_cd_relationship!A199))+moment_cd_relationship!B198)*'LiFFT_v1.4.0'!$J$20","v":{"$error":"#VALUE!"}},{"$f":"(('LiFFT_v1.4.0'!$H$23-moment_cd_relationship!A198)*((moment_cd_relationship!B198-moment_cd_relationship!B199)/(moment_cd_relationship!A198-moment_cd_relationship!A199))+moment_cd_relationship!B198)*'LiFFT_v1.4.0'!$J$23","v":{"$error":"#VALUE!"}},{"$f":"(('LiFFT_v1.4.0'!$H$26-moment_cd_relationship!A198)*((moment_cd_relationship!B198-moment_cd_relationship!B199)/(moment_cd_relationship!A198-moment_cd_relationship!A199))+moment_cd_relationship!B198)*'LiFFT_v1.4.0'!$J$26","v":{"$error":"#VALUE!"}},{"$f":"(('LiFFT_v1.4.0'!$H$29-moment_cd_relationship!A198)*((moment_cd_relationship!B198-moment_cd_relationship!B199)/(moment_cd_relationship!A198-moment_cd_relationship!A199))+moment_cd_relationship!B198)*'LiFFT_v1.4.0'!$J$29","v":{"$error":"#VALUE!"}},{"$f":"(('LiFFT_v1.4.0'!$H$32-moment_cd_relationship!A198)*((moment_cd_relationship!B198-moment_cd_relationship!B199)/(moment_cd_relationship!A198-moment_cd_relationship!A199))+moment_cd_relationship!B198)*'LiFFT_v1.4.0'!$J$32","v":{"$error":"#VALUE!"}}]
[197,3.9253299999999998E-2,{"$f":"(('LiFFT_v1.4.0'!$H$5-moment_cd_relationship!A199)*((moment_cd_relationship!B199-moment_cd_relationship!B200)/(moment_cd_relationship!A199-moment_cd_relationship!A200))+moment_cd_relationship!B199)*'LiFFT_v1.4.0'!$J$5","v":-490.36874999999924},{"$f":"(('LiFFT_v1.4.0'!$H$8-moment_cd_relationship!A199)*((moment_cd_relationship!B199-moment_cd_relationship!B200)/(moment_cd_relationship!A199-moment_cd_relationship!A200))+moment_cd_relationship!B199)*'LiFFT_v1.4.0'!$J$8","v":{"$error":"#VALUE!"}},{"$f":"(('LiFFT_v1.4.0'!$H$11-moment_cd_relationship!A199)*((moment_cd_relationship!B199-moment_cd_relationship!B200)/(moment_cd_relationship!A199-moment_cd_relationship!A200))+moment_cd_relationship!B199)*'LiFFT_v1.4.0'!$J$11","v":{"$error":"#VALUE!"}},{"$f":"(('LiFFT_v1.4.0'!$H$14-moment_cd_relationship!A199)*((moment_cd_relationship!B199-moment_cd_relationship!B200)/(moment_cd_relationship!A199-moment_cd_relationship!A200))+moment_cd_relationship!B199)*'LiFFT_v1.4.0'!$J$14","v":{"$error":"#VALUE!"}},{"$f":"(('LiFFT_v1.4.0'!$H$17-moment_cd_relationship!A199)*((moment_cd_relationship!B199-moment_cd_relationship!B200)/(moment_cd_relationship!A199-moment_cd_relationship!A200))+moment_cd_relationship!B199)*'LiFFT_v1.4.0'!$J$17","v":{"$error":"#VALUE!"}},{"$f":"(('LiFFT_v1.4.0'!$H$20-moment_cd_relationship!A199)*((moment_cd_relationship!B199-moment_cd_relationship!B200)/(moment_cd_relationship!A199-moment_cd_relationship!A200))+moment_cd_relationship!B199)*'LiFFT_v1.4.0'!$J$20","v":{"$error":"#VALUE!"}},{"$f":"(('LiFFT_v1.4.0'!$H$23-moment_cd_relationship!A199)*((moment_cd_relationship!B199-moment_cd_relationship!B200)/(moment_cd_relationship!A199-moment_cd_relationship!A200))+moment_cd_relationship!B199)*'LiFFT_v1.4.0'!$J$23","v":{"$error":"#VALUE!"}},{"$f":"(('LiFFT_v1.4.0'!$H$26-moment_cd_relationship!A199)*((moment_cd_relationship!B199-moment_cd_relationship!B200)/(moment_cd_relationship!A199-moment_cd_relationship!A200))+moment_cd_relationship!B199)*'LiFFT_v1.4.0'!$J$26","v":{"$error":"#VALUE!"}},{"$f":"(('LiFFT_v1.4.0'!$H$29-moment_cd_relationship!A199)*((moment_cd_relationship!B199-moment_cd_relationship!B200)/(moment_cd_relationship!A199-moment_cd_relationship!A200))+moment_cd_relationship!B199)*'LiFFT_v1.4.0'!$J$29","v":{"$error":"#VALUE!"}},{"$f":"(('LiFFT_v1.4.0'!$H$32-moment_cd_relationship!A199)*((moment_cd_relationship!B199-moment_cd_relationship!B200)/(moment_cd_relationship!A199-moment_cd_relationship!A200))+moment_cd_relationship!B199)*'LiFFT_v1.4.0'!$J$32","v":{"$error":"#VALUE!"}}]
[198,4.13742E-2,{"$f":"(('LiFFT_v1.4.0'!$H$5-moment_cd_relationship!A200)*((moment_cd_relationship!B200-moment_cd_relationship!B201)/(moment_cd_relationship!A200-moment_cd_relationship!A201))+moment_cd_relationship!B200)*'LiFFT_v1.4.0'!$J$5","v":-520.12575000000049},{"$f":"(('LiFFT_v1.4.0'!$H$8-moment_cd_relationship!A200)*((moment_cd_relationship!B200-moment_cd_relationship!B201)/(moment_cd_relationship!A200-moment_cd_relationship!A201))+moment_cd_relationship!B200)*'LiFFT_v1.4.0'!$J$8","v":{"$error":"#VALUE!"}},{"$f":"(('LiFFT_v1.4.0'!$H$11-moment_cd_relationship!A200)*((moment_cd_relationship!B200-moment_cd_relationship!B201)/(moment_cd_relationship!A200-moment_cd_relationship!A201))+moment_cd_relationship!B200)*'LiFFT_v1.4.0'!$J$11","v":{"$error":"#VALUE!"}},{"$f":"(('LiFFT_v1.4.0'!$H$14-moment_cd_relationship!A200)*((moment_cd_relationship!B200-moment_cd_relationship!B201)/(moment_cd_relationship!A200-moment_cd_relationship!A201))+moment_cd_relationship!B200)*'LiFFT_v1.4.0'!$J$14","v":{"$error":"#VALUE!"}},{"$f":"(('LiFFT_v1.4.0'!$H$17-moment_cd_relationship!A200)*((moment_cd_relationship!B200-moment_cd_relationship!B201)/(moment_cd_relationship!A200-moment_cd_relationship!A201))+moment_cd_relationship!B200)*'LiFFT_v1.4.0'!$J$17","v":{"$error":"#VALUE!"}},{"$f":"(('LiFFT_v1.4.0'!$H$20-moment_cd_relationship!A200)*((moment_cd_relationship!B200-moment_cd_relationship!B201)/(moment_cd_relationship!A200-moment_cd_relationship!A201))+moment_cd_relationship!B200)*'LiFFT_v1.4.0'!$J$20","v":{"$error":"#VALUE!"}},{"$f":"(('LiFFT_v1.4.0'!$H$23-moment_cd_relationship!A200)*((moment_cd_relationship!B200-moment_cd_relationship!B201)/(moment_cd_relationship!A200-moment_cd_relationship!A201))+moment_cd_relationship!B200)*'LiFFT_v1.4.0'!$J$23","v":{"$error":"#VALUE!"}},{"$f":"(('LiFFT_v1.4.0'!$H$26-moment_cd_relationship!A200)*((moment_cd_relationship!B200-moment_cd_relationship!B201)/(moment_cd_relationship!A200-moment_cd_relationship!A201))+moment_cd_relationship!B200)*'LiFFT_v1.4.0'!$J$26","v":{"$error":"#VALUE!"}},{"$f":"(('LiFFT_v1.4.0'!$H$29-moment_cd_relationship!A200)*((moment_cd_relationship!B200-moment_cd_relationship!B201)/(moment_cd_relationship!A200-moment_cd_relationship!A201))+moment_cd_relationship!B200)*'LiFFT_v1.4.0'!$J$29","v":{"$error":"#VALUE!"}},{"$f":"(('LiFFT_v1.4.0'!$H$32-moment_cd_relationship!A200)*((moment_cd_relationship!B200-moment_cd_relationship!B201)/(moment_cd_relationship!A200-moment_cd_relationship!A201))+moment_cd_relationship!B200)*'LiFFT_v1.4.0'!$J$32","v":{"$error":"#VALUE!"}}]
[199,4.3610099999999999E-2,{"$f":"(('LiFFT_v1.4.0'!$H$5-moment_cd_relationship!A201)*((moment_cd_relationship!B201-moment_cd_relationship!B202)/(moment_cd_relationship!A201-moment_cd_relationship!A202))+moment_cd_relationship!B201)*'LiFFT_v1.4.0'!$J$5","v":-551.69324999999969},{"$f":"(('LiFFT_v1.4.0'!$H$8-moment_cd_relationship!A201)*((moment_cd_relationship!B201-moment_cd_relationship!B202)/(moment_cd_relationship!A201-moment_cd_relationship!A202))+moment_cd_relationship!B201)*'LiFFT_v1.4.0'!$J$8","v":{"$error":"#VALUE!"}},{"$f":"(('LiFFT_v1.4.0'!$H$11-moment_cd_relationship!A201)*((moment_cd_relationship!B201-moment_cd_relationship!B202)/(moment_cd_relationship!A201-moment_cd_relationship!A202))+moment_cd_relationship!B201)*'LiFFT_v1.4.0'!$J$11","v":{"$error":"#VALUE!"}},{"$f":"(('LiFFT_v1.4.0'!$H$14-moment_cd_relationship!A201)*((moment_cd_relationship!B201-moment_cd_relationship!B202)/(moment_cd_relationship!A201-moment_cd_relationship!A202))+moment_cd_relationship!B201)*'LiFFT_v1.4.0'!$J$14","v":{"$error":"#VALUE!"}},{"$f":"(('LiFFT_v1.4.0'!$H$17-moment_cd_relationship!A201)*((moment_cd_relationship!B201-moment_cd_relationship!B202)/(moment_cd_relationship!A201-moment_cd_relationship!A202))+moment_cd_relationship!B201)*'LiFFT_v1.4.0'!$J$17","v":{"$error":"#VALUE!"}},{"$f":"(('LiFFT_v1.4.0'!$H$20-moment_cd_relationship!A201)*((moment_cd_relationship!B201-moment_cd_relationship!B202)/(moment_cd_relationship!A201-moment_cd_relationship!A202))+moment_cd_relationship!B201)*'LiFFT_v1.4.0'!$J$20","v":{"$error":"#VALUE!"}},{"$f":"(('LiFFT_v1.4.0'!$H$23-moment_cd_relationship!A201)*((moment_cd_relationship!B201-moment_cd_relationship!B202)/(moment_cd_relationship!A201-moment_cd_relationship!A202))+moment_cd_relationship!B201)*'LiFFT_v1.4.0'!$J$23","v":{"$error":"#VALUE!"}},{"$f":"(('LiFFT_v1.4.0'!$H$26-moment_cd_relationship!A201)*((moment_cd_relationship!B201-moment_cd_relationship!B202)/(moment_cd_relationship!A201-moment_cd_relationship!A202))+moment_cd_relationship!B201)*'LiFFT_v1.4.0'!$J$26","v":{"$error":"#VALUE!"}},{"$f":"(('LiFFT_v1.4.0'!$H$29-moment_cd_relationship!A201)*((moment_cd_relationship!B201-moment_cd_relationship!B202)/(moment_cd_relationship!A201-moment_cd_relationship!A202))+moment_cd_relationship!B201)*'LiFFT_v1.4.0'!$J$29","v":{"$error":"#VALUE!"}},{"$f":"(('LiFFT_v1.4.0'!$H$32-moment_cd_relationship!A201)*((moment_cd_relationship!B201-moment_cd_relationship!B202)/(moment_cd_relationship!A201-moment_cd_relationship!A202))+moment_cd_relationship!B201)*'LiFFT_v1.4.0'!$J$32","v":{"$error":"#VALUE!"}}]
[200,4.5967300000000003E-2,{"$f":"(('LiFFT_v1.4.0'!$H$5-moment_cd_relationship!A202)*((moment_cd_relationship!B202-moment_cd_relationship!B203)/(moment_cd_relationship!A202-moment_cd_relationship!A203))+moment_cd_relationship!B202)*'LiFFT_v1.4.0'!$J$5","v":-585.17205000000104},{"$f":"(('LiFFT_v1.4.0'!$H$8-moment_cd_relationship!A202)*((moment_cd_relationship!B202-moment_cd_relationship!B203)/(moment_cd_relationship!A202-moment_cd_relationship!A203))+moment_cd_relationship!B202)*'LiFFT_v1.4.0'!$J$8","v":{"$error":"#VALUE!"}},{"$f":"(('LiFFT_v1.4.0'!$H$11-moment_cd_relationship!A202)*((moment_cd_relationship!B202-moment_cd_relationship!B203)/(moment_cd_relationship!A202-moment_cd_relationship!A203))+moment_cd_relationship!B202)*'LiFFT_v1.4.0'!$J$11","v":{"$error":"#VALUE!"}},{"$f":"(('LiFFT_v1.4.0'!$H$14-moment_cd_relationship!A202)*((moment_cd_relationship!B202-moment_cd_relationship!B203)/(moment_cd_relationship!A202-moment_cd_relationship!A203))+moment_cd_relationship!B202)*'LiFFT_v1.4.0'!$J$14","v":{"$error":"#VALUE!"}},{"$f":"(('LiFFT_v1.4.0'!$H$17-moment_cd_relationship!A202)*((moment_cd_relationship!B202-moment_cd_relationship!B203)/(moment_cd_relationship!A202-moment_cd_relationship!A203))+moment_cd_relationship!B202)*'LiFFT_v1.4.0'!$J$17","v":{"$error":"#VALUE!"}},{"$f":"(('LiFFT_v1.4.0'!$H$20-moment_cd_relationship!A202)*((moment_cd_relationship!B202-moment_cd_relationship!B203)/(moment_cd_relationship!A202-moment_cd_relationship!A203))+moment_cd_relationship!B202)*'LiFFT_v1.4.0'!$J$20","v":{"$error":"#VALUE!"}},{"$f":"(('LiFFT_v1.4.0'!$H$23-moment_cd_relationship!A202)*((moment_cd_relationship!B202-moment_cd_relationship!B203)/(moment_cd_relationship!A202-moment_cd_relationship!A203))+moment_cd_relationship!B202)*'LiFFT_v1.4.0'!$J$23","v":{"$error":"#VALUE!"}},{"$f":"(('LiFFT_v1.4.0'!$H$26-moment_cd_relationship!A202)*((moment_cd_relationship!B202-moment_cd_relationship!B203)/(moment_cd_relationship!A202-moment_cd_relationship!A203))+moment_cd_relationship!B202)*'LiFFT_v1.4.0'!$J$26","v":{"$error":"#VALUE!"}},{"$f":"(('LiFFT_v1.4.0'!$H$29-moment_cd_relationship!A202)*((moment_cd_relationship!B202-moment_cd_relationship!B203)/(moment_cd_relationship!A202-moment_cd_relationship!A203))+moment_cd_relationship!B202)*'LiFFT_v1.4.0'!$J$29","v":{"$error":"#VALUE!"}},{"$f":"(('LiFFT_v1.4.0'!$H$32-moment_cd_relationship!A202)*((moment_cd_relationship!B202-moment_cd_relationship!B203)/(moment_cd_relationship!A202-moment_cd_relationship!A203))+moment_cd_relationship!B202)*'LiFFT_v1.4.0'!$J$32","v":{"$error":"#VALUE!"}}]

{"sheet":"LiFFT_v1.4.0_Database","index":2,"n_rows":1,"n_cols":14,"rows_kept":1,"cut":false,"hidden":false,"merged":[]}
["No.","Date","Job ID","Worker ID","Task #","Task Name",{"$f":"'LiFFT_v1.4.0'!D3","v":"Lever Arm\n(inch)"},{"$f":"'LiFFT_v1.4.0'!F3","v":"Load\n(lbs)"},{"$f":"'LiFFT_v1.4.0'!H3","v":"Moment\n(ft.lbs.)"},"Repetitions\n (per work day)","Damage\n(cumulative)","% Total Damage","Probability of High Risk Job (%)","Comments"]

{"sheet":"Instructions","index":3,"n_rows":60,"n_cols":7,"rows_kept":60,"cut":false,"hidden":false,"merged":[[20,4,20,6],[41,4,41,7],[53,4,53,6],[58,1,58,9],[32,4,32,7],[49,1,49,9],[51,1,51,9],[57,1,57,9],[27,1,27,9],[24,1,24,9],[26,1,26,9],[59,1,59,9],[36,1,36,9],[38,1,38,9],[39,1,39,9],[45,1,45,9],[47,1,47,9],[17,1,17,9],[18,1,18,9],[12,1,12,9],[1,2,1,8],[1,9,6,9],[3,2,3,8],[4,2,4,8],[8,1,8,9]]}
[]
[null,null,"Guidance on the Use of the Lifting Fatigue Failure Tool (LiFFT)"]
[]
[null,null,"Version 1.4.0 - Last updated 06/05/2018"]
[null,null,"For the most up to date version, please go to: lifft.pythonanywhere.com"]
[]
[null,null,"|",null,"|",null,"|"]
[]
[null,"The LiFFT risk assessment tool is an easy to use method of evaluating the risk associated with manual lifting tasks. It is based on fatigue failure theory, which is the theory that assesses the cumulative damage of materials subjected to repeated stress. There is substantial evidence that low back pain (and other musculoskeletal disorders) are the result of an accumulation of damage in musculoskeletal tissues due to repetitive stress (Gallagher and Schall, Jr., 2017). The LiFFT tool has been validated against two epidemiological databases in which the LiFFT cumulative damage measure showed strong associations with low back disorders and back pain (Gallagher et al., 2017)."]
[]
[null,"Using LiFFT"]
[]
[null,"The purpose of the LiFFT tool is to determine the cumulative low back load experienced during a workday. Based on LiFFT’s cumulative damage measure, a probability that the job is high risk is calculated. A high-risk job is defined as a job having 12+ injuries per 200,000 hours worked (Marras et al., 1993).\n\nAll that is needed to use the LiFFT tool are three pieces of information on each lifting task: 1) the weight of the load; 2) a measurement of the greatest horizontal distance from the hip joint to the center of the load during the lift (using a measuring tape); and 3) the number of repetitions of this task during the workday. Figure 1 below demonstrates how the maximum distance from the hip joint to the load should be measured."]
[]
[]
[]
[]
[]
[null,"Figure 1. Proper measurement of the maximum horizontal distance during a lift (Marras et al., 1999)."]
[]
[]
[]
[null,"Assessing Mono-Task Jobs"]
[]
[null,"The simplest example of applying LiFFT to analyze lifting demands is that of a mono-task job (i.e., a job involving the same lifting task all-day long). In this example, the job involves a lift of a 30-pound load that is performed 760 times during the workday, involving a maximal horizontal distance of 16 inches. Figure 2 below shows a screenshot of the LiFFT tool for this mono-task job, which demonstrates this job has a 40% probability of being a high-risk job."]
[]
[]
[null,"Figure 1. A screenshot of the DUET tool for analyzing a mono-task job"]
[]
[]
[]
[]
[]
[]
[null,"Assessing Jobs with Multiple Exertions"]
[]
[null,"For jobs involving multiple exertions during the workday, each individual task should be analyzed using the methods shown above. The cumulative damage associated with each task will be summed by the DUET tool to determine the daily dose of cumulative upper extremity damage. An example is provided in Figure 2 below. "]
[]
[]
[null,"Figure 2. A screenshot of the LiFFT tool for analyzing a mono-task job."]
[]
[]
[]
[null,"Assessing Jobs with Multiple Lifting Tasks"]
[]
[null,"For jobs involving multiple lifting tasks during the workday, each individual lifting task should be analyzed using the method above. The cumulative damage associated with each lift will be summed by the LiFFT tool to determine the daily dose of cumulative spine loading. An example is provided in Figure 3 below.n of tasks. An example is shown in Figure 3."]
[]
[]
[]
[null,"Figure 3. A screenshot of the LiFFT tool for analyzing a multi-task job."]
[]
[null,"The example above shows that the combination of these three tasks leads to a combined probability of 51% that this would be a high-risk job. Further, note that task #3 accounts for about 81% of the total damage for the workday. This task would be a prime candidate for redesign. For example, if the lever arm for task #3 were reduced to 15 inches, the probability that the overall job is high risk would be reduced to 38%."]
[]
[]
[]
[null,"References"]
[]
[null,"Gallagher, S., Schall Jr., M.C. (2017) Musculoskeletal disorders as a fatigue failure process: evidence, implications and research needs, Ergonomics, 60: 255-269.\n\nGallagher, S. Schall, Jr., M.C., Sesek, R.F., Huangfu, R. (2017). Validation of A Fatigue Failure-based Risk Assessment Tool For Distal Upper Extremity MSDs. Proceedings of the Annual Meeting of the Human Factors and Ergonomics Society, Volume: 61 issue: 1, page(s): 911-913.\n\nMoore, J.S., Garg, A. (1995). The Strain Index: A proposed method to analyze jobs for risk of distal upper extremity disorders; Am. Ind. Hyg. Assoc. J. 56:443-458.\n\nRobertson, R. J., Goss, F. L., Rutkowski, J., Lenz, B., Dixon, C., Timmer, J., Frazee, K., Dube, J., Andreacci, J. Concurrent Validation of the OMNI Perceived Exertion Scale for Resistance Exercise. Med. Sci. Sports Exerc., Vol. 35, No. 2, pp. 333–341, 2003. "]
[]
[null," 2016 - 2019 © Sean Gallagher, Richard Sesek, Mark Schall and Rong Huangfu"]